BEGIN:VCALENDAR
VERSION:2.0
PRODID:-//Hitchcock Center for the Environment - ECPv6.15.18//NONSGML v1.0//EN
CALSCALE:GREGORIAN
METHOD:PUBLISH
X-ORIGINAL-URL:https://www.hitchcockcenter.org
X-WR-CALDESC:Events for Hitchcock Center for the Environment
REFRESH-INTERVAL;VALUE=DURATION:PT1H
X-Robots-Tag:noindex
X-PUBLISHED-TTL:PT1H
BEGIN:VTIMEZONE
TZID:America/New_York
BEGIN:DAYLIGHT
TZOFFSETFROM:-0500
TZOFFSETTO:-0400
TZNAME:EDT
DTSTART:20210314T070000
END:DAYLIGHT
BEGIN:STANDARD
TZOFFSETFROM:-0400
TZOFFSETTO:-0500
TZNAME:EST
DTSTART:20211107T060000
END:STANDARD
BEGIN:DAYLIGHT
TZOFFSETFROM:-0500
TZOFFSETTO:-0400
TZNAME:EDT
DTSTART:20220313T070000
END:DAYLIGHT
BEGIN:STANDARD
TZOFFSETFROM:-0400
TZOFFSETTO:-0500
TZNAME:EST
DTSTART:20221106T060000
END:STANDARD
BEGIN:DAYLIGHT
TZOFFSETFROM:-0500
TZOFFSETTO:-0400
TZNAME:EDT
DTSTART:20230312T070000
END:DAYLIGHT
BEGIN:STANDARD
TZOFFSETFROM:-0400
TZOFFSETTO:-0500
TZNAME:EST
DTSTART:20231105T060000
END:STANDARD
END:VTIMEZONE
BEGIN:VEVENT
DTSTART;TZID=America/New_York:20221201T180000
DTEND;TZID=America/New_York:20221201T200000
DTSTAMP:20260420T004943
CREATED:20221103T190849Z
LAST-MODIFIED:20221103T194803Z
UID:10003047-1669917600-1669924800@www.hitchcockcenter.org
SUMMARY:Hitchcock Climate Action Series: Fireside Chat
DESCRIPTION:Hitchcock Climate Action Series\nSeason 1: Coming Together in the Face of Climate Change: Laying the Groundwork by Building Hope\, Practicing Action\, and Improving Communication \nPlease join us as we launch a new program series at the intersection of climate change\, sustainability\, and environmental justice.  Bringing partners and community members  to address critical community issues through  fireside chats\, practical workshops\, and deliberative forums.   All programs will be available for a Sliding Scale $15- $50 or Suggested Donation.  \nFireside Chat\nDecember  1st – 6pm – 8pm  \nREGISTER HERE \nNature Runs on Sunlight –   Energy Cycles in Nature – Come for inspirational stories and conversation about how we can learn from nature about our own potential for more efficient systems.  There will be a short program followed by conversation around a  fire\, enjoying the beauty of a crisp evening with hot beverages and hearty nibbles.
URL:https://www.hitchcockcenter.org/event/fireside-chats-nature-runs-on-sunlight-energy-cycles-in-nature/
LOCATION:Hitchcock Center for the Environment\, 845 West Street\, Amherst\, MA\, 01002
CATEGORIES:Adult Programs
END:VEVENT
BEGIN:VEVENT
DTSTART;TZID=America/New_York:20221201T180000
DTEND;TZID=America/New_York:20221201T200000
DTSTAMP:20260420T004943
CREATED:20221121T054512Z
LAST-MODIFIED:20221121T054512Z
UID:10003061-1669917600-1669924800@www.hitchcockcenter.org
SUMMARY:
DESCRIPTION:Fireside Chat :  \nBuilding Hope : Telling the Stories of Creative Problem Solving   \nDecember  1st – 6pm – 8pm  \nREGISTER HERE \nPart of our NEW adult engagement program at the intersection of climate change\, sustainability\, and environmental justice. Nature Runs on Sunlight –   Energy Cycles in Nature – Come for inspirational stories and conversation about how we can learn from nature about our own potential for more efficient systems.  There will be a short program followed by conversation around a  fire\, enjoying the beauty of a crisp evening with hot beverages and hearty nibbles. Learn more.
URL:https://www.hitchcockcenter.org/event/24507/
CATEGORIES:Adult Programs
END:VEVENT
BEGIN:VEVENT
DTSTART;VALUE=DATE:20221203
DTEND;VALUE=DATE:20221204
DTSTAMP:20260420T004943
CREATED:20220726T173429Z
LAST-MODIFIED:20220726T173429Z
UID:10003045-1670025600-1670111999@www.hitchcockcenter.org
SUMMARY:Fall Birding Course with Scott Surner
DESCRIPTION:Join the Hitchcock Center’s beloved Fall Birding Class with birding extraordinaire\, Scott Surner. This fall class will consist of ten field trips to various locations in the Connecticut River Valley\, plus three coastal areas. Scott will help you work through the confusing plumages of fall warblers\, and the streak and unstreaked plumages of fall sparrows. Our trips to the coast should provide us with an opportunity to study the different plumages of adult and juvenile southbound Shorebirds\, Herons\, Gulls\, Terns\, and with a little luck\, some pelagic birds (Shearwaters\, Storm-Petrels\, and Jaegers) off the beaches of Cape cod. All trips depart from the Hitchcock Center and car-pooling will be encouraged. The class will be limited to fifteen observers. \nScott has been birding for more than forty-five years all around the Connecticut River Valley\, Canada\, and North and Central America. Scott just finished up a very successful Spring Class that traveled to more than thirty-six different locations and encountered 201 species of birds! \nCourse is limited to 15 participants and will be outdoor only for COVID Safety.\nParticipants must be vaccinated and willing to carpool. \nSliding Scale Pricing; $700\, $650\, $600\, and $550. \nFALL BIRDING REGISTRATION\n\nRegistration opens Friday\, July 29 at 9:00 AM.  \nField Trip Dates and Details: \nAug 20: 5:00 AM – all day. Plum Island or another coastal location within a two-hour drive. This trip’s primary focus will be migrating Shorebirds from their breeding grounds in the Arctic.\nSept 3: Local. 7:00 AM -12:00 PM. Fall Warblers/Shorebirds of Hampshire & Franklin County.\nSept 10: Local. 7:00 AM – 12:00 PM. Warblers\, with a special focus on locating the elusive Connecticut Warbler.\nSept 17: Local. 7:00 AM -12:00 PM. Warblers\, Vireos\, Flycatchers\, etc.\nOct 1: Local. 7:00 AM -12:00 PM. Sparrows & Late Warblers.\nOct 15: Local. 7:00 AM – 12:00 PM. Prime time for migrating Sparrows!\nOct 21 – 23: Cape Cod Weekend. We’ll explore areas from Chatham down to Provincetown. More info after signing up. If accommodations are hard to come by\, we may do a one-day trip to the Connecticut shore.\nOct 29: Local. 7:00 AM – 12:00 PM. Waterfowl & Sparrows\nNov 5: Local. 7:00 AM – 12:00 PM.\nDec 3rd: 5:00 AM – all day. Last class\, back to the MA Coast. Probably Cape Ann (Gloucester/Rockport area) Sea ducks\, Grebes\, and more. \nAll trips depart from the Hitchcock Center and car-pooling will be encouraged.
URL:https://www.hitchcockcenter.org/event/fall-birding-course-with-scott-surner-21/
CATEGORIES:Adult Programs
END:VEVENT
BEGIN:VEVENT
DTSTART;TZID=America/New_York:20221208T173000
DTEND;TZID=America/New_York:20221208T200000
DTSTAMP:20260420T004943
CREATED:20221103T192429Z
LAST-MODIFIED:20221103T192429Z
UID:10003049-1670520600-1670529600@www.hitchcockcenter.org
SUMMARY:Hitchcock Climate Action Series: Community Forum
DESCRIPTION:Hitchcock Climate Action Series\nCommunity Forum:\nImproving Communication: Deliberative Dialogue \nThursday\, December 8\,  5:30pm Arrival & Snacks  \n6pm – 8pm Forum – Net Zero: How Do We Get There? \nJoin in a deliberative dialogue about different ways in which we can get to a “net zero carbon” future. Deliberation matters because democracy depends on community members coming together and making well-thought-out decisions on what we can do together to solve tough problems like climate change. A pre-reading will frame the issue\, lay out several approaches based on values people care about\, describe benefits and trade-offs associated with each choice\, and pose some reflective questions. In small groups\, participants will have an opportunity to share their personal perspectives and listen to others\, weigh options and wrestle with trade-offs\, and identify areas of common ground. A moderator will help to set ground rules\, ensure that all perspectives are heard\, and identify areas of agreement and uncertainty. We hope participants will keep an open mind\, listen to one another\, disagree with curiosity\, and focus on learning. \nREGISTER HERE
URL:https://www.hitchcockcenter.org/event/hitchcock-climate-action-series-community-forum/
LOCATION:Hitchcock Center for the Environment\, 845 West Street\, Amherst\, MA\, 01002
CATEGORIES:Adult Programs
END:VEVENT
END:VCALENDAR