BEGIN:VCALENDAR
VERSION:2.0
PRODID:-//Hitchcock Center for the Environment - ECPv6.15.18//NONSGML v1.0//EN
CALSCALE:GREGORIAN
METHOD:PUBLISH
X-WR-CALNAME:Hitchcock Center for the Environment
X-ORIGINAL-URL:https://www.hitchcockcenter.org
X-WR-CALDESC:Events for Hitchcock Center for the Environment
REFRESH-INTERVAL;VALUE=DURATION:PT1H
X-Robots-Tag:noindex
X-PUBLISHED-TTL:PT1H
BEGIN:VTIMEZONE
TZID:America/New_York
BEGIN:DAYLIGHT
TZOFFSETFROM:-0500
TZOFFSETTO:-0400
TZNAME:EDT
DTSTART:20220313T070000
END:DAYLIGHT
BEGIN:STANDARD
TZOFFSETFROM:-0400
TZOFFSETTO:-0500
TZNAME:EST
DTSTART:20221106T060000
END:STANDARD
BEGIN:DAYLIGHT
TZOFFSETFROM:-0500
TZOFFSETTO:-0400
TZNAME:EDT
DTSTART:20230312T070000
END:DAYLIGHT
BEGIN:STANDARD
TZOFFSETFROM:-0400
TZOFFSETTO:-0500
TZNAME:EST
DTSTART:20231105T060000
END:STANDARD
BEGIN:DAYLIGHT
TZOFFSETFROM:-0500
TZOFFSETTO:-0400
TZNAME:EDT
DTSTART:20240310T070000
END:DAYLIGHT
BEGIN:STANDARD
TZOFFSETFROM:-0400
TZOFFSETTO:-0500
TZNAME:EST
DTSTART:20241103T060000
END:STANDARD
END:VTIMEZONE
BEGIN:VEVENT
DTSTART;TZID=America/New_York:20230603T053000
DTEND;TZID=America/New_York:20230603T120000
DTSTAMP:20260419T182801
CREATED:20230117T202020Z
LAST-MODIFIED:20230117T202020Z
UID:10003306-1685770200-1685793600@www.hitchcockcenter.org
SUMMARY:20th Annual Spring Birding Course
DESCRIPTION:20th Annual Spring Birding Course\nwith Scott Surner\nHave you wanted to bird? Do you love birding but don’t get out enough on your own? Then this course is for you\, join other birders and the amazing birder Scott Surner for this spring course of going to all the best spots to see all the coolest of birds! This is an intensive course through the spring with many wonderful hours of field trips around New England. \nFor ages 12 and up. Space is limited to 15 birders. Cost Sliding Scale $750\, $700\, $650\, $600.Class Schedule: \n\nFeb 4th-Local- 7:00-12:00. Kick off the spring class- Winter specialties in the Valley.\nFeb 24th-26. Coastal Trip Weekend. Weather permitting of course. Either the North Shore or Cape Cod.\nMarch 4th- 7:00 AM- 12:00 – Local. Returning Waterfowl and late-season winter birds.\nMarch 11th- 7:00-12:00. Local. Waterfowl.\nMarch 18th – 7:00 AM-12:00. Local. More waterfowl. (Hatfield/Turners Falls Area)\nApril 1st- 7:00-12:00. Local\nApril 8th- 7:00 AM- 12:00. Local\nApril 15th- 7:00 AM-12:00. Westover and Tilley Street\, Ludlow. Upland Sandpipers\, Eastern Meadowlark\, early warblers\, Rusty Blackbirds?\nApril 29th- Plum Island. 5:00-Dusk. All Day. Waterfowl\, early shorebirds\, warblers etc. Last year we encountered a huge flock of Glossy Ibis at the end of the day\, over 120 birds. Bring lunch.\nMay 6th – 6:30 AM- 12:00. Amherst Area. Migration starting to kick into gear. Warblers\, Vireo’s etc.\nMay 13th- 6:30 AM-12:00. Mt. Holyoke. Breeding Cerulean & Worm-eating Warblers.\nMay 20th- 6;30AM-12:00- Local. Amherst/Hadley Area. Migration at its peak! Warblers\, Flycatchers\, Vireos\, Sparrows etc.\nMay 27th- NO Class. Memorial Day Weekend.\nJune 3rd- 5:30-12:00. Southwick Wildlife Area. Grasshopper Sparrow\, Eastern Meadowlark\, Indigo Bunting\, and Prairie Warblers to name a few.\nJune 8th- 11th. Connecticut Lakes\, Moose Bog\, and a new stop in New Hampshire to look for Bicknell’s Thrush. More details to come\, but we’ll need to make motel reservations in February. Last year’s trip to this area was very successful. Many species of breeding warblers\, Philadelphia Vireo\, Canada Jay\, Spruce Grouse\, American Bittern\, Wilson’s Snipe\, Cliff Swallows\, etc.\n\nRegistration opens Friday\, January 20 at 9:00 AM \nREGISTER HERE
URL:https://www.hitchcockcenter.org/event/20th-annual-spring-birding-course-13/
CATEGORIES:Adult Programs,Ages 12-15 or Grades 7-9
ATTACH;FMTTYPE=image/jpeg:https://www.hitchcockcenter.org/wp-content/uploads/2023/01/IG-POSTS-2.jpg
END:VEVENT
BEGIN:VEVENT
DTSTART;TZID=America/New_York:20230604T090000
DTEND;TZID=America/New_York:20230604T160000
DTSTAMP:20260419T182801
CREATED:20230508T135239Z
LAST-MODIFIED:20230508T135239Z
UID:10003399-1685869200-1685894400@www.hitchcockcenter.org
SUMMARY:Forest Bathing ART Workshop
DESCRIPTION:Forest Bathing ART Workshop \nJune 4th – 9am – 4pm\nLimited to 12 participants\nSliding Scale Price: $80\, $100\, or $120 \n\nSpring is a time of awakening and reemergence from the dark of winter. Come experience this changing of the seasons on a Forest Bathing walk with Todd Lynch\, certified ANFT Forest Bathing guide. Forest Bathing offers the opportunity to slow down. It re-aligns our rhythms with the landscape\, allowing our senses a respite from everyday demands and uncertainties\, and gives us a template to practice on our own time at home. It’s a chance to remember ourselves and the joyful relationships that await us outside. Come experience what the Forest at the Hitchcock Center might share on this 2 hour experience. \nREGISTER HERE \nAbout Todd: Todd Lynch is an artist\, garden designer and Forest Bathing guide. His passion is to connect people to the world around them through art\, plants\, beauty and immersion into nature. Todd is an ANFT certified forest therapy guide and has led many walks that connect people to place\, plants and ecology. Learn more about Todd at www.ecotropy.net or see some stories on Instagram @ecotropy
URL:https://www.hitchcockcenter.org/event/forest-bathing-art-workshop/
CATEGORIES:Adult Programs
ATTACH;FMTTYPE=image/png:https://www.hitchcockcenter.org/wp-content/uploads/2023/05/IG-POSTS-91.png
END:VEVENT
BEGIN:VEVENT
DTSTART;VALUE=DATE:20230608
DTEND;VALUE=DATE:20230612
DTSTAMP:20260419T182801
CREATED:20230117T202153Z
LAST-MODIFIED:20230117T202153Z
UID:10003307-1686182400-1686527999@www.hitchcockcenter.org
SUMMARY:20th Annual Spring Birding Course
DESCRIPTION:20th Annual Spring Birding Course\nwith Scott Surner\nHave you wanted to bird? Do you love birding but don’t get out enough on your own? Then this course is for you\, join other birders and the amazing birder Scott Surner for this spring course of going to all the best spots to see all the coolest of birds! This is an intensive course through the spring with many wonderful hours of field trips around New England. \nFor ages 12 and up. Space is limited to 15 birders. Cost Sliding Scale $750\, $700\, $650\, $600.Class Schedule: \n\nFeb 4th-Local- 7:00-12:00. Kick off the spring class- Winter specialties in the Valley.\nFeb 24th-26. Coastal Trip Weekend. Weather permitting of course. Either the North Shore or Cape Cod.\nMarch 4th- 7:00 AM- 12:00 – Local. Returning Waterfowl and late-season winter birds.\nMarch 11th- 7:00-12:00. Local. Waterfowl.\nMarch 18th – 7:00 AM-12:00. Local. More waterfowl. (Hatfield/Turners Falls Area)\nApril 1st- 7:00-12:00. Local\nApril 8th- 7:00 AM- 12:00. Local\nApril 15th- 7:00 AM-12:00. Westover and Tilley Street\, Ludlow. Upland Sandpipers\, Eastern Meadowlark\, early warblers\, Rusty Blackbirds?\nApril 29th- Plum Island. 5:00-Dusk. All Day. Waterfowl\, early shorebirds\, warblers etc. Last year we encountered a huge flock of Glossy Ibis at the end of the day\, over 120 birds. Bring lunch.\nMay 6th – 6:30 AM- 12:00. Amherst Area. Migration starting to kick into gear. Warblers\, Vireo’s etc.\nMay 13th- 6:30 AM-12:00. Mt. Holyoke. Breeding Cerulean & Worm-eating Warblers.\nMay 20th- 6;30AM-12:00- Local. Amherst/Hadley Area. Migration at its peak! Warblers\, Flycatchers\, Vireos\, Sparrows etc.\nMay 27th- NO Class. Memorial Day Weekend.\nJune 3rd- 5:30-12:00. Southwick Wildlife Area. Grasshopper Sparrow\, Eastern Meadowlark\, Indigo Bunting\, and Prairie Warblers to name a few.\nJune 8th- 11th. Connecticut Lakes\, Moose Bog\, and a new stop in New Hampshire to look for Bicknell’s Thrush. More details to come\, but we’ll need to make motel reservations in February. Last year’s trip to this area was very successful. Many species of breeding warblers\, Philadelphia Vireo\, Canada Jay\, Spruce Grouse\, American Bittern\, Wilson’s Snipe\, Cliff Swallows\, etc.\n\nRegistration opens Friday\, January 20 at 9:00 AM \nREGISTER HERE
URL:https://www.hitchcockcenter.org/event/20th-annual-spring-birding-course-14/
CATEGORIES:Adult Programs,Ages 12-15 or Grades 7-9
ATTACH;FMTTYPE=image/jpeg:https://www.hitchcockcenter.org/wp-content/uploads/2023/01/IG-POSTS-2.jpg
END:VEVENT
END:VCALENDAR