BEGIN:VCALENDAR
VERSION:2.0
PRODID:-//Hitchcock Center for the Environment - ECPv6.15.18//NONSGML v1.0//EN
CALSCALE:GREGORIAN
METHOD:PUBLISH
X-WR-CALNAME:Hitchcock Center for the Environment
X-ORIGINAL-URL:https://www.hitchcockcenter.org
X-WR-CALDESC:Events for Hitchcock Center for the Environment
REFRESH-INTERVAL;VALUE=DURATION:PT1H
X-Robots-Tag:noindex
X-PUBLISHED-TTL:PT1H
BEGIN:VTIMEZONE
TZID:America/New_York
BEGIN:DAYLIGHT
TZOFFSETFROM:-0500
TZOFFSETTO:-0400
TZNAME:EDT
DTSTART:20220313T070000
END:DAYLIGHT
BEGIN:STANDARD
TZOFFSETFROM:-0400
TZOFFSETTO:-0500
TZNAME:EST
DTSTART:20221106T060000
END:STANDARD
BEGIN:DAYLIGHT
TZOFFSETFROM:-0500
TZOFFSETTO:-0400
TZNAME:EDT
DTSTART:20230312T070000
END:DAYLIGHT
BEGIN:STANDARD
TZOFFSETFROM:-0400
TZOFFSETTO:-0500
TZNAME:EST
DTSTART:20231105T060000
END:STANDARD
BEGIN:DAYLIGHT
TZOFFSETFROM:-0500
TZOFFSETTO:-0400
TZNAME:EDT
DTSTART:20240310T070000
END:DAYLIGHT
BEGIN:STANDARD
TZOFFSETFROM:-0400
TZOFFSETTO:-0500
TZNAME:EST
DTSTART:20241103T060000
END:STANDARD
END:VTIMEZONE
BEGIN:VEVENT
DTSTART;TZID=America/New_York:20231205T183000
DTEND;TZID=America/New_York:20231205T200000
DTSTAMP:20260419T115149
CREATED:20230915T172632Z
LAST-MODIFIED:20230915T172632Z
UID:10003562-1701801000-1701806400@www.hitchcockcenter.org
SUMMARY:Ice and Snow: The Cold Story 
DESCRIPTION:Ice and Snow: The Cold Story \nwith John Green\nTuesday\, December 5\, 6:30pm – 8pm\nRegistration and Donations appreciated  \nWinter is beautiful and John Green’s photos will remind you!  \nHere in New England we are fortunate to have four distinct seasons.  Although\, due to warming climate the annual temperature average may be higher now than in the past.  In southern New England we still experience the influx of migrating birds and blossoming flowers in the spring; thunderstorms and rainbow during the summer and colorful foliage\, reverse bird migration and leaf fall in the autumn.  However\, recent winters have been less dynamic than those we have experienced historically; landscapes are seldom totally transformed by snow cover and waterways are rarely completely  immobilized by icy conditions due to sustained frigid temperatures.  Fortunately\, John has been photographing wintry conditions dating back to the mid 1970’s and the this program ICE and SNOW is the result of my love for the season of cold.  \nREGISTER HERE
URL:https://www.hitchcockcenter.org/event/ice-and-snow-the-cold-story/
CATEGORIES:Adult Programs
END:VEVENT
END:VCALENDAR