BEGIN:VCALENDAR
VERSION:2.0
PRODID:-//Hitchcock Center for the Environment - ECPv6.15.18//NONSGML v1.0//EN
CALSCALE:GREGORIAN
METHOD:PUBLISH
X-WR-CALNAME:Hitchcock Center for the Environment
X-ORIGINAL-URL:https://www.hitchcockcenter.org
X-WR-CALDESC:Events for Hitchcock Center for the Environment
REFRESH-INTERVAL;VALUE=DURATION:PT1H
X-Robots-Tag:noindex
X-PUBLISHED-TTL:PT1H
BEGIN:VTIMEZONE
TZID:America/New_York
BEGIN:DAYLIGHT
TZOFFSETFROM:-0500
TZOFFSETTO:-0400
TZNAME:EDT
DTSTART:20230312T070000
END:DAYLIGHT
BEGIN:STANDARD
TZOFFSETFROM:-0400
TZOFFSETTO:-0500
TZNAME:EST
DTSTART:20231105T060000
END:STANDARD
BEGIN:DAYLIGHT
TZOFFSETFROM:-0500
TZOFFSETTO:-0400
TZNAME:EDT
DTSTART:20240310T070000
END:DAYLIGHT
BEGIN:STANDARD
TZOFFSETFROM:-0400
TZOFFSETTO:-0500
TZNAME:EST
DTSTART:20241103T060000
END:STANDARD
BEGIN:DAYLIGHT
TZOFFSETFROM:-0500
TZOFFSETTO:-0400
TZNAME:EDT
DTSTART:20250309T070000
END:DAYLIGHT
BEGIN:STANDARD
TZOFFSETFROM:-0400
TZOFFSETTO:-0500
TZNAME:EST
DTSTART:20251102T060000
END:STANDARD
END:VTIMEZONE
BEGIN:VEVENT
DTSTART;TZID=America/New_York:20240122T193000
DTEND;TZID=America/New_York:20240122T203000
DTSTAMP:20260419T105051
CREATED:20231215T192311Z
LAST-MODIFIED:20240104T171239Z
UID:10003811-1705951800-1705955400@www.hitchcockcenter.org
SUMMARY:Book Circle: All We Can Save
DESCRIPTION:All We Can Save Book Circle\nJanuary – May\n2nd and 4th Mondays of the month\, 7:30pm – 8:30pm \nAre you hungry for deeper dialogue about the climate crisis and building community around solutions? We are too. All We Can Save Circles are like a book club\, but a cooler\, deeper\, extended version. Let’s strengthen the “we” in All We Can Save. Circles were created by Dr. Katharine Wilkinson.  Join us for this bimonthly book circle\, must commit to most dates.  Please submit interest here or email casey@hitchcockcenter.org.  Some copies available to borrow from Hitchcock.  \nAll We Can Save: Truth\, Courage\, and solutions for the Climate Crisis\nEdited by Ayana Elizabeth Johnson and Katharine K. Wilkinson\nREGISTER HERE
URL:https://www.hitchcockcenter.org/event/book-circle-all-we-can-save-2/
CATEGORIES:Adult Programs
END:VEVENT
BEGIN:VEVENT
DTSTART;TZID=America/New_York:20240126T183000
DTEND;TZID=America/New_York:20240126T210000
DTSTAMP:20260419T105051
CREATED:20231215T182813Z
LAST-MODIFIED:20240119T163542Z
UID:10003795-1706293800-1706302800@www.hitchcockcenter.org
SUMMARY:Owl Prowl with Dan Ziomek
DESCRIPTION:Friday\, January 26\, 6:30 pm – 9 pm\nOr Saturday\, January 27\,  6:30 pm – 9 pm\nSliding Scale Tickets: $20\, $30\, $40\n \nHave you been on an owl prowl? It is a special treat in the heart of winter.  Come seek out the Great-horned owl on a winter (hopefully snowy) night with expert birder Dan Ziomek.
URL:https://www.hitchcockcenter.org/event/owl-prowl-with-dan-ziomek-5/
CATEGORIES:Adult Programs
END:VEVENT
BEGIN:VEVENT
DTSTART;TZID=America/New_York:20240127T183000
DTEND;TZID=America/New_York:20240127T210000
DTSTAMP:20260419T105051
CREATED:20231215T182848Z
LAST-MODIFIED:20240119T163613Z
UID:10003796-1706380200-1706389200@www.hitchcockcenter.org
SUMMARY:Owl Prowl with Dan Ziomek
DESCRIPTION:Friday\, January 26\, 6:30 pm – 9 pm\nOr Saturday\, January 27\,  6:30 pm – 9 pm\nSliding Scale Tickets: $20\, $30\, $40\n \nHave you been on an owl prowl? It is a special treat in the heart of winter.  Come seek out the Great-horned owl on a winter (hopefully snowy) night with expert birder Dan Ziomek.
URL:https://www.hitchcockcenter.org/event/owl-prowl-with-dan-ziomek-7/
CATEGORIES:Adult Programs
END:VEVENT
BEGIN:VEVENT
DTSTART;TZID=America/New_York:20240131T190000
DTEND;TZID=America/New_York:20240131T203000
DTSTAMP:20260419T105051
CREATED:20231215T183745Z
LAST-MODIFIED:20231215T184242Z
UID:10003805-1706727600-1706733000@www.hitchcockcenter.org
SUMMARY:Unpacking the Massachusetts Climate Action Plan
DESCRIPTION:Virtual workshop with Steve Roof \nWednesday\, January 31\n7 pm – 8:30 pm \nMassachusetts has a meaningful Clean Energy and Climate Action Plan that quickly and dramatically reduces our carbon emissions to 50% by 2030\, 75% by 2040\, to net zero by 2050!   Come hear from Hampshire College professor Steve Roof about the state’s strategies for meeting this goal and get us thinking about how we can contribute as a region.  Registration required\, donations appreciated.  \nREGISTER HERE
URL:https://www.hitchcockcenter.org/event/unpacking-the-massachusetts-climate-action-plan-virtual/
CATEGORIES:Adult Programs
END:VEVENT
END:VCALENDAR