BEGIN:VCALENDAR
VERSION:2.0
PRODID:-//Hitchcock Center for the Environment - ECPv6.15.18//NONSGML v1.0//EN
CALSCALE:GREGORIAN
METHOD:PUBLISH
X-ORIGINAL-URL:https://www.hitchcockcenter.org
X-WR-CALDESC:Events for Hitchcock Center for the Environment
REFRESH-INTERVAL;VALUE=DURATION:PT1H
X-Robots-Tag:noindex
X-PUBLISHED-TTL:PT1H
BEGIN:VTIMEZONE
TZID:America/New_York
BEGIN:DAYLIGHT
TZOFFSETFROM:-0500
TZOFFSETTO:-0400
TZNAME:EDT
DTSTART:20200308T070000
END:DAYLIGHT
BEGIN:STANDARD
TZOFFSETFROM:-0400
TZOFFSETTO:-0500
TZNAME:EST
DTSTART:20201101T060000
END:STANDARD
BEGIN:DAYLIGHT
TZOFFSETFROM:-0500
TZOFFSETTO:-0400
TZNAME:EDT
DTSTART:20210314T070000
END:DAYLIGHT
BEGIN:STANDARD
TZOFFSETFROM:-0400
TZOFFSETTO:-0500
TZNAME:EST
DTSTART:20211107T060000
END:STANDARD
BEGIN:DAYLIGHT
TZOFFSETFROM:-0500
TZOFFSETTO:-0400
TZNAME:EDT
DTSTART:20220313T070000
END:DAYLIGHT
BEGIN:STANDARD
TZOFFSETFROM:-0400
TZOFFSETTO:-0500
TZNAME:EST
DTSTART:20221106T060000
END:STANDARD
END:VTIMEZONE
BEGIN:VEVENT
DTSTART;TZID=America/New_York:20211203T093000
DTEND;TZID=America/New_York:20211203T113000
DTSTAMP:20260425T192045
CREATED:20210622T013732Z
LAST-MODIFIED:20210622T013732Z
UID:10002482-1638523800-1638531000@www.hitchcockcenter.org
SUMMARY:Nature Discovery Preschool Series: Prehistoric Preschool
DESCRIPTION:Nature Discovery Preschool is back to a ten-week series once again\, taking place both indoors and outdoors! This season we will travel back in time to the days of the dinosaurs. Children will learn about dinosaurs through stories\, songs\, movement and crafts. We will compare different dinosaurs\, dig for bones\, and learn about the plants they munched on. Come have a dinomite time! Please note: This ten-week series takes place both indoors and outdoors. \nWith Colleen Kelley\nAges 3-5 (Adult required to attend with child)\nFridays\, September 17 – December 3 (no program October 1\, 8 and November 26)\nMorning session: 9:30-11:30 am\nFee per Child: Tier A-$271 | Tier B-$217 | Tier C-$163  | Tier D-$109\nLimited to 12 participants. Limit of 2 children per adult. Siblings under 3 are free.
URL:https://www.hitchcockcenter.org/event/nature-discovery-preschool-series-prehistoric-preschool-10/
CATEGORIES:Ages 3–5 or Grade Pre-K
END:VEVENT
BEGIN:VEVENT
DTSTART;TZID=America/New_York:20211203T130000
DTEND;TZID=America/New_York:20211203T150000
DTSTAMP:20260425T192045
CREATED:20210622T015712Z
LAST-MODIFIED:20210622T015712Z
UID:10002492-1638536400-1638543600@www.hitchcockcenter.org
SUMMARY:Nature Discovery Preschool Series: Prehistoric Preschool
DESCRIPTION:Nature Discovery Preschool is back to a ten-week series once again\, taking place both indoors and outdoors! This season we will travel back in time to the days of the dinosaurs. Children will learn about dinosaurs through stories\, songs\, movement and crafts. We will compare different dinosaurs\, dig for bones\, and learn about the plants they munched on. Come have a dinomite time! Please note: This ten-week series takes place both indoors and outdoors. \nWith Colleen Kelley\nAges 3-5 (Adult required to attend with child)\nFridays\, September 17 – December 3 (no program October 1\, 8 and November 26)\nAfternoon session: 1-3 pm\nFee per Child: Tier A-$271 | Tier B-$217 | Tier C-$163  | Tier D-$109\nLimited to 12 participants. Limit of 2 children per adult. Siblings under 3 are free.
URL:https://www.hitchcockcenter.org/event/nature-discovery-preschool-series-prehistoric-preschool-20/
CATEGORIES:Ages 3–5 or Grade Pre-K
END:VEVENT
BEGIN:VEVENT
DTSTART;TZID=America/New_York:20211210T093000
DTEND;TZID=America/New_York:20211210T113000
DTSTAMP:20260425T192045
CREATED:20210622T013851Z
LAST-MODIFIED:20210622T013851Z
UID:10002483-1639128600-1639135800@www.hitchcockcenter.org
SUMMARY:Nature Discovery Preschool Series: Prehistoric Preschool
DESCRIPTION:Nature Discovery Preschool is back to a ten-week series once again\, taking place both indoors and outdoors! This season we will travel back in time to the days of the dinosaurs. Children will learn about dinosaurs through stories\, songs\, movement and crafts. We will compare different dinosaurs\, dig for bones\, and learn about the plants they munched on. Come have a dinomite time! Please note: This ten-week series takes place both indoors and outdoors. \nWith Colleen Kelley\nAges 3-5 (Adult required to attend with child)\nFridays\, September 17 – December 3 (no program October 1\, 8 and November 26)\nMorning session: 9:30-11:30 am\nFee per Child: Tier A-$271 | Tier B-$217 | Tier C-$163  | Tier D-$109\nLimited to 12 participants. Limit of 2 children per adult. Siblings under 3 are free.
URL:https://www.hitchcockcenter.org/event/nature-discovery-preschool-series-prehistoric-preschool-11/
CATEGORIES:Ages 3–5 or Grade Pre-K
END:VEVENT
BEGIN:VEVENT
DTSTART;TZID=America/New_York:20211210T130000
DTEND;TZID=America/New_York:20211210T150000
DTSTAMP:20260425T192045
CREATED:20210622T015801Z
LAST-MODIFIED:20210622T015801Z
UID:10002493-1639141200-1639148400@www.hitchcockcenter.org
SUMMARY:Nature Discovery Preschool Series: Prehistoric Preschool
DESCRIPTION:Nature Discovery Preschool is back to a ten-week series once again\, taking place both indoors and outdoors! This season we will travel back in time to the days of the dinosaurs. Children will learn about dinosaurs through stories\, songs\, movement and crafts. We will compare different dinosaurs\, dig for bones\, and learn about the plants they munched on. Come have a dinomite time! Please note: This ten-week series takes place both indoors and outdoors. \nWith Colleen Kelley\nAges 3-5 (Adult required to attend with child)\nFridays\, September 17 – December 3 (no program October 1\, 8 and November 26)\nAfternoon session: 1-3 pm\nFee per Child: Tier A-$271 | Tier B-$217 | Tier C-$163  | Tier D-$109\nLimited to 12 participants. Limit of 2 children per adult. Siblings under 3 are free.
URL:https://www.hitchcockcenter.org/event/nature-discovery-preschool-series-prehistoric-preschool-21/
CATEGORIES:Ages 3–5 or Grade Pre-K
END:VEVENT
END:VCALENDAR