BEGIN:VCALENDAR
VERSION:2.0
PRODID:-//Hitchcock Center for the Environment - ECPv6.15.18//NONSGML v1.0//EN
CALSCALE:GREGORIAN
METHOD:PUBLISH
X-WR-CALNAME:Hitchcock Center for the Environment
X-ORIGINAL-URL:https://www.hitchcockcenter.org
X-WR-CALDESC:Events for Hitchcock Center for the Environment
REFRESH-INTERVAL;VALUE=DURATION:PT1H
X-Robots-Tag:noindex
X-PUBLISHED-TTL:PT1H
BEGIN:VTIMEZONE
TZID:America/New_York
BEGIN:DAYLIGHT
TZOFFSETFROM:-0500
TZOFFSETTO:-0400
TZNAME:EDT
DTSTART:20210314T070000
END:DAYLIGHT
BEGIN:STANDARD
TZOFFSETFROM:-0400
TZOFFSETTO:-0500
TZNAME:EST
DTSTART:20211107T060000
END:STANDARD
BEGIN:DAYLIGHT
TZOFFSETFROM:-0500
TZOFFSETTO:-0400
TZNAME:EDT
DTSTART:20220313T070000
END:DAYLIGHT
BEGIN:STANDARD
TZOFFSETFROM:-0400
TZOFFSETTO:-0500
TZNAME:EST
DTSTART:20221106T060000
END:STANDARD
BEGIN:DAYLIGHT
TZOFFSETFROM:-0500
TZOFFSETTO:-0400
TZNAME:EDT
DTSTART:20230312T070000
END:DAYLIGHT
BEGIN:STANDARD
TZOFFSETFROM:-0400
TZOFFSETTO:-0500
TZNAME:EST
DTSTART:20231105T060000
END:STANDARD
END:VTIMEZONE
BEGIN:VEVENT
DTSTART;TZID=America/New_York:20220128T100000
DTEND;TZID=America/New_York:20220128T113000
DTSTAMP:20260425T175354
CREATED:20211118T192742Z
LAST-MODIFIED:20211118T192742Z
UID:10002714-1643364000-1643369400@www.hitchcockcenter.org
SUMMARY:Nature Discovery Winter Preschool Days
DESCRIPTION:With Colleen Kelley and Helen Ann Sephton\nAges 3-5 (Adult required to attend with child)\n10:00am-11:30 am (Please note the later start time!) \n  \nCelebrate the outdoors in winter with your preschooler! Colleen and Helen Ann will teach these three winter programs. Sign up for one\, two or all three programs. Come prepared for winter outdoor exploration! Limited to 7 families per day. Non-refundable within a week of the program\, all refunds incur a 10% administrative fee. \nFriday\, January 28: How Animals Live in Winter \n  \nFee per child per day: Tier A-$32 per day | Tier B-$26 per day | Tier C-$19 per day | Tier D- $13\nLimited to 7 families. Limit of 2 children per adult.
URL:https://www.hitchcockcenter.org/event/nature-discovery-winter-preschool-days/
CATEGORIES:Ages 3–5 or Grade Pre-K
END:VEVENT
END:VCALENDAR