BEGIN:VCALENDAR
VERSION:2.0
PRODID:-//Hitchcock Center for the Environment - ECPv6.15.18//NONSGML v1.0//EN
CALSCALE:GREGORIAN
METHOD:PUBLISH
X-WR-CALNAME:Hitchcock Center for the Environment
X-ORIGINAL-URL:https://www.hitchcockcenter.org
X-WR-CALDESC:Events for Hitchcock Center for the Environment
REFRESH-INTERVAL;VALUE=DURATION:PT1H
X-Robots-Tag:noindex
X-PUBLISHED-TTL:PT1H
BEGIN:VTIMEZONE
TZID:America/New_York
BEGIN:DAYLIGHT
TZOFFSETFROM:-0500
TZOFFSETTO:-0400
TZNAME:EDT
DTSTART:20210314T070000
END:DAYLIGHT
BEGIN:STANDARD
TZOFFSETFROM:-0400
TZOFFSETTO:-0500
TZNAME:EST
DTSTART:20211107T060000
END:STANDARD
BEGIN:DAYLIGHT
TZOFFSETFROM:-0500
TZOFFSETTO:-0400
TZNAME:EDT
DTSTART:20220313T070000
END:DAYLIGHT
BEGIN:STANDARD
TZOFFSETFROM:-0400
TZOFFSETTO:-0500
TZNAME:EST
DTSTART:20221106T060000
END:STANDARD
BEGIN:DAYLIGHT
TZOFFSETFROM:-0500
TZOFFSETTO:-0400
TZNAME:EDT
DTSTART:20230312T070000
END:DAYLIGHT
BEGIN:STANDARD
TZOFFSETFROM:-0400
TZOFFSETTO:-0500
TZNAME:EST
DTSTART:20231105T060000
END:STANDARD
END:VTIMEZONE
BEGIN:VEVENT
DTSTART;TZID=America/New_York:20220401T093000
DTEND;TZID=America/New_York:20220401T113000
DTSTAMP:20260425T133502
CREATED:20211118T200754Z
LAST-MODIFIED:20211118T200754Z
UID:10002719-1648805400-1648812600@www.hitchcockcenter.org
SUMMARY:Nature Discovery Preschool Series- Beanstalks to Butterflies: How things change in nature.
DESCRIPTION:Metamorphosis and how things change in nature is the theme for this popular program. Children will compare their own lives\, from newborn to preschooler\, with the life cycles of other living things. Through live animal and plant observations\, stories\, songs\, movement\, imagery and crafts\, children will learn about how and why changes happen. Start your metamorphosis now! An adult must attend with the child to develop a sense of wonder together. \nColleen Kelley\nAges 3-5 (Adult required to attend with child)\nFridays\, March 25 – June 17 ( no programs April 15\, 22\, May 13)\nMorning session: 9:30am-11:30 am\nFee per child: Tier A-$361 | Tier B-$289 | Tier C-$217  | Tier D-$145\nLimited to 7 families. Limit of 2 children per adult.\nPlease note: This ten-week series will take place outdoors unless there is extreme weather.
URL:https://www.hitchcockcenter.org/event/nature-discovery-preschool-series-beanstalks-to-butterflies-how-things-change-in-nature-3/
CATEGORIES:Ages 3–5 or Grade Pre-K
END:VEVENT
BEGIN:VEVENT
DTSTART;TZID=America/New_York:20220401T130000
DTEND;TZID=America/New_York:20220401T150000
DTSTAMP:20260425T133502
CREATED:20211118T200958Z
LAST-MODIFIED:20211118T200958Z
UID:10002720-1648818000-1648825200@www.hitchcockcenter.org
SUMMARY:Nature Discovery Preschool Series- Beanstalks to Butterflies: How things change in nature
DESCRIPTION:Metamorphosis and how things change in nature is the theme for this popular program. Children will compare their own lives\, from newborn to preschooler\, with the life cycles of other living things. Through live animal and plant observations\, stories\, songs\, movement\, imagery and crafts\, children will learn about how and why changes happen. Start your metamorphosis now! An adult must attend with the child to develop a sense of wonder together. \nColleen Kelley\nAges 3-5 (Adult required to attend with child)\nFridays\, March 25 – June 17 ( no programs April 15\, 22\, May 13)\nAfternoon session: 1:00pm-3:00pm\nFee per child: Tier A-$361 | Tier B-$289 | Tier C-$217  | Tier D-$145\nLimited to 7 families. Limit of 2 children per adult.\nPlease note: This ten-week series will take place outdoors unless there is extreme weather.
URL:https://www.hitchcockcenter.org/event/nature-discovery-preschool-series-beanstalks-to-butterflies-how-things-change-in-nature-4/
CATEGORIES:Ages 3–5 or Grade Pre-K
END:VEVENT
BEGIN:VEVENT
DTSTART;TZID=America/New_York:20220408T093000
DTEND;TZID=America/New_York:20220408T113000
DTSTAMP:20260425T133502
CREATED:20211118T201434Z
LAST-MODIFIED:20211118T201434Z
UID:10002721-1649410200-1649417400@www.hitchcockcenter.org
SUMMARY:Nature Discovery Preschool Series- Beanstalks to Butterflies: How things change in nature
DESCRIPTION:Metamorphosis and how things change in nature is the theme for this popular program. Children will compare their own lives\, from newborn to preschooler\, with the life cycles of other living things. Through live animal and plant observations\, stories\, songs\, movement\, imagery and crafts\, children will learn about how and why changes happen. Start your metamorphosis now! An adult must attend with the child to develop a sense of wonder together. \nColleen Kelley\nAges 3-5 (Adult required to attend with child)\nFridays\, March 25 – June 17 ( no programs April 15\, 22\, May 13)\nMorning session: 9:30am-11:30 am\nFee per child: Tier A-$361 | Tier B-$289 | Tier C-$217  | Tier D-$145\nLimited to 7 families. Limit of 2 children per adult.\nPlease note: This ten-week series will take place outdoors unless there is extreme weather.
URL:https://www.hitchcockcenter.org/event/nature-discovery-preschool-series-beanstalks-to-butterflies-how-things-change-in-nature-5/
CATEGORIES:Ages 3–5 or Grade Pre-K
END:VEVENT
BEGIN:VEVENT
DTSTART;TZID=America/New_York:20220408T130000
DTEND;TZID=America/New_York:20220408T150000
DTSTAMP:20260425T133502
CREATED:20211118T201614Z
LAST-MODIFIED:20211118T201614Z
UID:10002722-1649422800-1649430000@www.hitchcockcenter.org
SUMMARY:Nature Discovery Preschool Series- Beanstalks to Butterflies: How things change in nature
DESCRIPTION:Metamorphosis and how things change in nature is the theme for this popular program. Children will compare their own lives\, from newborn to preschooler\, with the life cycles of other living things. Through live animal and plant observations\, stories\, songs\, movement\, imagery and crafts\, children will learn about how and why changes happen. Start your metamorphosis now! An adult must attend with the child to develop a sense of wonder together. \nColleen Kelley\nAges 3-5 (Adult required to attend with child)\nFridays\, March 25 – June 17 ( no programs April 15\, 22\, May 13)\nAfternoon session: 1:00pm-3:00pm\nFee per child: Tier A-$361 | Tier B-$289 | Tier C-$217  | Tier D-$145\nLimited to 7 families. Limit of 2 children per adult.\nPlease note: This ten-week series will take place outdoors unless there is extreme weather.
URL:https://www.hitchcockcenter.org/event/nature-discovery-preschool-series-beanstalks-to-butterflies-how-things-change-in-nature-6/
CATEGORIES:Ages 3–5 or Grade Pre-K
END:VEVENT
BEGIN:VEVENT
DTSTART;TZID=America/New_York:20220429T093000
DTEND;TZID=America/New_York:20220429T113000
DTSTAMP:20260425T133502
CREATED:20211118T201755Z
LAST-MODIFIED:20211118T201755Z
UID:10002723-1651224600-1651231800@www.hitchcockcenter.org
SUMMARY:Nature Discovery Preschool Series- Beanstalks to Butterflies: How things change in nature
DESCRIPTION:Metamorphosis and how things change in nature is the theme for this popular program. Children will compare their own lives\, from newborn to preschooler\, with the life cycles of other living things. Through live animal and plant observations\, stories\, songs\, movement\, imagery and crafts\, children will learn about how and why changes happen. Start your metamorphosis now! An adult must attend with the child to develop a sense of wonder together. \nColleen Kelley\nAges 3-5 (Adult required to attend with child)\nFridays\, March 25 – June 17 ( no programs April 15\, 22\, May 13)\nMorning session: 9:30am-11:30 am\nFee per child: Tier A-$361 | Tier B-$289 | Tier C-$217  | Tier D-$145\nLimited to 7 families. Limit of 2 children per adult.\nPlease note: This ten-week series will take place outdoors unless there is extreme weather.
URL:https://www.hitchcockcenter.org/event/nature-discovery-preschool-series-beanstalks-to-butterflies-how-things-change-in-nature-7/
CATEGORIES:Ages 3–5 or Grade Pre-K
END:VEVENT
BEGIN:VEVENT
DTSTART;TZID=America/New_York:20220429T130000
DTEND;TZID=America/New_York:20220429T150000
DTSTAMP:20260425T133502
CREATED:20211118T201923Z
LAST-MODIFIED:20211118T201923Z
UID:10002724-1651237200-1651244400@www.hitchcockcenter.org
SUMMARY:Nature Discovery Preschool Series- Beanstalks to Butterflies: How things change in nature
DESCRIPTION:Metamorphosis and how things change in nature is the theme for this popular program. Children will compare their own lives\, from newborn to preschooler\, with the life cycles of other living things. Through live animal and plant observations\, stories\, songs\, movement\, imagery and crafts\, children will learn about how and why changes happen. Start your metamorphosis now! An adult must attend with the child to develop a sense of wonder together. \nColleen Kelley\nAges 3-5 (Adult required to attend with child)\nFridays\, March 25 – June 17 ( no programs April 15\, 22\, May 13)\nAfternoon session: 1:00pm-3:00pm\nFee per child: Tier A-$361 | Tier B-$289 | Tier C-$217  | Tier D-$145\nLimited to 7 families. Limit of 2 children per adult.\nPlease note: This ten-week series will take place outdoors unless there is extreme weather.
URL:https://www.hitchcockcenter.org/event/nature-discovery-preschool-series-beanstalks-to-butterflies-how-things-change-in-nature-8/
CATEGORIES:Ages 3–5 or Grade Pre-K
END:VEVENT
END:VCALENDAR