BEGIN:VCALENDAR
VERSION:2.0
PRODID:-//Hitchcock Center for the Environment - ECPv6.15.18//NONSGML v1.0//EN
CALSCALE:GREGORIAN
METHOD:PUBLISH
X-ORIGINAL-URL:https://www.hitchcockcenter.org
X-WR-CALDESC:Events for Hitchcock Center for the Environment
REFRESH-INTERVAL;VALUE=DURATION:PT1H
X-Robots-Tag:noindex
X-PUBLISHED-TTL:PT1H
BEGIN:VTIMEZONE
TZID:America/New_York
BEGIN:DAYLIGHT
TZOFFSETFROM:-0500
TZOFFSETTO:-0400
TZNAME:EDT
DTSTART:20210314T070000
END:DAYLIGHT
BEGIN:STANDARD
TZOFFSETFROM:-0400
TZOFFSETTO:-0500
TZNAME:EST
DTSTART:20211107T060000
END:STANDARD
BEGIN:DAYLIGHT
TZOFFSETFROM:-0500
TZOFFSETTO:-0400
TZNAME:EDT
DTSTART:20220313T070000
END:DAYLIGHT
BEGIN:STANDARD
TZOFFSETFROM:-0400
TZOFFSETTO:-0500
TZNAME:EST
DTSTART:20221106T060000
END:STANDARD
BEGIN:DAYLIGHT
TZOFFSETFROM:-0500
TZOFFSETTO:-0400
TZNAME:EDT
DTSTART:20230312T070000
END:DAYLIGHT
BEGIN:STANDARD
TZOFFSETFROM:-0400
TZOFFSETTO:-0500
TZNAME:EST
DTSTART:20231105T060000
END:STANDARD
END:VTIMEZONE
BEGIN:VEVENT
DTSTART;TZID=America/New_York:20220506T093000
DTEND;TZID=America/New_York:20220506T233000
DTSTAMP:20260425T121353
CREATED:20211118T202052Z
LAST-MODIFIED:20211118T202052Z
UID:10002725-1651829400-1651879800@www.hitchcockcenter.org
SUMMARY:Nature Discovery Preschool Series- Beanstalks to Butterflies: How things change in nature
DESCRIPTION:Metamorphosis and how things change in nature is the theme for this popular program. Children will compare their own lives\, from newborn to preschooler\, with the life cycles of other living things. Through live animal and plant observations\, stories\, songs\, movement\, imagery and crafts\, children will learn about how and why changes happen. Start your metamorphosis now! An adult must attend with the child to develop a sense of wonder together. \nColleen Kelley\nAges 3-5 (Adult required to attend with child)\nFridays\, March 25 – June 17 ( no programs April 15\, 22\, May 13)\nMorning session: 9:30am-11:30 am\nFee per child: Tier A-$361 | Tier B-$289 | Tier C-$217  | Tier D-$145\nLimited to 7 families. Limit of 2 children per adult.\nPlease note: This ten-week series will take place outdoors unless there is extreme weather.
URL:https://www.hitchcockcenter.org/event/nature-discovery-preschool-series-beanstalks-to-butterflies-how-things-change-in-nature-9/
CATEGORIES:Ages 3–5 or Grade Pre-K
END:VEVENT
BEGIN:VEVENT
DTSTART;TZID=America/New_York:20220506T130000
DTEND;TZID=America/New_York:20220506T150000
DTSTAMP:20260425T121353
CREATED:20211118T202309Z
LAST-MODIFIED:20211118T202309Z
UID:10002726-1651842000-1651849200@www.hitchcockcenter.org
SUMMARY:Nature Discovery Preschool Series- Beanstalks to Butterflies: How things change in nature
DESCRIPTION:Metamorphosis and how things change in nature is the theme for this popular program. Children will compare their own lives\, from newborn to preschooler\, with the life cycles of other living things. Through live animal and plant observations\, stories\, songs\, movement\, imagery and crafts\, children will learn about how and why changes happen. Start your metamorphosis now! An adult must attend with the child to develop a sense of wonder together. \nColleen Kelley\nAges 3-5 (Adult required to attend with child)\nFridays\, March 25 – June 17 ( no programs April 15\, 22\, May 13)\nAfternoon session: 1:00pm-3:00pm\nFee per child: Tier A-$361 | Tier B-$289 | Tier C-$217  | Tier D-$145\nLimited to 7 families. Limit of 2 children per adult.\nPlease note: This ten-week series will take place outdoors unless there is extreme weather.
URL:https://www.hitchcockcenter.org/event/nature-discovery-preschool-series-beanstalks-to-butterflies-how-things-change-in-nature-10/
CATEGORIES:Ages 3–5 or Grade Pre-K
END:VEVENT
BEGIN:VEVENT
DTSTART;TZID=America/New_York:20220520T093000
DTEND;TZID=America/New_York:20220520T113000
DTSTAMP:20260425T121353
CREATED:20211118T202504Z
LAST-MODIFIED:20211118T202504Z
UID:10002727-1653039000-1653046200@www.hitchcockcenter.org
SUMMARY:Nature Discovery Preschool Series- Beanstalks to Butterflies: How things change in nature
DESCRIPTION:Metamorphosis and how things change in nature is the theme for this popular program. Children will compare their own lives\, from newborn to preschooler\, with the life cycles of other living things. Through live animal and plant observations\, stories\, songs\, movement\, imagery and crafts\, children will learn about how and why changes happen. Start your metamorphosis now! An adult must attend with the child to develop a sense of wonder together. \nColleen Kelley\nAges 3-5 (Adult required to attend with child)\nFridays\, March 25 – June 17 ( no programs April 15\, 22\, May 13)\nMorning session: 9:30am-11:30 am\nFee per child: Tier A-$361 | Tier B-$289 | Tier C-$217  | Tier D-$145\nLimited to 7 families. Limit of 2 children per adult.\nPlease note: This ten-week series will take place outdoors unless there is extreme weather.
URL:https://www.hitchcockcenter.org/event/nature-discovery-preschool-series-beanstalks-to-butterflies-how-things-change-in-nature-11/
CATEGORIES:Ages 3–5 or Grade Pre-K
END:VEVENT
BEGIN:VEVENT
DTSTART;TZID=America/New_York:20220520T130000
DTEND;TZID=America/New_York:20220520T150000
DTSTAMP:20260425T121353
CREATED:20211118T202641Z
LAST-MODIFIED:20211118T202641Z
UID:10002728-1653051600-1653058800@www.hitchcockcenter.org
SUMMARY:Nature Discovery Preschool Series- Beanstalks to Butterflies: How things change in nature
DESCRIPTION:Metamorphosis and how things change in nature is the theme for this popular program. Children will compare their own lives\, from newborn to preschooler\, with the life cycles of other living things. Through live animal and plant observations\, stories\, songs\, movement\, imagery and crafts\, children will learn about how and why changes happen. Start your metamorphosis now! An adult must attend with the child to develop a sense of wonder together. \nColleen Kelley\nAges 3-5 (Adult required to attend with child)\nFridays\, March 25 – June 17 ( no programs April 15\, 22\, May 13)\nAfternoon session: 1:00pm-3:00pm\nFee per child: Tier A-$361 | Tier B-$289 | Tier C-$217  | Tier D-$145\nLimited to 7 families. Limit of 2 children per adult.\nPlease note: This ten-week series will take place outdoors unless there is extreme weather.
URL:https://www.hitchcockcenter.org/event/nature-discovery-preschool-series-beanstalks-to-butterflies-how-things-change-in-nature-12/
CATEGORIES:Ages 3–5 or Grade Pre-K
END:VEVENT
BEGIN:VEVENT
DTSTART;TZID=America/New_York:20220527T093000
DTEND;TZID=America/New_York:20220527T113000
DTSTAMP:20260425T121353
CREATED:20211118T202751Z
LAST-MODIFIED:20211118T202751Z
UID:10002729-1653643800-1653651000@www.hitchcockcenter.org
SUMMARY:Nature Discovery Preschool Series- Beanstalks to Butterflies: How things change in nature
DESCRIPTION:Metamorphosis and how things change in nature is the theme for this popular program. Children will compare their own lives\, from newborn to preschooler\, with the life cycles of other living things. Through live animal and plant observations\, stories\, songs\, movement\, imagery and crafts\, children will learn about how and why changes happen. Start your metamorphosis now! An adult must attend with the child to develop a sense of wonder together. \nColleen Kelley\nAges 3-5 (Adult required to attend with child)\nFridays\, March 25 – June 17 ( no programs April 15\, 22\, May 13)\nMorning session: 9:30am-11:30 am\nFee per child: Tier A-$361 | Tier B-$289 | Tier C-$217  | Tier D-$145\nLimited to 7 families. Limit of 2 children per adult.\nPlease note: This ten-week series will take place outdoors unless there is extreme weather.
URL:https://www.hitchcockcenter.org/event/nature-discovery-preschool-series-beanstalks-to-butterflies-how-things-change-in-nature-13/
CATEGORIES:Ages 3–5 or Grade Pre-K
END:VEVENT
BEGIN:VEVENT
DTSTART;TZID=America/New_York:20220527T130000
DTEND;TZID=America/New_York:20220527T150000
DTSTAMP:20260425T121353
CREATED:20211118T202907Z
LAST-MODIFIED:20211118T203128Z
UID:10002730-1653656400-1653663600@www.hitchcockcenter.org
SUMMARY:Nature Discovery Preschool Series- Beanstalks to Butterflies: How things change in nature
DESCRIPTION:Metamorphosis and how things change in nature is the theme for this popular program. Children will compare their own lives\, from newborn to preschooler\, with the life cycles of other living things. Through live animal and plant observations\, stories\, songs\, movement\, imagery and crafts\, children will learn about how and why changes happen. Start your metamorphosis now! An adult must attend with the child to develop a sense of wonder together. \nColleen Kelley\nAges 3-5 (Adult required to attend with child)\nFridays\, March 25 – June 17 ( no programs April 15\, 22\, May 13)\nAfternoon session: 1:00pm-3:00pm\nFee per child: Tier A-$361 | Tier B-$289 | Tier C-$217  | Tier D-$145\nLimited to 7 families. Limit of 2 children per adult.\nPlease note: This ten-week series will take place outdoors unless there is extreme weather.
URL:https://www.hitchcockcenter.org/event/nature-discovery-preschool-series-beanstalks-to-butterflies-how-things-change-in-natur/
CATEGORIES:Ages 3–5 or Grade Pre-K
END:VEVENT
END:VCALENDAR