BEGIN:VCALENDAR
VERSION:2.0
PRODID:-//Hitchcock Center for the Environment - ECPv6.15.18//NONSGML v1.0//EN
CALSCALE:GREGORIAN
METHOD:PUBLISH
X-ORIGINAL-URL:https://www.hitchcockcenter.org
X-WR-CALDESC:Events for Hitchcock Center for the Environment
REFRESH-INTERVAL;VALUE=DURATION:PT1H
X-Robots-Tag:noindex
X-PUBLISHED-TTL:PT1H
BEGIN:VTIMEZONE
TZID:America/New_York
BEGIN:DAYLIGHT
TZOFFSETFROM:-0500
TZOFFSETTO:-0400
TZNAME:EDT
DTSTART:20210314T070000
END:DAYLIGHT
BEGIN:STANDARD
TZOFFSETFROM:-0400
TZOFFSETTO:-0500
TZNAME:EST
DTSTART:20211107T060000
END:STANDARD
BEGIN:DAYLIGHT
TZOFFSETFROM:-0500
TZOFFSETTO:-0400
TZNAME:EDT
DTSTART:20220313T070000
END:DAYLIGHT
BEGIN:STANDARD
TZOFFSETFROM:-0400
TZOFFSETTO:-0500
TZNAME:EST
DTSTART:20221106T060000
END:STANDARD
BEGIN:DAYLIGHT
TZOFFSETFROM:-0500
TZOFFSETTO:-0400
TZNAME:EDT
DTSTART:20230312T070000
END:DAYLIGHT
BEGIN:STANDARD
TZOFFSETFROM:-0400
TZOFFSETTO:-0500
TZNAME:EST
DTSTART:20231105T060000
END:STANDARD
END:VTIMEZONE
BEGIN:VEVENT
DTSTART;TZID=America/New_York:20220603T093000
DTEND;TZID=America/New_York:20220603T113000
DTSTAMP:20260425T104437
CREATED:20211118T203040Z
LAST-MODIFIED:20211118T203040Z
UID:10002731-1654248600-1654255800@www.hitchcockcenter.org
SUMMARY:Nature Discovery Preschool Series- Beanstalks to Butterflies: How things change in nature
DESCRIPTION:Metamorphosis and how things change in nature is the theme for this popular program. Children will compare their own lives\, from newborn to preschooler\, with the life cycles of other living things. Through live animal and plant observations\, stories\, songs\, movement\, imagery and crafts\, children will learn about how and why changes happen. Start your metamorphosis now! An adult must attend with the child to develop a sense of wonder together. \nColleen Kelley\nAges 3-5 (Adult required to attend with child)\nFridays\, March 25 – June 17 ( no programs April 15\, 22\, May 13)\nMorning session: 9:30am-11:30 am\nFee per child: Tier A-$361 | Tier B-$289 | Tier C-$217  | Tier D-$145\nLimited to 7 families. Limit of 2 children per adult.\nPlease note: This ten-week series will take place outdoors unless there is extreme weather.
URL:https://www.hitchcockcenter.org/event/nature-discovery-preschool-series-beanstalks-to-butterflies-how-things-change-in-nature-14/
CATEGORIES:Ages 3–5 or Grade Pre-K
END:VEVENT
BEGIN:VEVENT
DTSTART;TZID=America/New_York:20220603T130000
DTEND;TZID=America/New_York:20220603T150000
DTSTAMP:20260425T104437
CREATED:20211118T203224Z
LAST-MODIFIED:20211118T203224Z
UID:10002732-1654261200-1654268400@www.hitchcockcenter.org
SUMMARY:Nature Discovery Preschool Series- Beanstalks to Butterflies: How things change in nature
DESCRIPTION:Metamorphosis and how things change in nature is the theme for this popular program. Children will compare their own lives\, from newborn to preschooler\, with the life cycles of other living things. Through live animal and plant observations\, stories\, songs\, movement\, imagery and crafts\, children will learn about how and why changes happen. Start your metamorphosis now! An adult must attend with the child to develop a sense of wonder together. \nColleen Kelley\nAges 3-5 (Adult required to attend with child)\nFridays\, March 25 – June 17 ( no programs April 15\, 22\, May 13)\nAfternoon session: 1:00pm-3:00pm\nFee per child: Tier A-$361 | Tier B-$289 | Tier C-$217  | Tier D-$145\nLimited to 7 families. Limit of 2 children per adult.\nPlease note: This ten-week series will take place outdoors unless there is extreme weather.
URL:https://www.hitchcockcenter.org/event/nature-discovery-preschool-series-beanstalks-to-butterflies-how-things-change-in-nature-15/
CATEGORIES:Ages 3–5 or Grade Pre-K
END:VEVENT
BEGIN:VEVENT
DTSTART;TZID=America/New_York:20220610T093000
DTEND;TZID=America/New_York:20220610T113000
DTSTAMP:20260425T104437
CREATED:20211118T203325Z
LAST-MODIFIED:20211118T203325Z
UID:10002733-1654853400-1654860600@www.hitchcockcenter.org
SUMMARY:Nature Discovery Preschool Series- Beanstalks to Butterflies: How things change in nature
DESCRIPTION:Metamorphosis and how things change in nature is the theme for this popular program. Children will compare their own lives\, from newborn to preschooler\, with the life cycles of other living things. Through live animal and plant observations\, stories\, songs\, movement\, imagery and crafts\, children will learn about how and why changes happen. Start your metamorphosis now! An adult must attend with the child to develop a sense of wonder together. \nColleen Kelley\nAges 3-5 (Adult required to attend with child)\nFridays\, March 25 – June 17 ( no programs April 15\, 22\, May 13)\nMorning session: 9:30am-11:30 am\nFee per child: Tier A-$361 | Tier B-$289 | Tier C-$217  | Tier D-$145\nLimited to 7 families. Limit of 2 children per adult.\nPlease note: This ten-week series will take place outdoors unless there is extreme weather.
URL:https://www.hitchcockcenter.org/event/nature-discovery-preschool-series-beanstalks-to-butterflies-how-things-change-in-nature-16/
CATEGORIES:Ages 3–5 or Grade Pre-K
END:VEVENT
BEGIN:VEVENT
DTSTART;TZID=America/New_York:20220610T130000
DTEND;TZID=America/New_York:20220610T150000
DTSTAMP:20260425T104437
CREATED:20211118T203526Z
LAST-MODIFIED:20211118T203526Z
UID:10002734-1654866000-1654873200@www.hitchcockcenter.org
SUMMARY:Nature Discovery Preschool Series- Beanstalks to Butterflies: How things change in nature
DESCRIPTION:Metamorphosis and how things change in nature is the theme for this popular program. Children will compare their own lives\, from newborn to preschooler\, with the life cycles of other living things. Through live animal and plant observations\, stories\, songs\, movement\, imagery and crafts\, children will learn about how and why changes happen. Start your metamorphosis now! An adult must attend with the child to develop a sense of wonder together. \nColleen Kelley\nAges 3-5 (Adult required to attend with child)\nFridays\, March 25 – June 17 ( no programs April 15\, 22\, May 13)\nAfternoon session: 1:00pm-3:00pm\nFee per child: Tier A-$361 | Tier B-$289 | Tier C-$217  | Tier D-$145\nLimited to 7 families. Limit of 2 children per adult.\nPlease note: This ten-week series will take place outdoors unless there is extreme weather.
URL:https://www.hitchcockcenter.org/event/nature-discovery-preschool-series-beanstalks-to-butterflies-how-things-change-in-nature-17/
CATEGORIES:Ages 3–5 or Grade Pre-K
END:VEVENT
BEGIN:VEVENT
DTSTART;TZID=America/New_York:20220616T080000
DTEND;TZID=America/New_York:20220616T170000
DTSTAMP:20260425T104437
CREATED:20220616T181300Z
LAST-MODIFIED:20220616T181300Z
UID:10002901-1655366400-1655398800@www.hitchcockcenter.org
SUMMARY:Nature Discovery Preschool Series – Mammal Friends - PM
DESCRIPTION:Helen Ann Sephton\nAges 3-5 (Adult required to attend with child)\nWednesdays\, September 28- December 14 (no program October 12 & November 23)\nAfternoon session: 1:00 – 3:00pm\nFee per Person: Tier A-$434 | Tier B-$377 | Tier C-$321  | Tier D-$245\nLimited to 15 participants. Limit of 2 children per adult. Siblings under 3 are free. \nWe are pleased to announce a second ten-week Nature Discovery Preschool series\, taking place on Wednesdays! Come join us this Fall to learn about local mammals living right in our backyards! Squirrels\, deer\, skunks\, rabbits and raccoons will be just a few of the friends we will make during our ten weeks together.  We use live animal observations\, puppets\, stories\, games and songs to help explore and discover. \nThis Nature Discovery Preschool is a ten week series that takes place outdoors unless there is extreme weather.
URL:https://www.hitchcockcenter.org/event/nature-discovery-preschool-series-mammal-friends-pm-12/
CATEGORIES:Ages 3–5 or Grade Pre-K
END:VEVENT
BEGIN:VEVENT
DTSTART;TZID=America/New_York:20220617T093000
DTEND;TZID=America/New_York:20220617T113000
DTSTAMP:20260425T104437
CREATED:20211118T203626Z
LAST-MODIFIED:20211118T203626Z
UID:10002735-1655458200-1655465400@www.hitchcockcenter.org
SUMMARY:Nature Discovery Preschool Series- Beanstalks to Butterflies: How things change in nature
DESCRIPTION:Metamorphosis and how things change in nature is the theme for this popular program. Children will compare their own lives\, from newborn to preschooler\, with the life cycles of other living things. Through live animal and plant observations\, stories\, songs\, movement\, imagery and crafts\, children will learn about how and why changes happen. Start your metamorphosis now! An adult must attend with the child to develop a sense of wonder together. \nColleen Kelley\nAges 3-5 (Adult required to attend with child)\nFridays\, March 25 – June 17 ( no programs April 15\, 22\, May 13)\nMorning session: 9:30am-11:30 am\nFee per child: Tier A-$361 | Tier B-$289 | Tier C-$217  | Tier D-$145\nLimited to 7 families. Limit of 2 children per adult.\nPlease note: This ten-week series will take place outdoors unless there is extreme weather.
URL:https://www.hitchcockcenter.org/event/nature-discovery-preschool-series-beanstalks-to-butterflies-how-things-change-in-nature-18/
CATEGORIES:Ages 3–5 or Grade Pre-K
END:VEVENT
BEGIN:VEVENT
DTSTART;TZID=America/New_York:20220617T130000
DTEND;TZID=America/New_York:20220617T150000
DTSTAMP:20260425T104437
CREATED:20211118T203751Z
LAST-MODIFIED:20211118T203751Z
UID:10002736-1655470800-1655478000@www.hitchcockcenter.org
SUMMARY:Nature Discovery Preschool Series- Beanstalks to Butterflies: How things change in nature
DESCRIPTION:Metamorphosis and how things change in nature is the theme for this popular program. Children will compare their own lives\, from newborn to preschooler\, with the life cycles of other living things. Through live animal and plant observations\, stories\, songs\, movement\, imagery and crafts\, children will learn about how and why changes happen. Start your metamorphosis now! An adult must attend with the child to develop a sense of wonder together. \nColleen Kelley\nAges 3-5 (Adult required to attend with child)\nFridays\, March 25 – June 17 ( no programs April 15\, 22\, May 13)\nAfternoon session: 1:00pm-3:00pm\nFee per child: Tier A-$361 | Tier B-$289 | Tier C-$217  | Tier D-$145\nLimited to 7 families. Limit of 2 children per adult.\nPlease note: This ten-week series will take place outdoors unless there is extreme weather.
URL:https://www.hitchcockcenter.org/event/nature-discovery-preschool-series-beanstalks-to-butterflies-how-things-change-in-nature-19/
CATEGORIES:Ages 3–5 or Grade Pre-K
END:VEVENT
END:VCALENDAR