BEGIN:VCALENDAR
VERSION:2.0
PRODID:-//Hitchcock Center for the Environment - ECPv6.15.18//NONSGML v1.0//EN
CALSCALE:GREGORIAN
METHOD:PUBLISH
X-WR-CALNAME:Hitchcock Center for the Environment
X-ORIGINAL-URL:https://www.hitchcockcenter.org
X-WR-CALDESC:Events for Hitchcock Center for the Environment
REFRESH-INTERVAL;VALUE=DURATION:PT1H
X-Robots-Tag:noindex
X-PUBLISHED-TTL:PT1H
BEGIN:VTIMEZONE
TZID:America/New_York
BEGIN:DAYLIGHT
TZOFFSETFROM:-0500
TZOFFSETTO:-0400
TZNAME:EDT
DTSTART:20210314T070000
END:DAYLIGHT
BEGIN:STANDARD
TZOFFSETFROM:-0400
TZOFFSETTO:-0500
TZNAME:EST
DTSTART:20211107T060000
END:STANDARD
BEGIN:DAYLIGHT
TZOFFSETFROM:-0500
TZOFFSETTO:-0400
TZNAME:EDT
DTSTART:20220313T070000
END:DAYLIGHT
BEGIN:STANDARD
TZOFFSETFROM:-0400
TZOFFSETTO:-0500
TZNAME:EST
DTSTART:20221106T060000
END:STANDARD
BEGIN:DAYLIGHT
TZOFFSETFROM:-0500
TZOFFSETTO:-0400
TZNAME:EDT
DTSTART:20230312T070000
END:DAYLIGHT
BEGIN:STANDARD
TZOFFSETFROM:-0400
TZOFFSETTO:-0500
TZNAME:EST
DTSTART:20231105T060000
END:STANDARD
END:VTIMEZONE
BEGIN:VEVENT
DTSTART;TZID=America/New_York:20221104T093000
DTEND;TZID=America/New_York:20221104T113000
DTSTAMP:20260423T084716
CREATED:20220616T171356Z
LAST-MODIFIED:20220616T171356Z
UID:10002851-1667554200-1667561400@www.hitchcockcenter.org
SUMMARY:Nature Discovery Preschool Series - Mammal Friends - AM
DESCRIPTION:Colleen Kelley\nAges 3-5 (Adult required to attend with child)\nFridays\, September 16 – December 9 (no program October 7\, and November 11 & 25)\nMorning session: 9:30am-11:30 am\nFee per Child: Tier A-$434 | Tier B-$377 | Tier C-$321 | Tier D-$245\nLimited to 15 participants. Limit of 2 children per adult. Siblings under 3 are free. \nCome join us this Fall to learn about local mammals living right in our backyards! Squirrels\, deer\, skunks\, rabbits and raccoons will be just a few of the friends we will make during our ten weeks together.  We use live animal observations\, puppets\, stories\, games and songs to help explore and discover. \nThis Nature Discovery Preschool is a ten week series that takes place outdoors unless there is extreme weather.
URL:https://www.hitchcockcenter.org/event/nature-discovery-preschool-series-mammal-friends-am-6/
CATEGORIES:Ages 3–5 or Grade Pre-K
END:VEVENT
BEGIN:VEVENT
DTSTART;VALUE=DATE:20221111
DTEND;VALUE=DATE:20221112
DTSTAMP:20260423T084716
CREATED:20221103T192955Z
LAST-MODIFIED:20221103T193045Z
UID:10003050-1668124800-1668211199@www.hitchcockcenter.org
SUMMARY:Closed - Veteran's Day
DESCRIPTION:The Hitchcock Center is closed on Veteran’s Day
URL:https://www.hitchcockcenter.org/event/closed-veterans-day/
CATEGORIES:Adult Programs,Ages 12-15 or Grades 7-9,Ages 3–5 or Grade Pre-K,Ages 5–8 or Grades K–3,Ages 5–8/Grades K–3 or Ages 9–11/Grades 4–6,Ages 9–11 or Grades 4–6,Family Programs
END:VEVENT
BEGIN:VEVENT
DTSTART;TZID=America/New_York:20221118T093000
DTEND;TZID=America/New_York:20221118T113000
DTSTAMP:20260423T084716
CREATED:20220616T172252Z
LAST-MODIFIED:20220616T172252Z
UID:10002857-1668763800-1668771000@www.hitchcockcenter.org
SUMMARY:Nature Discovery Preschool Series - Mammal Friends - AM
DESCRIPTION:Colleen Kelley\nAges 3-5 (Adult required to attend with child)\nFridays\, September 16 – December 9 (no program October 7\, and November 11 & 25)\nMorning session: 9:30am-11:30 am\nFee per Child: Tier A-$434 | Tier B-$377 | Tier C-$321 | Tier D-$245\nLimited to 15 participants. Limit of 2 children per adult. Siblings under 3 are free. \nCome join us this Fall to learn about local mammals living right in our backyards! Squirrels\, deer\, skunks\, rabbits and raccoons will be just a few of the friends we will make during our ten weeks together.  We use live animal observations\, puppets\, stories\, games and songs to help explore and discover. \nThis Nature Discovery Preschool is a ten week series that takes place outdoors unless there is extreme weather.
URL:https://www.hitchcockcenter.org/event/nature-discovery-preschool-series-mammal-friends-am-7/
CATEGORIES:Ages 3–5 or Grade Pre-K
END:VEVENT
BEGIN:VEVENT
DTSTART;VALUE=DATE:20221124
DTEND;VALUE=DATE:20221125
DTSTAMP:20260423T084716
CREATED:20221103T193408Z
LAST-MODIFIED:20221103T193408Z
UID:10003051-1669248000-1669334399@www.hitchcockcenter.org
SUMMARY:Closed - Thanksgiving
DESCRIPTION:The Hitchcock Center is closed on Thanksgiving
URL:https://www.hitchcockcenter.org/event/closed-thanksgiving/
CATEGORIES:Adult Programs,Ages 12-15 or Grades 7-9,Ages 3–5 or Grade Pre-K,Ages 5–8 or Grades K–3,Ages 5–8/Grades K–3 or Ages 9–11/Grades 4–6,Ages 9–11 or Grades 4–6,Family Programs
END:VEVENT
END:VCALENDAR