BEGIN:VCALENDAR
VERSION:2.0
PRODID:-//Hitchcock Center for the Environment - ECPv6.15.18//NONSGML v1.0//EN
CALSCALE:GREGORIAN
METHOD:PUBLISH
X-ORIGINAL-URL:https://www.hitchcockcenter.org
X-WR-CALDESC:Events for Hitchcock Center for the Environment
REFRESH-INTERVAL;VALUE=DURATION:PT1H
X-Robots-Tag:noindex
X-PUBLISHED-TTL:PT1H
BEGIN:VTIMEZONE
TZID:America/New_York
BEGIN:DAYLIGHT
TZOFFSETFROM:-0500
TZOFFSETTO:-0400
TZNAME:EDT
DTSTART:20210314T070000
END:DAYLIGHT
BEGIN:STANDARD
TZOFFSETFROM:-0400
TZOFFSETTO:-0500
TZNAME:EST
DTSTART:20211107T060000
END:STANDARD
BEGIN:DAYLIGHT
TZOFFSETFROM:-0500
TZOFFSETTO:-0400
TZNAME:EDT
DTSTART:20220313T070000
END:DAYLIGHT
BEGIN:STANDARD
TZOFFSETFROM:-0400
TZOFFSETTO:-0500
TZNAME:EST
DTSTART:20221106T060000
END:STANDARD
BEGIN:DAYLIGHT
TZOFFSETFROM:-0500
TZOFFSETTO:-0400
TZNAME:EDT
DTSTART:20230312T070000
END:DAYLIGHT
BEGIN:STANDARD
TZOFFSETFROM:-0400
TZOFFSETTO:-0500
TZNAME:EST
DTSTART:20231105T060000
END:STANDARD
END:VTIMEZONE
BEGIN:VEVENT
DTSTART;TZID=America/New_York:20221202T093000
DTEND;TZID=America/New_York:20221202T113000
DTSTAMP:20260423T072950
CREATED:20220616T172724Z
LAST-MODIFIED:20220616T172724Z
UID:10002861-1669973400-1669980600@www.hitchcockcenter.org
SUMMARY:Nature Discovery Preschool Series - Mammal Friends - AM
DESCRIPTION:Colleen Kelley\nAges 3-5 (Adult required to attend with child)\nFridays\, September 16 – December 9 (no program October 7\, and November 11 & 25)\nMorning session: 9:30am-11:30 am\nFee per Child: Tier A-$434 | Tier B-$377 | Tier C-$321 | Tier D-$245\nLimited to 15 participants. Limit of 2 children per adult. Siblings under 3 are free. \nCome join us this Fall to learn about local mammals living right in our backyards! Squirrels\, deer\, skunks\, rabbits and raccoons will be just a few of the friends we will make during our ten weeks together.  We use live animal observations\, puppets\, stories\, games and songs to help explore and discover. \nThis Nature Discovery Preschool is a ten week series that takes place outdoors unless there is extreme weather.
URL:https://www.hitchcockcenter.org/event/nature-discovery-preschool-series-mammal-friends-am-8/
CATEGORIES:Ages 3–5 or Grade Pre-K
END:VEVENT
BEGIN:VEVENT
DTSTART;TZID=America/New_York:20221209T093000
DTEND;TZID=America/New_York:20221209T113000
DTSTAMP:20260423T072950
CREATED:20220616T173359Z
LAST-MODIFIED:20220616T173359Z
UID:10002871-1670578200-1670585400@www.hitchcockcenter.org
SUMMARY:Nature Discovery Preschool Series - Mammal Friends - AM
DESCRIPTION:Colleen Kelley\nAges 3-5 (Adult required to attend with child)\nFridays\, September 16 – December 9 (no program October 7\, and November 11 & 25)\nMorning session: 9:30am-11:30 am\nFee per Child: Tier A-$434 | Tier B-$377 | Tier C-$321 | Tier D-$245\nLimited to 15 participants. Limit of 2 children per adult. Siblings under 3 are free. \nCome join us this Fall to learn about local mammals living right in our backyards! Squirrels\, deer\, skunks\, rabbits and raccoons will be just a few of the friends we will make during our ten weeks together.  We use live animal observations\, puppets\, stories\, games and songs to help explore and discover. \nThis Nature Discovery Preschool is a ten week series that takes place outdoors unless there is extreme weather.
URL:https://www.hitchcockcenter.org/event/nature-discovery-preschool-series-mammal-friends-am-9/
CATEGORIES:Ages 3–5 or Grade Pre-K
END:VEVENT
END:VCALENDAR