BEGIN:VCALENDAR
VERSION:2.0
PRODID:-//Hitchcock Center for the Environment - ECPv6.15.18//NONSGML v1.0//EN
CALSCALE:GREGORIAN
METHOD:PUBLISH
X-ORIGINAL-URL:https://www.hitchcockcenter.org
X-WR-CALDESC:Events for Hitchcock Center for the Environment
REFRESH-INTERVAL;VALUE=DURATION:PT1H
X-Robots-Tag:noindex
X-PUBLISHED-TTL:PT1H
BEGIN:VTIMEZONE
TZID:America/New_York
BEGIN:DAYLIGHT
TZOFFSETFROM:-0500
TZOFFSETTO:-0400
TZNAME:EDT
DTSTART:20220313T070000
END:DAYLIGHT
BEGIN:STANDARD
TZOFFSETFROM:-0400
TZOFFSETTO:-0500
TZNAME:EST
DTSTART:20221106T060000
END:STANDARD
BEGIN:DAYLIGHT
TZOFFSETFROM:-0500
TZOFFSETTO:-0400
TZNAME:EDT
DTSTART:20230312T070000
END:DAYLIGHT
BEGIN:STANDARD
TZOFFSETFROM:-0400
TZOFFSETTO:-0500
TZNAME:EST
DTSTART:20231105T060000
END:STANDARD
BEGIN:DAYLIGHT
TZOFFSETFROM:-0500
TZOFFSETTO:-0400
TZNAME:EDT
DTSTART:20240310T070000
END:DAYLIGHT
BEGIN:STANDARD
TZOFFSETFROM:-0400
TZOFFSETTO:-0500
TZNAME:EST
DTSTART:20241103T060000
END:STANDARD
END:VTIMEZONE
BEGIN:VEVENT
DTSTART;TZID=America/New_York:20230217T100000
DTEND;TZID=America/New_York:20230217T113000
DTSTAMP:20260421T125229
CREATED:20221121T064808Z
LAST-MODIFIED:20221121T064808Z
UID:10003117-1676628000-1676633400@www.hitchcockcenter.org
SUMMARY:Nature Discovery Preschool Days
DESCRIPTION:Nature Discovery Winter Preschool Days\nWith Colleen Kelley and Helen Ann Sephton\nAges 3-5 (Adult required to attend with child)\n10:00am-11:30 am (Please note the later start time for winter)\nFee per child per day: Tier A-$23 per day | Tier B-$20 per day | Tier C-$17 per day | Tier D- $13\nLimited to 8 families. Limit of 2 children per adult. \nCelebrate the outdoors in winter with your preschooler! Colleen and Helen Ann will teach these four winter programs. Sign up for one\, two or all three programs. Come prepared for winter outdoor exploration! Limited to 8 families per day. Non-refundable within a week of the program\, all refunds incur a 10% administrative fee. \nFriday\, January 27: How Animals Live in Winter \nFriday\, February 17: Signs of Animals and Tracking \nFriday\, March 10: Slip\, Slide – Ice and Snow! \nFriday\, March 24: Signs of Spring
URL:https://www.hitchcockcenter.org/event/nature-discovery-preschool-days-2/
LOCATION:Hitchcock Center for the Environment\, 845 West Street\, Amherst\, MA\, 01002
CATEGORIES:Ages 3–5 or Grade Pre-K
END:VEVENT
END:VCALENDAR