BEGIN:VCALENDAR
VERSION:2.0
PRODID:-//Hitchcock Center for the Environment - ECPv6.15.18//NONSGML v1.0//EN
CALSCALE:GREGORIAN
METHOD:PUBLISH
X-WR-CALNAME:Hitchcock Center for the Environment
X-ORIGINAL-URL:https://www.hitchcockcenter.org
X-WR-CALDESC:Events for Hitchcock Center for the Environment
REFRESH-INTERVAL;VALUE=DURATION:PT1H
X-Robots-Tag:noindex
X-PUBLISHED-TTL:PT1H
BEGIN:VTIMEZONE
TZID:America/New_York
BEGIN:DAYLIGHT
TZOFFSETFROM:-0500
TZOFFSETTO:-0400
TZNAME:EDT
DTSTART:20220313T070000
END:DAYLIGHT
BEGIN:STANDARD
TZOFFSETFROM:-0400
TZOFFSETTO:-0500
TZNAME:EST
DTSTART:20221106T060000
END:STANDARD
BEGIN:DAYLIGHT
TZOFFSETFROM:-0500
TZOFFSETTO:-0400
TZNAME:EDT
DTSTART:20230312T070000
END:DAYLIGHT
BEGIN:STANDARD
TZOFFSETFROM:-0400
TZOFFSETTO:-0500
TZNAME:EST
DTSTART:20231105T060000
END:STANDARD
BEGIN:DAYLIGHT
TZOFFSETFROM:-0500
TZOFFSETTO:-0400
TZNAME:EDT
DTSTART:20240310T070000
END:DAYLIGHT
BEGIN:STANDARD
TZOFFSETFROM:-0400
TZOFFSETTO:-0500
TZNAME:EST
DTSTART:20241103T060000
END:STANDARD
END:VTIMEZONE
BEGIN:VEVENT
DTSTART;TZID=America/New_York:20230407T093000
DTEND;TZID=America/New_York:20230407T113000
DTSTAMP:20260421T085006
CREATED:20221121T064011Z
LAST-MODIFIED:20221121T064011Z
UID:10003096-1680859800-1680867000@www.hitchcockcenter.org
SUMMARY:Nature Discovery Preschool: All About Birds
DESCRIPTION:Nature Discovery Spring Preschool Series: All About Birds\nWith Colleen Kelley\nAges 3-5 (Adult required to attend with child)\nFridays\, April 7 – June 16 ( no program April 21)\nMorning session: 9:30am-11:30 am\nAfternoon session: 1:00pm-3:00pm\nFee per child: Tier A-$434 | Tier B-$377 | Tier C-$321  | Tier D-$245\nLimited to 7 families. Limit of 2 children per adult. \nPlease note: This ten-week series will take place outdoors unless there is extreme weather.  \nCome welcome in Spring with a ten week series learning all about birds. What makes a bird a bird? What can we find out about feathers\, bird food\, flight\, bird communication\, nest building and more!! Through the use of puppets\, models\, stories\, movement and song we will learn together and then explore the local trails to connect to our local bird friends.
URL:https://www.hitchcockcenter.org/event/nature-discovery-preschool-all-about-birds/2023-04-07/
LOCATION:Hitchcock Center for the Environment\, 845 West Street\, Amherst\, MA\, 01002
CATEGORIES:Ages 3–5 or Grade Pre-K
END:VEVENT
BEGIN:VEVENT
DTSTART;TZID=America/New_York:20230407T130000
DTEND;TZID=America/New_York:20230407T150000
DTSTAMP:20260421T085006
CREATED:20221121T064238Z
LAST-MODIFIED:20221121T064238Z
UID:10003106-1680872400-1680879600@www.hitchcockcenter.org
SUMMARY:Nature Discovery Preschool: All About Birds
DESCRIPTION:Nature Discovery Spring Preschool Series: All About Birds\nWith Colleen Kelley\nAges 3-5 (Adult required to attend with child)\nFridays\, April 7 – June 16 ( no program April 21)\nMorning session: 9:30am-11:30 am\nAfternoon session: 1:00pm-3:00pm\nFee per child: Tier A-$434 | Tier B-$377 | Tier C-$321  | Tier D-$245\nLimited to 7 families. Limit of 2 children per adult. \nPlease note: This ten-week series will take place outdoors unless there is extreme weather.  \nCome welcome in Spring with a ten week series learning all about birds. What makes a bird a bird? What can we find out about feathers\, bird food\, flight\, bird communication\, nest building and more!! Through the use of puppets\, models\, stories\, movement and song we will learn together and then explore the local trails to connect to our local bird friends.
URL:https://www.hitchcockcenter.org/event/nature-discovery-preschool-all-about-birds-2/2023-04-07/
LOCATION:Hitchcock Center for the Environment\, 845 West Street\, Amherst\, MA\, 01002
CATEGORIES:Ages 3–5 or Grade Pre-K
END:VEVENT
BEGIN:VEVENT
DTSTART;TZID=America/New_York:20230414T093000
DTEND;TZID=America/New_York:20230414T113000
DTSTAMP:20260421T085006
CREATED:20221121T064011Z
LAST-MODIFIED:20221121T064011Z
UID:10003097-1681464600-1681471800@www.hitchcockcenter.org
SUMMARY:Nature Discovery Preschool: All About Birds
DESCRIPTION:Nature Discovery Spring Preschool Series: All About Birds\nWith Colleen Kelley\nAges 3-5 (Adult required to attend with child)\nFridays\, April 7 – June 16 ( no program April 21)\nMorning session: 9:30am-11:30 am\nAfternoon session: 1:00pm-3:00pm\nFee per child: Tier A-$434 | Tier B-$377 | Tier C-$321  | Tier D-$245\nLimited to 7 families. Limit of 2 children per adult. \nPlease note: This ten-week series will take place outdoors unless there is extreme weather.  \nCome welcome in Spring with a ten week series learning all about birds. What makes a bird a bird? What can we find out about feathers\, bird food\, flight\, bird communication\, nest building and more!! Through the use of puppets\, models\, stories\, movement and song we will learn together and then explore the local trails to connect to our local bird friends.
URL:https://www.hitchcockcenter.org/event/nature-discovery-preschool-all-about-birds/2023-04-14/
LOCATION:Hitchcock Center for the Environment\, 845 West Street\, Amherst\, MA\, 01002
CATEGORIES:Ages 3–5 or Grade Pre-K
END:VEVENT
BEGIN:VEVENT
DTSTART;TZID=America/New_York:20230414T130000
DTEND;TZID=America/New_York:20230414T150000
DTSTAMP:20260421T085006
CREATED:20221121T064238Z
LAST-MODIFIED:20221121T064238Z
UID:10003107-1681477200-1681484400@www.hitchcockcenter.org
SUMMARY:Nature Discovery Preschool: All About Birds
DESCRIPTION:Nature Discovery Spring Preschool Series: All About Birds\nWith Colleen Kelley\nAges 3-5 (Adult required to attend with child)\nFridays\, April 7 – June 16 ( no program April 21)\nMorning session: 9:30am-11:30 am\nAfternoon session: 1:00pm-3:00pm\nFee per child: Tier A-$434 | Tier B-$377 | Tier C-$321  | Tier D-$245\nLimited to 7 families. Limit of 2 children per adult. \nPlease note: This ten-week series will take place outdoors unless there is extreme weather.  \nCome welcome in Spring with a ten week series learning all about birds. What makes a bird a bird? What can we find out about feathers\, bird food\, flight\, bird communication\, nest building and more!! Through the use of puppets\, models\, stories\, movement and song we will learn together and then explore the local trails to connect to our local bird friends.
URL:https://www.hitchcockcenter.org/event/nature-discovery-preschool-all-about-birds-2/2023-04-14/
LOCATION:Hitchcock Center for the Environment\, 845 West Street\, Amherst\, MA\, 01002
CATEGORIES:Ages 3–5 or Grade Pre-K
END:VEVENT
BEGIN:VEVENT
DTSTART;TZID=America/New_York:20230428T093000
DTEND;TZID=America/New_York:20230428T113000
DTSTAMP:20260421T085006
CREATED:20221121T064011Z
LAST-MODIFIED:20221121T064011Z
UID:10003098-1682674200-1682681400@www.hitchcockcenter.org
SUMMARY:Nature Discovery Preschool: All About Birds
DESCRIPTION:Nature Discovery Spring Preschool Series: All About Birds\nWith Colleen Kelley\nAges 3-5 (Adult required to attend with child)\nFridays\, April 7 – June 16 ( no program April 21)\nMorning session: 9:30am-11:30 am\nAfternoon session: 1:00pm-3:00pm\nFee per child: Tier A-$434 | Tier B-$377 | Tier C-$321  | Tier D-$245\nLimited to 7 families. Limit of 2 children per adult. \nPlease note: This ten-week series will take place outdoors unless there is extreme weather.  \nCome welcome in Spring with a ten week series learning all about birds. What makes a bird a bird? What can we find out about feathers\, bird food\, flight\, bird communication\, nest building and more!! Through the use of puppets\, models\, stories\, movement and song we will learn together and then explore the local trails to connect to our local bird friends.
URL:https://www.hitchcockcenter.org/event/nature-discovery-preschool-all-about-birds/2023-04-28/
LOCATION:Hitchcock Center for the Environment\, 845 West Street\, Amherst\, MA\, 01002
CATEGORIES:Ages 3–5 or Grade Pre-K
END:VEVENT
BEGIN:VEVENT
DTSTART;TZID=America/New_York:20230428T130000
DTEND;TZID=America/New_York:20230428T150000
DTSTAMP:20260421T085006
CREATED:20221121T064238Z
LAST-MODIFIED:20221121T064238Z
UID:10003108-1682686800-1682694000@www.hitchcockcenter.org
SUMMARY:Nature Discovery Preschool: All About Birds
DESCRIPTION:Nature Discovery Spring Preschool Series: All About Birds\nWith Colleen Kelley\nAges 3-5 (Adult required to attend with child)\nFridays\, April 7 – June 16 ( no program April 21)\nMorning session: 9:30am-11:30 am\nAfternoon session: 1:00pm-3:00pm\nFee per child: Tier A-$434 | Tier B-$377 | Tier C-$321  | Tier D-$245\nLimited to 7 families. Limit of 2 children per adult. \nPlease note: This ten-week series will take place outdoors unless there is extreme weather.  \nCome welcome in Spring with a ten week series learning all about birds. What makes a bird a bird? What can we find out about feathers\, bird food\, flight\, bird communication\, nest building and more!! Through the use of puppets\, models\, stories\, movement and song we will learn together and then explore the local trails to connect to our local bird friends.
URL:https://www.hitchcockcenter.org/event/nature-discovery-preschool-all-about-birds-2/2023-04-28/
LOCATION:Hitchcock Center for the Environment\, 845 West Street\, Amherst\, MA\, 01002
CATEGORIES:Ages 3–5 or Grade Pre-K
END:VEVENT
END:VCALENDAR