BEGIN:VCALENDAR
VERSION:2.0
PRODID:-//Hitchcock Center for the Environment - ECPv6.15.18//NONSGML v1.0//EN
CALSCALE:GREGORIAN
METHOD:PUBLISH
X-ORIGINAL-URL:https://www.hitchcockcenter.org
X-WR-CALDESC:Events for Hitchcock Center for the Environment
REFRESH-INTERVAL;VALUE=DURATION:PT1H
X-Robots-Tag:noindex
X-PUBLISHED-TTL:PT1H
BEGIN:VTIMEZONE
TZID:America/New_York
BEGIN:DAYLIGHT
TZOFFSETFROM:-0500
TZOFFSETTO:-0400
TZNAME:EDT
DTSTART:20190310T070000
END:DAYLIGHT
BEGIN:STANDARD
TZOFFSETFROM:-0400
TZOFFSETTO:-0500
TZNAME:EST
DTSTART:20191103T060000
END:STANDARD
BEGIN:DAYLIGHT
TZOFFSETFROM:-0500
TZOFFSETTO:-0400
TZNAME:EDT
DTSTART:20200308T070000
END:DAYLIGHT
BEGIN:STANDARD
TZOFFSETFROM:-0400
TZOFFSETTO:-0500
TZNAME:EST
DTSTART:20201101T060000
END:STANDARD
BEGIN:DAYLIGHT
TZOFFSETFROM:-0500
TZOFFSETTO:-0400
TZNAME:EDT
DTSTART:20210314T070000
END:DAYLIGHT
BEGIN:STANDARD
TZOFFSETFROM:-0400
TZOFFSETTO:-0500
TZNAME:EST
DTSTART:20211107T060000
END:STANDARD
END:VTIMEZONE
BEGIN:VEVENT
DTSTART;TZID=America/New_York:20201030T100000
DTEND;TZID=America/New_York:20201030T113000
DTSTAMP:20260422T165931
CREATED:20200822T030126Z
LAST-MODIFIED:20200827T172136Z
UID:10001721-1604052000-1604057400@www.hitchcockcenter.org
SUMMARY:10:00-11:30am  Nature Discovery Preschool Adventure: Mouse Houses
DESCRIPTION:This award-winning adult and child preschool program–the adult accompanies their child(ren)–offers weekly outdoor exploration together combined with multi-modal learning experiences to foster wonder and curiosity about the natural world. Sign up for one or or more days and choose one of two time offerings: Friday mornings or afternoons. \nwith Colleen Kelley\nAges 3–5 or Grade Pre-K\nFridays\, 10:00–11:30am or 1–2:30pm\nSeptember 4–December 11\nFee per Child: Tier A-$18 per day | Tier B-$14 per day | Tier C-$10 per day | Tier D- $5\nFee per Adult: Tier A-$23 per day | Tier B-$18 per day | Tier C-$13 per day | Tier D- $7\nLimited to 12 participants (Limit of 2 children per adult.) \n\nSeptember 4: Beautiful Butterflies\nSeptember 11: Seed Surprises\nSeptember 25: Ladybug Love\nOctober 2: Leave it to Leaves\nOctober 9: Secret Soil Recipe\nOctober 30: Mouse Houses\nNovember 6: Squirrel Stories\nNovember 20: Bountiful Birds\nDecember 11: Animals Getting Ready for Winter
URL:https://www.hitchcockcenter.org/event/nature-discovery-preschool-adventure-mouse-houses/
CATEGORIES:Ages 3–5 or Grade Pre-K
END:VEVENT
BEGIN:VEVENT
DTSTART;TZID=America/New_York:20201009T130000
DTEND;TZID=America/New_York:20201009T143000
DTSTAMP:20260422T165931
CREATED:20200822T031258Z
LAST-MODIFIED:20200827T171824Z
UID:10001729-1602248400-1602253800@www.hitchcockcenter.org
SUMMARY:1:00-2:30pm  Nature Discovery Preschool Adventure: Secret Soil Recipe
DESCRIPTION:This award-winning adult and child preschool program–the adult accompanies their child(ren)–offers weekly outdoor exploration together combined with multi-modal learning experiences to foster wonder and curiosity about the natural world. Sign up for one or or more days and choose one of two time offerings: Friday mornings or afternoons. \nwith Colleen Kelley\nAges 3–5 or Grade Pre-K\nFridays\, 10:00–11:30am or 1–2:30pm\nSeptember 4–December 11\nFee per Child: Tier A-$18 per day | Tier B-$14 per day | Tier C-$10 per day | Tier D- $5\nFee per Adult: Tier A-$23 per day | Tier B-$18 per day | Tier C-$13 per day | Tier D- $7\nLimited to 12 participants (Limit of 2 children per adult.) \n\nSeptember 4: Beautiful Butterflies\nSeptember 11: Seed Surprises\nSeptember 25: Ladybug Love\nOctober 2: Leave it to Leaves\nOctober 9: Secret Soil Recipe\nOctober 30: Mouse Houses\nNovember 6: Squirrel Stories\nNovember 20: Bountiful Birds\nDecember 11: Animals Getting Ready for Winter
URL:https://www.hitchcockcenter.org/event/nature-discovery-preschool-adventure-secret-soil-recipe-2/
CATEGORIES:Ages 3–5 or Grade Pre-K
END:VEVENT
BEGIN:VEVENT
DTSTART;TZID=America/New_York:20201009T100000
DTEND;TZID=America/New_York:20201009T113000
DTSTAMP:20260422T165931
CREATED:20200924T165208Z
LAST-MODIFIED:20200924T165208Z
UID:10001916-1602237600-1602243000@www.hitchcockcenter.org
SUMMARY:10:00-11:30am  Nature Discovery Preschool Adventure: Secret Soil Recipe (In-person)
DESCRIPTION:This award-winning adult and child preschool program–the adult accompanies their child(ren)–offers weekly outdoor exploration together combined with multi-modal learning experiences to foster wonder and curiosity about the natural world. Sign up for one or or more days. \nwith Helen Ann Sephton\nAges 3–5 or Grade Pre-K\nSelected Fridays\, 10:00–11:30am\n\nFee per Child: Tier A-$18 per day | Tier B-$14 per day | Tier C-$10 per day | Tier D- $5\nFee per Adult: Tier A-$23 per day | Tier B-$18 per day | Tier C-$13 per day | Tier D- $7\nLimited to 12 participants (Limit of 2 children per adult.) \n\nOctober 9: Secret Soil Recipe\nOctober 30: Mouse Houses\nNovember 6: Squirrel Stories\nDecember 11: Animals Getting Ready for Winter
URL:https://www.hitchcockcenter.org/event/1000-1130am-nature-discovery-preschool-adventure-secret-soil-recipe-in-person/
CATEGORIES:Ages 3–5 or Grade Pre-K
END:VEVENT
BEGIN:VEVENT
DTSTART;TZID=America/New_York:20201009T100000
DTEND;TZID=America/New_York:20201009T113000
DTSTAMP:20260422T165932
CREATED:20200822T030023Z
LAST-MODIFIED:20200827T172213Z
UID:10001720-1602237600-1602243000@www.hitchcockcenter.org
SUMMARY:10:00-11:30am  Nature Discovery Preschool Adventure: Secret Soil Recipe
DESCRIPTION:This award-winning adult and child preschool program–the adult accompanies their child(ren)–offers weekly outdoor exploration together combined with multi-modal learning experiences to foster wonder and curiosity about the natural world. Sign up for one or or more days and choose one of two time offerings: Friday mornings or afternoons. \nwith Colleen Kelley\nAges 3–5 or Grade Pre-K\nFridays\, 10:00–11:30am or 1–2:30pm\nSeptember 4–December 11\nFee per Child: Tier A-$18 per day | Tier B-$14 per day | Tier C-$10 per day | Tier D- $5\nFee per Adult: Tier A-$23 per day | Tier B-$18 per day | Tier C-$13 per day | Tier D- $7\nLimited to 12 participants (Limit of 2 children per adult.) \n\nSeptember 4: Beautiful Butterflies\nSeptember 11: Seed Surprises\nSeptember 25: Ladybug Love\nOctober 2: Leave it to Leaves\nOctober 9: Secret Soil Recipe\nOctober 30: Mouse Houses\nNovember 6: Squirrel Stories\nNovember 20: Bountiful Birds\nDecember 11: Animals Getting Ready for Winter
URL:https://www.hitchcockcenter.org/event/nature-discovery-preschool-adventure-secret-soil-recipe/
CATEGORIES:Ages 3–5 or Grade Pre-K
END:VEVENT
BEGIN:VEVENT
DTSTART;TZID=America/New_York:20201008T100000
DTEND;TZID=America/New_York:20201008T120000
DTSTAMP:20260422T165932
CREATED:20200925T171719Z
LAST-MODIFIED:20200925T171719Z
UID:10001922-1602151200-1602158400@www.hitchcockcenter.org
SUMMARY:10:00am-12:00pm  Junior Nature Play (In-person)
DESCRIPTION:We are pleased to offer for the first time a new Nature Play program that includes kindergartners— Junior Nature Play! Children in kindergarten and first grade may sign up for this immersive\, lightly-structured program that lets kids be “free-range” while being safely supervised. Instructor Katie Koerten will lead us to our favorite places to play in the forest\, such as Stump Town\, the Ferns\, and the Faraway Woods. Each day includes games\, free play\, a story and snack time. \nwith Katie Koerten\nAges 5–7 or Grades K–1\nThursdays\, September 24–December 17  (No program November 5 and 26)\nFee per Child: Tier A-$432  | Tier B-$345  | Tier C-$259  | Tier D-$129\nLimited to 8 participants per day
URL:https://www.hitchcockcenter.org/event/1000am-1200pm-junior-nature-play-in-person-3/
CATEGORIES:Ages 3–5 or Grade Pre-K,Ages 5–8 or Grades K–3
END:VEVENT
BEGIN:VEVENT
DTSTART;TZID=America/New_York:20201002T130000
DTEND;TZID=America/New_York:20201002T143000
DTSTAMP:20260422T165932
CREATED:20200822T031154Z
LAST-MODIFIED:20200827T171851Z
UID:10001728-1601643600-1601649000@www.hitchcockcenter.org
SUMMARY:1:00-2:30pm  Nature Discovery Preschool Adventure: Leave it to Leaves
DESCRIPTION:This award-winning adult and child preschool program–the adult accompanies their child(ren)–offers weekly outdoor exploration together combined with multi-modal learning experiences to foster wonder and curiosity about the natural world. Sign up for one or or more days and choose one of two time offerings: Friday mornings or afternoons. \nwith Colleen Kelley\nAges 3–5 or Grade Pre-K\nFridays\, 10:00–11:30am or 1–2:30pm\nSeptember 4–December 11\nFee per Child: Tier A-$18 per day | Tier B-$14 per day | Tier C-$10 per day | Tier D- $5\nFee per Adult: Tier A-$23 per day | Tier B-$18 per day | Tier C-$13 per day | Tier D- $7\nLimited to 12 participants (Limit of 2 children per adult.) \n\nSeptember 4: Beautiful Butterflies\nSeptember 11: Seed Surprises\nSeptember 25: Ladybug Love\nOctober 2: Leave it to Leaves\nOctober 9: Secret Soil Recipe\nOctober 30: Mouse Houses\nNovember 6: Squirrel Stories\nNovember 20: Bountiful Birds\nDecember 11: Animals Getting Ready for Winter
URL:https://www.hitchcockcenter.org/event/nature-discovery-preschool-adventure-leave-it-to-leaves-2/
CATEGORIES:Ages 3–5 or Grade Pre-K
END:VEVENT
BEGIN:VEVENT
DTSTART;TZID=America/New_York:20201002T100000
DTEND;TZID=America/New_York:20201002T113000
DTSTAMP:20260422T165932
CREATED:20200822T025914Z
LAST-MODIFIED:20200827T172241Z
UID:10001719-1601632800-1601638200@www.hitchcockcenter.org
SUMMARY:10:00-11:30am  Nature Discovery Preschool Adventure: Leave it to Leaves
DESCRIPTION:This award-winning adult and child preschool program–the adult accompanies their child(ren)–offers weekly outdoor exploration together combined with multi-modal learning experiences to foster wonder and curiosity about the natural world. Sign up for one or or more days and choose one of two time offerings: Friday mornings or afternoons. \nwith Colleen Kelley\nAges 3–5 or Grade Pre-K\nFridays\, 10:00–11:30am or 1–2:30pm\nSeptember 4–December 11\nFee per Child: Tier A-$18 per day | Tier B-$14 per day | Tier C-$10 per day | Tier D- $5\nFee per Adult: Tier A-$23 per day | Tier B-$18 per day | Tier C-$13 per day | Tier D- $7\nLimited to 12 participants (Limit of 2 children per adult.) \n\nSeptember 4: Beautiful Butterflies\nSeptember 11: Seed Surprises\nSeptember 25: Ladybug Love\nOctober 2: Leave it to Leaves\nOctober 9: Secret Soil Recipe\nOctober 30: Mouse Houses\nNovember 6: Squirrel Stories\nNovember 20: Bountiful Birds\nDecember 11: Animals Getting Ready for Winter
URL:https://www.hitchcockcenter.org/event/nature-discovery-preschool-adventure-leave-it-to-leaves/
CATEGORIES:Ages 3–5 or Grade Pre-K
END:VEVENT
BEGIN:VEVENT
DTSTART;TZID=America/New_York:20201001T100000
DTEND;TZID=America/New_York:20201001T120000
DTSTAMP:20260422T165932
CREATED:20200925T171619Z
LAST-MODIFIED:20200925T171619Z
UID:10001921-1601546400-1601553600@www.hitchcockcenter.org
SUMMARY:10:00am-12:00pm  Junior Nature Play (In-person)
DESCRIPTION:We are pleased to offer for the first time a new Nature Play program that includes kindergartners— Junior Nature Play! Children in kindergarten and first grade may sign up for this immersive\, lightly-structured program that lets kids be “free-range” while being safely supervised. Instructor Katie Koerten will lead us to our favorite places to play in the forest\, such as Stump Town\, the Ferns\, and the Faraway Woods. Each day includes games\, free play\, a story and snack time. \nwith Katie Koerten\nAges 5–7 or Grades K–1\nThursdays\, September 24–December 17  (No program November 5 and 26)\nFee per Child: Tier A-$432  | Tier B-$345  | Tier C-$259  | Tier D-$129\nLimited to 8 participants per day
URL:https://www.hitchcockcenter.org/event/1000am-1200pm-junior-nature-play-in-person-2/
CATEGORIES:Ages 3–5 or Grade Pre-K
END:VEVENT
BEGIN:VEVENT
DTSTART;TZID=America/New_York:20200925T130000
DTEND;TZID=America/New_York:20200925T143000
DTSTAMP:20260422T165932
CREATED:20200822T031056Z
LAST-MODIFIED:20200827T171922Z
UID:10001727-1601038800-1601044200@www.hitchcockcenter.org
SUMMARY:1:00-2:30pm  Nature Discovery Preschool Adventure: Ladybug Love
DESCRIPTION:This award-winning adult and child preschool program–the adult accompanies their child(ren)–offers weekly outdoor exploration together combined with multi-modal learning experiences to foster wonder and curiosity about the natural world. Sign up for one or or more days and choose one of two time offerings: Friday mornings or afternoons. \nwith Colleen Kelley\nAges 3–5 or Grade Pre-K\nFridays\, 10:00–11:30am or 1–2:30pm\nSeptember 4–December 11\nFee per Child: Tier A-$18 per day | Tier B-$14 per day | Tier C-$10 per day | Tier D- $5\nFee per Adult: Tier A-$23 per day | Tier B-$18 per day | Tier C-$13 per day | Tier D- $7\nLimited to 12 participants (Limit of 2 children per adult.) \n\nSeptember 4: Beautiful Butterflies\nSeptember 11: Seed Surprises\nSeptember 25: Ladybug Love\nOctober 2: Leave it to Leaves\nOctober 9: Secret Soil Recipe\nOctober 30: Mouse Houses\nNovember 6: Squirrel Stories\nNovember 20: Bountiful Birds\nDecember 11: Animals Getting Ready for Winter
URL:https://www.hitchcockcenter.org/event/nature-discovery-preschool-adventure-ladybug-love-2/
CATEGORIES:Ages 3–5 or Grade Pre-K
END:VEVENT
BEGIN:VEVENT
DTSTART;TZID=America/New_York:20200925T100000
DTEND;TZID=America/New_York:20200925T113000
DTSTAMP:20260422T165932
CREATED:20200822T025820Z
LAST-MODIFIED:20200827T172313Z
UID:10001718-1601028000-1601033400@www.hitchcockcenter.org
SUMMARY:10:00-11:30am  Nature Discovery Preschool Adventure: Ladybug Love
DESCRIPTION:This award-winning adult and child preschool program–the adult accompanies their child(ren)–offers weekly outdoor exploration together combined with multi-modal learning experiences to foster wonder and curiosity about the natural world. Sign up for one or or more days and choose one of two time offerings: Friday mornings or afternoons. \nwith Colleen Kelley\nAges 3–5 or Grade Pre-K\nFridays\, 10:00–11:30am or 1–2:30pm\nSeptember 4–December 11\nFee per Child: Tier A-$18 per day | Tier B-$14 per day | Tier C-$10 per day | Tier D- $5\nFee per Adult: Tier A-$23 per day | Tier B-$18 per day | Tier C-$13 per day | Tier D- $7\nLimited to 12 participants (Limit of 2 children per adult.) \n\nSeptember 4: Beautiful Butterflies\nSeptember 11: Seed Surprises\nSeptember 25: Ladybug Love\nOctober 2: Leave it to Leaves\nOctober 9: Secret Soil Recipe\nOctober 30: Mouse Houses\nNovember 6: Squirrel Stories\nNovember 20: Bountiful Birds\nDecember 11: Animals Getting Ready for Winter
URL:https://www.hitchcockcenter.org/event/nature-discovery-preschool-adventure-ladybug-love/
CATEGORIES:Ages 3–5 or Grade Pre-K
END:VEVENT
BEGIN:VEVENT
DTSTART;TZID=America/New_York:20200924T100000
DTEND;TZID=America/New_York:20200924T120000
DTSTAMP:20260422T165932
CREATED:20200925T171510Z
LAST-MODIFIED:20200925T171510Z
UID:10001920-1600941600-1600948800@www.hitchcockcenter.org
SUMMARY:10:00am-12:00pm  Junior Nature Play (In-person)
DESCRIPTION:We are pleased to offer for the first time a new Nature Play program that includes kindergartners— Junior Nature Play! Children in kindergarten and first grade may sign up for this immersive\, lightly-structured program that lets kids be “free-range” while being safely supervised. Instructor Katie Koerten will lead us to our favorite places to play in the forest\, such as Stump Town\, the Ferns\, and the Faraway Woods. Each day includes games\, free play\, a story and snack time. \nwith Katie Koerten\nAges 5–7 or Grades K–1\nThursdays\, September 24–December 17  (No program November 5 and 26)\nFee per Child: Tier A-$432  | Tier B-$345  | Tier C-$259  | Tier D-$129\nLimited to 8 participants per day
URL:https://www.hitchcockcenter.org/event/1000am-1200pm-junior-nature-play-in-person/
CATEGORIES:Ages 3–5 or Grade Pre-K
END:VEVENT
BEGIN:VEVENT
DTSTART;TZID=America/New_York:20200911T130000
DTEND;TZID=America/New_York:20200911T143000
DTSTAMP:20260422T165932
CREATED:20200822T031003Z
LAST-MODIFIED:20200827T171326Z
UID:10001726-1599829200-1599834600@www.hitchcockcenter.org
SUMMARY:1:00-2:30pm  Nature Discovery Preschool Adventure: Seed Surprises
DESCRIPTION:This award-winning adult and child preschool program–the adult accompanies their child(ren)–offers weekly outdoor exploration together combined with multi-modal learning experiences to foster wonder and curiosity about the natural world. Sign up for one or or more days and choose one of two time offerings: Friday mornings or afternoons. \nwith Colleen Kelley\nAges 3–5 or Grade Pre-K\nFridays\, 10:00–11:30am or 1–2:30pm\nSeptember 4–December 11\nFee per Child: Tier A-$18 per day | Tier B-$14 per day | Tier C-$10 per day | Tier D- $5\nFee per Adult: Tier A-$23 per day | Tier B-$18 per day | Tier C-$13 per day | Tier D- $7\nLimited to 12 participants (Limit of 2 children per adult.) \n\nSeptember 4: Beautiful Butterflies\nSeptember 11: Seed Surprises\nSeptember 25: Ladybug Love\nOctober 2: Leave it to Leaves\nOctober 9: Secret Soil Recipe\nOctober 30: Mouse Houses\nNovember 6: Squirrel Stories\nNovember 20: Bountiful Birds\nDecember 11: Animals Getting Ready for Winter
URL:https://www.hitchcockcenter.org/event/nature-discovery-preschool-adventure-seed-surprises-2/
CATEGORIES:Ages 3–5 or Grade Pre-K
END:VEVENT
BEGIN:VEVENT
DTSTART;TZID=America/New_York:20200911T100000
DTEND;TZID=America/New_York:20200911T113000
DTSTAMP:20260422T165932
CREATED:20200822T025716Z
LAST-MODIFIED:20200827T171253Z
UID:10001717-1599818400-1599823800@www.hitchcockcenter.org
SUMMARY:10:00-11:30am  Nature Discovery Preschool Adventure: Seed Surprises
DESCRIPTION:This award-winning adult and child preschool program–the adult accompanies their child(ren)–offers weekly outdoor exploration together combined with multi-modal learning experiences to foster wonder and curiosity about the natural world. Sign up for one or or more days and choose one of two time offerings: Friday mornings or afternoons. \nwith Colleen Kelley\nAges 3–5 or Grade Pre-K\nFridays\, 10:00–11:30am or 1–2:30pm\nSeptember 4–December 11\nFee per Child: Tier A-$18 per day | Tier B-$14 per day | Tier C-$10 per day | Tier D- $5\nFee per Adult: Tier A-$23 per day | Tier B-$18 per day | Tier C-$13 per day | Tier D- $7\nLimited to 12 participants (Limit of 2 children per adult.) \n\nSeptember 4: Beautiful Butterflies\nSeptember 11: Seed Surprises\nSeptember 25: Ladybug Love\nOctober 2: Leave it to Leaves\nOctober 9: Secret Soil Recipe\nOctober 30: Mouse Houses\nNovember 6: Squirrel Stories\nNovember 20: Bountiful Birds\nDecember 11: Animals Getting Ready for Winter
URL:https://www.hitchcockcenter.org/event/nature-discovery-preschool-adventure-seed-surprises/
CATEGORIES:Ages 3–5 or Grade Pre-K
END:VEVENT
BEGIN:VEVENT
DTSTART;TZID=America/New_York:20200904T130000
DTEND;TZID=America/New_York:20200904T143000
DTSTAMP:20260422T165932
CREATED:20200822T030859Z
LAST-MODIFIED:20200827T171448Z
UID:10001725-1599224400-1599229800@www.hitchcockcenter.org
SUMMARY:1:00-2:30pm  Nature Discovery Preschool Adventure: Beautiful Butterflies
DESCRIPTION:This award-winning adult and child preschool program–the adult accompanies their child(ren)–offers weekly outdoor exploration together combined with multi-modal learning experiences to foster wonder and curiosity about the natural world. Sign up for one or or more days and choose one of two time offerings: Friday mornings or afternoons. \nwith Colleen Kelley\nAges 3–5 or Grade Pre-K\nFridays\, 10:00–11:30am or 1–2:30pm\nSeptember 4–December 11\nFee per Child: Tier A-$18 per day | Tier B-$14 per day | Tier C-$10 per day | Tier D- $5\nFee per Adult: Tier A-$23 per day | Tier B-$18 per day | Tier C-$13 per day | Tier D- $7\nLimited to 12 participants (Limit of 2 children per adult.) \n\nSeptember 4: Beautiful Butterflies\nSeptember 11: Seed Surprises\nSeptember 25: Ladybug Love\nOctober 2: Leave it to Leaves\nOctober 9: Secret Soil Recipe\nOctober 30: Mouse Houses\nNovember 6: Squirrel Stories\nNovember 20: Bountiful Birds\nDecember 11: Animals Getting Ready for Winter
URL:https://www.hitchcockcenter.org/event/nature-discovery-preschool-adventure-beautiful-butterflies-2/
CATEGORIES:Ages 3–5 or Grade Pre-K
END:VEVENT
BEGIN:VEVENT
DTSTART;TZID=America/New_York:20200904T100000
DTEND;TZID=America/New_York:20200904T113000
DTSTAMP:20260422T165932
CREATED:20200822T025616Z
LAST-MODIFIED:20200827T171413Z
UID:10001716-1599213600-1599219000@www.hitchcockcenter.org
SUMMARY:10:00-11:30am  Nature Discovery Preschool Adventure: Beautiful Butterflies
DESCRIPTION:This award-winning adult and child preschool program–the adult accompanies their child(ren)–offers weekly outdoor exploration together combined with multi-modal learning experiences to foster wonder and curiosity about the natural world. Sign up for one or or more days and choose one of two time offerings: Friday mornings or afternoons. \nwith Colleen Kelley\nAges 3–5 or Grade Pre-K\nFridays\, 10:00–11:30am or 1–2:30pm\nSeptember 4–December 11\nFee per Child: Tier A-$18 per day | Tier B-$14 per day | Tier C-$10 per day | Tier D- $5\nFee per Adult: Tier A-$23 per day | Tier B-$18 per day | Tier C-$13 per day | Tier D- $7\nLimited to 12 participants (Limit of 2 children per adult.) \n\nSeptember 4: Beautiful Butterflies\nSeptember 11: Seed Surprises\nSeptember 25: Ladybug Love\nOctober 2: Leave it to Leaves\nOctober 9: Secret Soil Recipe\nOctober 30: Mouse Houses\nNovember 6: Squirrel Stories\nNovember 20: Bountiful Birds\nDecember 11: Animals Getting Ready for Winter
URL:https://www.hitchcockcenter.org/event/nature-discovery-preschool-adventure-beautiful-butterflies/
CATEGORIES:Ages 3–5 or Grade Pre-K
END:VEVENT
END:VCALENDAR