BEGIN:VCALENDAR
VERSION:2.0
PRODID:-//Hitchcock Center for the Environment - ECPv6.15.18//NONSGML v1.0//EN
CALSCALE:GREGORIAN
METHOD:PUBLISH
X-WR-CALNAME:Hitchcock Center for the Environment
X-ORIGINAL-URL:https://www.hitchcockcenter.org
X-WR-CALDESC:Events for Hitchcock Center for the Environment
REFRESH-INTERVAL;VALUE=DURATION:PT1H
X-Robots-Tag:noindex
X-PUBLISHED-TTL:PT1H
BEGIN:VTIMEZONE
TZID:America/New_York
BEGIN:DAYLIGHT
TZOFFSETFROM:-0500
TZOFFSETTO:-0400
TZNAME:EDT
DTSTART:20220313T070000
END:DAYLIGHT
BEGIN:STANDARD
TZOFFSETFROM:-0400
TZOFFSETTO:-0500
TZNAME:EST
DTSTART:20221106T060000
END:STANDARD
BEGIN:DAYLIGHT
TZOFFSETFROM:-0500
TZOFFSETTO:-0400
TZNAME:EDT
DTSTART:20230312T070000
END:DAYLIGHT
BEGIN:STANDARD
TZOFFSETFROM:-0400
TZOFFSETTO:-0500
TZNAME:EST
DTSTART:20231105T060000
END:STANDARD
BEGIN:DAYLIGHT
TZOFFSETFROM:-0500
TZOFFSETTO:-0400
TZNAME:EDT
DTSTART:20240310T070000
END:DAYLIGHT
BEGIN:STANDARD
TZOFFSETFROM:-0400
TZOFFSETTO:-0500
TZNAME:EST
DTSTART:20241103T060000
END:STANDARD
END:VTIMEZONE
BEGIN:VEVENT
DTSTART;TZID=America/New_York:20230403T153000
DTEND;TZID=America/New_York:20230403T173000
DTSTAMP:20260422T060950
CREATED:20221121T073127Z
LAST-MODIFIED:20221121T073127Z
UID:10003216-1680535800-1680543000@www.hitchcockcenter.org
SUMMARY:Wild Children of the Woods
DESCRIPTION:WILD CHILDREN OF THE WOODS SERIES\nWith: Monya Relles\nAges 8-11 or Grades 3-5\nMondays 3:30-5:30\nMarch 20 – June 5 (no program April 17 and May 29)\nTier A:$234 Tier B:$203 Tier C:$173 Tier D:$132\nLimited to 13 participants \nWe go to the woods to think\, learn\, play\, and explore in this afterschool series for upper-elementary schoolers. We will roam the grounds of the Hitchcock Center as we watch the seasons change in our beautiful woods. We will visit stump city\, ferns\, and the far-away woods\, play some organized games\, and learn about the animals\, plants\, and life in these woods\, including ourselves.
URL:https://www.hitchcockcenter.org/event/wild-children-of-the-woods-32/2023-04-03/
LOCATION:Hitchcock Center for the Environment\, 845 West Street\, Amherst\, MA\, 01002
CATEGORIES:Ages 5–8/Grades K–3 or Ages 9–11/Grades 4–6
END:VEVENT
BEGIN:VEVENT
DTSTART;TZID=America/New_York:20230405T133000
DTEND;TZID=America/New_York:20230405T173000
DTSTAMP:20260422T060950
CREATED:20221130T210145Z
LAST-MODIFIED:20221130T210145Z
UID:10003259-1680701400-1680715800@www.hitchcockcenter.org
SUMMARY:Wild Children of the Woods
DESCRIPTION:WILD CHILDREN OF THE WOODS\nWith: Emily Schuttenberg\nAges 8-11 or Grades 3-5\nWednesdays 3:30-5:30\nMarch 22 – June 7 (no program April 19)\nExtended Days on March 22\, April 5\, May 10\nFee per Child: Tier A-$411 | Tier B-$357 | Tier C-$304 | Tier D-$232\nLimited to 13 participants \nWe go to the woods to think\, learn\, play\, and explore in this afterschool series for upper-elementary schoolers. We will roam the grounds of the Hitchcock Center as we watch the seasons change in our beautiful woods. We will visit stump city\, ferns\, and the far-away woods\, play some organized games\, and learn about the animals\, plants\, and life in these woods\, including ourselves.
URL:https://www.hitchcockcenter.org/event/wild-children-of-the-woods-33-3/
LOCATION:Hitchcock Center for the Environment\, 845 West Street\, Amherst\, MA\, 01002
CATEGORIES:Ages 5–8/Grades K–3 or Ages 9–11/Grades 4–6
END:VEVENT
BEGIN:VEVENT
DTSTART;TZID=America/New_York:20230406T153000
DTEND;TZID=America/New_York:20230406T173000
DTSTAMP:20260422T060950
CREATED:20221121T074717Z
LAST-MODIFIED:20221121T074717Z
UID:10003281-1680795000-1680802200@www.hitchcockcenter.org
SUMMARY:Girls into the Wild Afterschool
DESCRIPTION:GIRLS INTO THE WILD AFTERSCHOOL\nWith: Katie Koerten\nAges 8–11 or Grades 3–5\nThursdays\, 3:30-5:30pm\nMarch 23 – June 8 (no program April 20)\nFee per Child: Tier A-$325 | Tier B-$282| Tier C-$240 | Tier D-$183 \nGirls into the Wild continues into 2023 for more romping wildly through the field and forests of the Hitchcock Center. As always we’ll visit our favorite places to play in the forest\, such as Stump City\, the Ferns\, and the Faraway Woods – exploring the seasonal beauty of nature as we go. Play games\, make friends\, and create nature projects in the outdoors! Come build your confidence and show your wild side! Any young people with an experience of gender marginalization are welcome!
URL:https://www.hitchcockcenter.org/event/girls-into-the-wild-afterschool-17/2023-04-06/
LOCATION:Hitchcock Center for the Environment\, 845 West Street\, Amherst\, MA\, 01002
CATEGORIES:Ages 5–8/Grades K–3 or Ages 9–11/Grades 4–6
END:VEVENT
BEGIN:VEVENT
DTSTART;TZID=America/New_York:20230410T153000
DTEND;TZID=America/New_York:20230410T173000
DTSTAMP:20260422T060950
CREATED:20221121T073127Z
LAST-MODIFIED:20221121T073127Z
UID:10003217-1681140600-1681147800@www.hitchcockcenter.org
SUMMARY:Wild Children of the Woods
DESCRIPTION:WILD CHILDREN OF THE WOODS SERIES\nWith: Monya Relles\nAges 8-11 or Grades 3-5\nMondays 3:30-5:30\nMarch 20 – June 5 (no program April 17 and May 29)\nTier A:$234 Tier B:$203 Tier C:$173 Tier D:$132\nLimited to 13 participants \nWe go to the woods to think\, learn\, play\, and explore in this afterschool series for upper-elementary schoolers. We will roam the grounds of the Hitchcock Center as we watch the seasons change in our beautiful woods. We will visit stump city\, ferns\, and the far-away woods\, play some organized games\, and learn about the animals\, plants\, and life in these woods\, including ourselves.
URL:https://www.hitchcockcenter.org/event/wild-children-of-the-woods-32/2023-04-10/
LOCATION:Hitchcock Center for the Environment\, 845 West Street\, Amherst\, MA\, 01002
CATEGORIES:Ages 5–8/Grades K–3 or Ages 9–11/Grades 4–6
END:VEVENT
BEGIN:VEVENT
DTSTART;TZID=America/New_York:20230411T100000
DTEND;TZID=America/New_York:20230411T140000
DTSTAMP:20260422T060950
CREATED:20221121T071111Z
LAST-MODIFIED:20221121T071111Z
UID:10003144-1681207200-1681221600@www.hitchcockcenter.org
SUMMARY:Discovery Day: Amphibians of Spring
DESCRIPTION:Amphibians of Spring\nWith Jeff Mazur\nApril 11\, 2023 10am – 2pm\nAges 6-12 or grades 1 – 6\nTier A:$70 Tier B:$61 Tier C:$52 Tier D:$40\nLimited to 12 participants \nPeep! Peep! This is the time of year that our local amphibians wake up! On this day we will learn the major frog and toad species found in Massachusetts and the sounds they make. We’ll visit the vernal pool in the forest at the Hitchcock Center to look and listen for signs of peepers\, wood frogs\, and salamanders.
URL:https://www.hitchcockcenter.org/event/discovery-day-amphibians-of-spring/
LOCATION:Hitchcock Center for the Environment\, 845 West Street\, Amherst\, MA\, 01002
CATEGORIES:Ages 5–8/Grades K–3 or Ages 9–11/Grades 4–6
END:VEVENT
BEGIN:VEVENT
DTSTART;TZID=America/New_York:20230412T153000
DTEND;TZID=America/New_York:20230412T173000
DTSTAMP:20260422T060950
CREATED:20221121T074417Z
LAST-MODIFIED:20221121T074417Z
UID:10003260-1681313400-1681320600@www.hitchcockcenter.org
SUMMARY:Wild Children of the Woods
DESCRIPTION:WILD CHILDREN OF THE WOODS\nWith: Emily Schuttenberg\nAges 8-11 or Grades 3-5\nWednesdays 3:30-5:30\nMarch 22 – June 7 (no program April 19)\nExtended Days on March 22\, April 5\, May 10\nFee per Child: Tier A-$411 | Tier B-$357 | Tier C-$304 | Tier D-$232\nLimited to 13 participants \nWe go to the woods to think\, learn\, play\, and explore in this afterschool series for upper-elementary schoolers. We will roam the grounds of the Hitchcock Center as we watch the seasons change in our beautiful woods. We will visit stump city\, ferns\, and the far-away woods\, play some organized games\, and learn about the animals\, plants\, and life in these woods\, including ourselves.
URL:https://www.hitchcockcenter.org/event/wild-children-of-the-woods-33/2023-04-12/
LOCATION:Hitchcock Center for the Environment\, 845 West Street\, Amherst\, MA\, 01002
CATEGORIES:Ages 5–8/Grades K–3 or Ages 9–11/Grades 4–6
END:VEVENT
BEGIN:VEVENT
DTSTART;TZID=America/New_York:20230413T153000
DTEND;TZID=America/New_York:20230413T173000
DTSTAMP:20260422T060950
CREATED:20221121T074717Z
LAST-MODIFIED:20221121T074717Z
UID:10003282-1681399800-1681407000@www.hitchcockcenter.org
SUMMARY:Girls into the Wild Afterschool
DESCRIPTION:GIRLS INTO THE WILD AFTERSCHOOL\nWith: Katie Koerten\nAges 8–11 or Grades 3–5\nThursdays\, 3:30-5:30pm\nMarch 23 – June 8 (no program April 20)\nFee per Child: Tier A-$325 | Tier B-$282| Tier C-$240 | Tier D-$183 \nGirls into the Wild continues into 2023 for more romping wildly through the field and forests of the Hitchcock Center. As always we’ll visit our favorite places to play in the forest\, such as Stump City\, the Ferns\, and the Faraway Woods – exploring the seasonal beauty of nature as we go. Play games\, make friends\, and create nature projects in the outdoors! Come build your confidence and show your wild side! Any young people with an experience of gender marginalization are welcome!
URL:https://www.hitchcockcenter.org/event/girls-into-the-wild-afterschool-17/2023-04-13/
LOCATION:Hitchcock Center for the Environment\, 845 West Street\, Amherst\, MA\, 01002
CATEGORIES:Ages 5–8/Grades K–3 or Ages 9–11/Grades 4–6
END:VEVENT
BEGIN:VEVENT
DTSTART;TZID=America/New_York:20230417T084500
DTEND;TZID=America/New_York:20230417T150000
DTSTAMP:20260422T060950
CREATED:20221121T063445Z
LAST-MODIFIED:20221121T063445Z
UID:10003086-1681721100-1681743600@www.hitchcockcenter.org
SUMMARY:Spring Vacation Days
DESCRIPTION:SPRING VACATION DAYS 2023\nMonday through Friday\, April 17 – 21\n8:45am-3:00pm\nAge Groups:\nJumping Mice: Ages 5-6\, Grades K-1\nBrown Bats: Ages 6-8\, Grades 1-2\nGroundhogs: Ages 8-10\, Grades 3-5\nFee per child per day: Tier A-$93 | Tier B-$81 | Tier C-$69  | Tier D-$53 \nSpend your days off from school learning and playing outside at the Hitchcock Center! We’ll explore topics in spring ecology while playing games\, making crafts and spending time with our live animals. Sign up for as many days as you wish. Five-year olds must be in Kindergarten in order to participate. First graders may register for the K-1 age group or the 1-2 age group. Camp will be held outdoors as much as possible and masks will be worn if/when going inside.  Non-refundable within a week of the program\, all refunds incur a 10% administrative fee.\nLimited 12 Participants for Jumping Mice\nLimited to 15 participants for Brown Bats and Groundhogs
URL:https://www.hitchcockcenter.org/event/spring-vacation-days-6/2023-04-17/
LOCATION:Hitchcock Center for the Environment\, 845 West Street\, Amherst\, MA\, 01002
CATEGORIES:Ages 5–8/Grades K–3 or Ages 9–11/Grades 4–6
END:VEVENT
BEGIN:VEVENT
DTSTART;TZID=America/New_York:20230417T084500
DTEND;TZID=America/New_York:20230417T150000
DTSTAMP:20260422T060950
CREATED:20221121T063600Z
LAST-MODIFIED:20221121T063600Z
UID:10003091-1681721100-1681743600@www.hitchcockcenter.org
SUMMARY:Spring Vacation Days Aftercare
DESCRIPTION:SPRING VACATION DAYS 2023 AFTERCARE\nMonday through Friday\, April 17 – 21\n3:00pm – 5:30pm\nOne Group: Ages 5-10\, Grades K-5\nFee per child per day: Tier A-$40 | Tier B-$35 | Tier C-$29  | Tier D-$23 \nNature Play time after hours with some down time!
URL:https://www.hitchcockcenter.org/event/spring-vacation-days-aftercare/2023-04-17/
LOCATION:Hitchcock Center for the Environment\, 845 West Street\, Amherst\, MA\, 01002
CATEGORIES:Ages 5–8/Grades K–3 or Ages 9–11/Grades 4–6
END:VEVENT
BEGIN:VEVENT
DTSTART;TZID=America/New_York:20230418T084500
DTEND;TZID=America/New_York:20230418T150000
DTSTAMP:20260422T060950
CREATED:20221121T063445Z
LAST-MODIFIED:20221121T063445Z
UID:10003087-1681807500-1681830000@www.hitchcockcenter.org
SUMMARY:Spring Vacation Days
DESCRIPTION:SPRING VACATION DAYS 2023\nMonday through Friday\, April 17 – 21\n8:45am-3:00pm\nAge Groups:\nJumping Mice: Ages 5-6\, Grades K-1\nBrown Bats: Ages 6-8\, Grades 1-2\nGroundhogs: Ages 8-10\, Grades 3-5\nFee per child per day: Tier A-$93 | Tier B-$81 | Tier C-$69  | Tier D-$53 \nSpend your days off from school learning and playing outside at the Hitchcock Center! We’ll explore topics in spring ecology while playing games\, making crafts and spending time with our live animals. Sign up for as many days as you wish. Five-year olds must be in Kindergarten in order to participate. First graders may register for the K-1 age group or the 1-2 age group. Camp will be held outdoors as much as possible and masks will be worn if/when going inside.  Non-refundable within a week of the program\, all refunds incur a 10% administrative fee.\nLimited 12 Participants for Jumping Mice\nLimited to 15 participants for Brown Bats and Groundhogs
URL:https://www.hitchcockcenter.org/event/spring-vacation-days-6/2023-04-18/
LOCATION:Hitchcock Center for the Environment\, 845 West Street\, Amherst\, MA\, 01002
CATEGORIES:Ages 5–8/Grades K–3 or Ages 9–11/Grades 4–6
END:VEVENT
BEGIN:VEVENT
DTSTART;TZID=America/New_York:20230418T084500
DTEND;TZID=America/New_York:20230418T150000
DTSTAMP:20260422T060950
CREATED:20221121T063600Z
LAST-MODIFIED:20221121T063600Z
UID:10003092-1681807500-1681830000@www.hitchcockcenter.org
SUMMARY:Spring Vacation Days Aftercare
DESCRIPTION:SPRING VACATION DAYS 2023 AFTERCARE\nMonday through Friday\, April 17 – 21\n3:00pm – 5:30pm\nOne Group: Ages 5-10\, Grades K-5\nFee per child per day: Tier A-$40 | Tier B-$35 | Tier C-$29  | Tier D-$23 \nNature Play time after hours with some down time!
URL:https://www.hitchcockcenter.org/event/spring-vacation-days-aftercare/2023-04-18/
LOCATION:Hitchcock Center for the Environment\, 845 West Street\, Amherst\, MA\, 01002
CATEGORIES:Ages 5–8/Grades K–3 or Ages 9–11/Grades 4–6
END:VEVENT
BEGIN:VEVENT
DTSTART;TZID=America/New_York:20230419T084500
DTEND;TZID=America/New_York:20230419T150000
DTSTAMP:20260422T060950
CREATED:20221121T063445Z
LAST-MODIFIED:20221121T063445Z
UID:10003088-1681893900-1681916400@www.hitchcockcenter.org
SUMMARY:Spring Vacation Days
DESCRIPTION:SPRING VACATION DAYS 2023\nMonday through Friday\, April 17 – 21\n8:45am-3:00pm\nAge Groups:\nJumping Mice: Ages 5-6\, Grades K-1\nBrown Bats: Ages 6-8\, Grades 1-2\nGroundhogs: Ages 8-10\, Grades 3-5\nFee per child per day: Tier A-$93 | Tier B-$81 | Tier C-$69  | Tier D-$53 \nSpend your days off from school learning and playing outside at the Hitchcock Center! We’ll explore topics in spring ecology while playing games\, making crafts and spending time with our live animals. Sign up for as many days as you wish. Five-year olds must be in Kindergarten in order to participate. First graders may register for the K-1 age group or the 1-2 age group. Camp will be held outdoors as much as possible and masks will be worn if/when going inside.  Non-refundable within a week of the program\, all refunds incur a 10% administrative fee.\nLimited 12 Participants for Jumping Mice\nLimited to 15 participants for Brown Bats and Groundhogs
URL:https://www.hitchcockcenter.org/event/spring-vacation-days-6/2023-04-19/
LOCATION:Hitchcock Center for the Environment\, 845 West Street\, Amherst\, MA\, 01002
CATEGORIES:Ages 5–8/Grades K–3 or Ages 9–11/Grades 4–6
END:VEVENT
BEGIN:VEVENT
DTSTART;TZID=America/New_York:20230419T084500
DTEND;TZID=America/New_York:20230419T150000
DTSTAMP:20260422T060950
CREATED:20221121T063600Z
LAST-MODIFIED:20221121T063600Z
UID:10003093-1681893900-1681916400@www.hitchcockcenter.org
SUMMARY:Spring Vacation Days Aftercare
DESCRIPTION:SPRING VACATION DAYS 2023 AFTERCARE\nMonday through Friday\, April 17 – 21\n3:00pm – 5:30pm\nOne Group: Ages 5-10\, Grades K-5\nFee per child per day: Tier A-$40 | Tier B-$35 | Tier C-$29  | Tier D-$23 \nNature Play time after hours with some down time!
URL:https://www.hitchcockcenter.org/event/spring-vacation-days-aftercare/2023-04-19/
LOCATION:Hitchcock Center for the Environment\, 845 West Street\, Amherst\, MA\, 01002
CATEGORIES:Ages 5–8/Grades K–3 or Ages 9–11/Grades 4–6
END:VEVENT
BEGIN:VEVENT
DTSTART;TZID=America/New_York:20230420T084500
DTEND;TZID=America/New_York:20230420T150000
DTSTAMP:20260422T060950
CREATED:20221121T063445Z
LAST-MODIFIED:20221121T063445Z
UID:10003089-1681980300-1682002800@www.hitchcockcenter.org
SUMMARY:Spring Vacation Days
DESCRIPTION:SPRING VACATION DAYS 2023\nMonday through Friday\, April 17 – 21\n8:45am-3:00pm\nAge Groups:\nJumping Mice: Ages 5-6\, Grades K-1\nBrown Bats: Ages 6-8\, Grades 1-2\nGroundhogs: Ages 8-10\, Grades 3-5\nFee per child per day: Tier A-$93 | Tier B-$81 | Tier C-$69  | Tier D-$53 \nSpend your days off from school learning and playing outside at the Hitchcock Center! We’ll explore topics in spring ecology while playing games\, making crafts and spending time with our live animals. Sign up for as many days as you wish. Five-year olds must be in Kindergarten in order to participate. First graders may register for the K-1 age group or the 1-2 age group. Camp will be held outdoors as much as possible and masks will be worn if/when going inside.  Non-refundable within a week of the program\, all refunds incur a 10% administrative fee.\nLimited 12 Participants for Jumping Mice\nLimited to 15 participants for Brown Bats and Groundhogs
URL:https://www.hitchcockcenter.org/event/spring-vacation-days-6/2023-04-20/
LOCATION:Hitchcock Center for the Environment\, 845 West Street\, Amherst\, MA\, 01002
CATEGORIES:Ages 5–8/Grades K–3 or Ages 9–11/Grades 4–6
END:VEVENT
BEGIN:VEVENT
DTSTART;TZID=America/New_York:20230420T084500
DTEND;TZID=America/New_York:20230420T150000
DTSTAMP:20260422T060950
CREATED:20221121T063600Z
LAST-MODIFIED:20221121T063600Z
UID:10003094-1681980300-1682002800@www.hitchcockcenter.org
SUMMARY:Spring Vacation Days Aftercare
DESCRIPTION:SPRING VACATION DAYS 2023 AFTERCARE\nMonday through Friday\, April 17 – 21\n3:00pm – 5:30pm\nOne Group: Ages 5-10\, Grades K-5\nFee per child per day: Tier A-$40 | Tier B-$35 | Tier C-$29  | Tier D-$23 \nNature Play time after hours with some down time!
URL:https://www.hitchcockcenter.org/event/spring-vacation-days-aftercare/2023-04-20/
LOCATION:Hitchcock Center for the Environment\, 845 West Street\, Amherst\, MA\, 01002
CATEGORIES:Ages 5–8/Grades K–3 or Ages 9–11/Grades 4–6
END:VEVENT
BEGIN:VEVENT
DTSTART;TZID=America/New_York:20230421T084500
DTEND;TZID=America/New_York:20230421T150000
DTSTAMP:20260422T060950
CREATED:20221121T063445Z
LAST-MODIFIED:20221121T063445Z
UID:10003090-1682066700-1682089200@www.hitchcockcenter.org
SUMMARY:Spring Vacation Days
DESCRIPTION:SPRING VACATION DAYS 2023\nMonday through Friday\, April 17 – 21\n8:45am-3:00pm\nAge Groups:\nJumping Mice: Ages 5-6\, Grades K-1\nBrown Bats: Ages 6-8\, Grades 1-2\nGroundhogs: Ages 8-10\, Grades 3-5\nFee per child per day: Tier A-$93 | Tier B-$81 | Tier C-$69  | Tier D-$53 \nSpend your days off from school learning and playing outside at the Hitchcock Center! We’ll explore topics in spring ecology while playing games\, making crafts and spending time with our live animals. Sign up for as many days as you wish. Five-year olds must be in Kindergarten in order to participate. First graders may register for the K-1 age group or the 1-2 age group. Camp will be held outdoors as much as possible and masks will be worn if/when going inside.  Non-refundable within a week of the program\, all refunds incur a 10% administrative fee.\nLimited 12 Participants for Jumping Mice\nLimited to 15 participants for Brown Bats and Groundhogs
URL:https://www.hitchcockcenter.org/event/spring-vacation-days-6/2023-04-21/
LOCATION:Hitchcock Center for the Environment\, 845 West Street\, Amherst\, MA\, 01002
CATEGORIES:Ages 5–8/Grades K–3 or Ages 9–11/Grades 4–6
END:VEVENT
BEGIN:VEVENT
DTSTART;TZID=America/New_York:20230421T084500
DTEND;TZID=America/New_York:20230421T150000
DTSTAMP:20260422T060950
CREATED:20221121T063600Z
LAST-MODIFIED:20221121T063600Z
UID:10003095-1682066700-1682089200@www.hitchcockcenter.org
SUMMARY:Spring Vacation Days Aftercare
DESCRIPTION:SPRING VACATION DAYS 2023 AFTERCARE\nMonday through Friday\, April 17 – 21\n3:00pm – 5:30pm\nOne Group: Ages 5-10\, Grades K-5\nFee per child per day: Tier A-$40 | Tier B-$35 | Tier C-$29  | Tier D-$23 \nNature Play time after hours with some down time!
URL:https://www.hitchcockcenter.org/event/spring-vacation-days-aftercare/2023-04-21/
LOCATION:Hitchcock Center for the Environment\, 845 West Street\, Amherst\, MA\, 01002
CATEGORIES:Ages 5–8/Grades K–3 or Ages 9–11/Grades 4–6
END:VEVENT
BEGIN:VEVENT
DTSTART;TZID=America/New_York:20230424T153000
DTEND;TZID=America/New_York:20230424T173000
DTSTAMP:20260422T060950
CREATED:20221121T073127Z
LAST-MODIFIED:20221121T073127Z
UID:10003218-1682350200-1682357400@www.hitchcockcenter.org
SUMMARY:Wild Children of the Woods
DESCRIPTION:WILD CHILDREN OF THE WOODS SERIES\nWith: Monya Relles\nAges 8-11 or Grades 3-5\nMondays 3:30-5:30\nMarch 20 – June 5 (no program April 17 and May 29)\nTier A:$234 Tier B:$203 Tier C:$173 Tier D:$132\nLimited to 13 participants \nWe go to the woods to think\, learn\, play\, and explore in this afterschool series for upper-elementary schoolers. We will roam the grounds of the Hitchcock Center as we watch the seasons change in our beautiful woods. We will visit stump city\, ferns\, and the far-away woods\, play some organized games\, and learn about the animals\, plants\, and life in these woods\, including ourselves.
URL:https://www.hitchcockcenter.org/event/wild-children-of-the-woods-32/2023-04-24/
LOCATION:Hitchcock Center for the Environment\, 845 West Street\, Amherst\, MA\, 01002
CATEGORIES:Ages 5–8/Grades K–3 or Ages 9–11/Grades 4–6
END:VEVENT
BEGIN:VEVENT
DTSTART;TZID=America/New_York:20230426T153000
DTEND;TZID=America/New_York:20230426T173000
DTSTAMP:20260422T060950
CREATED:20221121T074417Z
LAST-MODIFIED:20221121T074417Z
UID:10003261-1682523000-1682530200@www.hitchcockcenter.org
SUMMARY:Wild Children of the Woods
DESCRIPTION:WILD CHILDREN OF THE WOODS\nWith: Emily Schuttenberg\nAges 8-11 or Grades 3-5\nWednesdays 3:30-5:30\nMarch 22 – June 7 (no program April 19)\nExtended Days on March 22\, April 5\, May 10\nFee per Child: Tier A-$411 | Tier B-$357 | Tier C-$304 | Tier D-$232\nLimited to 13 participants \nWe go to the woods to think\, learn\, play\, and explore in this afterschool series for upper-elementary schoolers. We will roam the grounds of the Hitchcock Center as we watch the seasons change in our beautiful woods. We will visit stump city\, ferns\, and the far-away woods\, play some organized games\, and learn about the animals\, plants\, and life in these woods\, including ourselves.
URL:https://www.hitchcockcenter.org/event/wild-children-of-the-woods-33/2023-04-26/
LOCATION:Hitchcock Center for the Environment\, 845 West Street\, Amherst\, MA\, 01002
CATEGORIES:Ages 5–8/Grades K–3 or Ages 9–11/Grades 4–6
END:VEVENT
BEGIN:VEVENT
DTSTART;TZID=America/New_York:20230427T153000
DTEND;TZID=America/New_York:20230427T173000
DTSTAMP:20260422T060950
CREATED:20221121T074717Z
LAST-MODIFIED:20221121T074717Z
UID:10003283-1682609400-1682616600@www.hitchcockcenter.org
SUMMARY:Girls into the Wild Afterschool
DESCRIPTION:GIRLS INTO THE WILD AFTERSCHOOL\nWith: Katie Koerten\nAges 8–11 or Grades 3–5\nThursdays\, 3:30-5:30pm\nMarch 23 – June 8 (no program April 20)\nFee per Child: Tier A-$325 | Tier B-$282| Tier C-$240 | Tier D-$183 \nGirls into the Wild continues into 2023 for more romping wildly through the field and forests of the Hitchcock Center. As always we’ll visit our favorite places to play in the forest\, such as Stump City\, the Ferns\, and the Faraway Woods – exploring the seasonal beauty of nature as we go. Play games\, make friends\, and create nature projects in the outdoors! Come build your confidence and show your wild side! Any young people with an experience of gender marginalization are welcome!
URL:https://www.hitchcockcenter.org/event/girls-into-the-wild-afterschool-17/2023-04-27/
LOCATION:Hitchcock Center for the Environment\, 845 West Street\, Amherst\, MA\, 01002
CATEGORIES:Ages 5–8/Grades K–3 or Ages 9–11/Grades 4–6
END:VEVENT
END:VCALENDAR