BEGIN:VCALENDAR
VERSION:2.0
PRODID:-//Hitchcock Center for the Environment - ECPv6.15.18//NONSGML v1.0//EN
CALSCALE:GREGORIAN
METHOD:PUBLISH
X-ORIGINAL-URL:https://www.hitchcockcenter.org
X-WR-CALDESC:Events for Hitchcock Center for the Environment
REFRESH-INTERVAL;VALUE=DURATION:PT1H
X-Robots-Tag:noindex
X-PUBLISHED-TTL:PT1H
BEGIN:VTIMEZONE
TZID:America/New_York
BEGIN:DAYLIGHT
TZOFFSETFROM:-0500
TZOFFSETTO:-0400
TZNAME:EDT
DTSTART:20220313T070000
END:DAYLIGHT
BEGIN:STANDARD
TZOFFSETFROM:-0400
TZOFFSETTO:-0500
TZNAME:EST
DTSTART:20221106T060000
END:STANDARD
BEGIN:DAYLIGHT
TZOFFSETFROM:-0500
TZOFFSETTO:-0400
TZNAME:EDT
DTSTART:20230312T070000
END:DAYLIGHT
BEGIN:STANDARD
TZOFFSETFROM:-0400
TZOFFSETTO:-0500
TZNAME:EST
DTSTART:20231105T060000
END:STANDARD
BEGIN:DAYLIGHT
TZOFFSETFROM:-0500
TZOFFSETTO:-0400
TZNAME:EDT
DTSTART:20240310T070000
END:DAYLIGHT
BEGIN:STANDARD
TZOFFSETFROM:-0400
TZOFFSETTO:-0500
TZNAME:EST
DTSTART:20241103T060000
END:STANDARD
END:VTIMEZONE
BEGIN:VEVENT
DTSTART;TZID=America/New_York:20230601T153000
DTEND;TZID=America/New_York:20230601T173000
DTSTAMP:20260420T102647
CREATED:20221121T074717Z
LAST-MODIFIED:20221121T074717Z
UID:10003288-1685633400-1685640600@www.hitchcockcenter.org
SUMMARY:Girls into the Wild Afterschool
DESCRIPTION:GIRLS INTO THE WILD AFTERSCHOOL\nWith: Katie Koerten\nAges 8–11 or Grades 3–5\nThursdays\, 3:30-5:30pm\nMarch 23 – June 8 (no program April 20)\nFee per Child: Tier A-$325 | Tier B-$282| Tier C-$240 | Tier D-$183 \nGirls into the Wild continues into 2023 for more romping wildly through the field and forests of the Hitchcock Center. As always we’ll visit our favorite places to play in the forest\, such as Stump City\, the Ferns\, and the Faraway Woods – exploring the seasonal beauty of nature as we go. Play games\, make friends\, and create nature projects in the outdoors! Come build your confidence and show your wild side! Any young people with an experience of gender marginalization are welcome!
URL:https://www.hitchcockcenter.org/event/girls-into-the-wild-afterschool-17/2023-06-01/
LOCATION:Hitchcock Center for the Environment\, 845 West Street\, Amherst\, MA\, 01002
CATEGORIES:Ages 5–8/Grades K–3 or Ages 9–11/Grades 4–6
END:VEVENT
BEGIN:VEVENT
DTSTART;TZID=America/New_York:20230605T153000
DTEND;TZID=America/New_York:20230605T173000
DTSTAMP:20260420T102647
CREATED:20221121T073127Z
LAST-MODIFIED:20221121T073127Z
UID:10003223-1685979000-1685986200@www.hitchcockcenter.org
SUMMARY:Wild Children of the Woods
DESCRIPTION:WILD CHILDREN OF THE WOODS SERIES\nWith: Monya Relles\nAges 8-11 or Grades 3-5\nMondays 3:30-5:30\nMarch 20 – June 5 (no program April 17 and May 29)\nTier A:$234 Tier B:$203 Tier C:$173 Tier D:$132\nLimited to 13 participants \nWe go to the woods to think\, learn\, play\, and explore in this afterschool series for upper-elementary schoolers. We will roam the grounds of the Hitchcock Center as we watch the seasons change in our beautiful woods. We will visit stump city\, ferns\, and the far-away woods\, play some organized games\, and learn about the animals\, plants\, and life in these woods\, including ourselves.
URL:https://www.hitchcockcenter.org/event/wild-children-of-the-woods-32/2023-06-05/
LOCATION:Hitchcock Center for the Environment\, 845 West Street\, Amherst\, MA\, 01002
CATEGORIES:Ages 5–8/Grades K–3 or Ages 9–11/Grades 4–6
END:VEVENT
BEGIN:VEVENT
DTSTART;TZID=America/New_York:20230606T100000
DTEND;TZID=America/New_York:20230606T140000
DTSTAMP:20260420T102647
CREATED:20221121T071203Z
LAST-MODIFIED:20221121T071203Z
UID:10003145-1686045600-1686060000@www.hitchcockcenter.org
SUMMARY:Discovery Day: Life in a Pond
DESCRIPTION:Life in a Pond\nWith Emily Schuttenberg\nJune 6\, 2023 10am – 2pm\nAges 6-12 or grades 1- 6\nTier A:$70 Tier B:$61 Tier C:$52 Tier D:$40\nLimited to 12 participants \nLiving in the pond isn’t easy\, but dragonfly nymphs\, whirligig beetles\, and giant water bugs have what it takes! At this class we’ll learn about the amazing adaptations that aquatic insects have to survive\, then we’ll take the PVTA to Bramble Hill Farm to collect and observe a wonderful diversity of live specimens.
URL:https://www.hitchcockcenter.org/event/discovery-day-life-in-a-pond/
LOCATION:Hitchcock Center for the Environment\, 845 West Street\, Amherst\, MA\, 01002
CATEGORIES:Ages 5–8/Grades K–3 or Ages 9–11/Grades 4–6
END:VEVENT
BEGIN:VEVENT
DTSTART;TZID=America/New_York:20230607T153000
DTEND;TZID=America/New_York:20230607T173000
DTSTAMP:20260420T102647
CREATED:20221121T074417Z
LAST-MODIFIED:20221121T074417Z
UID:10003267-1686151800-1686159000@www.hitchcockcenter.org
SUMMARY:Wild Children of the Woods
DESCRIPTION:WILD CHILDREN OF THE WOODS\nWith: Emily Schuttenberg\nAges 8-11 or Grades 3-5\nWednesdays 3:30-5:30\nMarch 22 – June 7 (no program April 19)\nExtended Days on March 22\, April 5\, May 10\nFee per Child: Tier A-$411 | Tier B-$357 | Tier C-$304 | Tier D-$232\nLimited to 13 participants \nWe go to the woods to think\, learn\, play\, and explore in this afterschool series for upper-elementary schoolers. We will roam the grounds of the Hitchcock Center as we watch the seasons change in our beautiful woods. We will visit stump city\, ferns\, and the far-away woods\, play some organized games\, and learn about the animals\, plants\, and life in these woods\, including ourselves.
URL:https://www.hitchcockcenter.org/event/wild-children-of-the-woods-33/2023-06-07/
LOCATION:Hitchcock Center for the Environment\, 845 West Street\, Amherst\, MA\, 01002
CATEGORIES:Ages 5–8/Grades K–3 or Ages 9–11/Grades 4–6
END:VEVENT
BEGIN:VEVENT
DTSTART;TZID=America/New_York:20230608T153000
DTEND;TZID=America/New_York:20230608T173000
DTSTAMP:20260420T102647
CREATED:20221121T074717Z
LAST-MODIFIED:20221121T074717Z
UID:10003289-1686238200-1686245400@www.hitchcockcenter.org
SUMMARY:Girls into the Wild Afterschool
DESCRIPTION:GIRLS INTO THE WILD AFTERSCHOOL\nWith: Katie Koerten\nAges 8–11 or Grades 3–5\nThursdays\, 3:30-5:30pm\nMarch 23 – June 8 (no program April 20)\nFee per Child: Tier A-$325 | Tier B-$282| Tier C-$240 | Tier D-$183 \nGirls into the Wild continues into 2023 for more romping wildly through the field and forests of the Hitchcock Center. As always we’ll visit our favorite places to play in the forest\, such as Stump City\, the Ferns\, and the Faraway Woods – exploring the seasonal beauty of nature as we go. Play games\, make friends\, and create nature projects in the outdoors! Come build your confidence and show your wild side! Any young people with an experience of gender marginalization are welcome!
URL:https://www.hitchcockcenter.org/event/girls-into-the-wild-afterschool-17/2023-06-08/
LOCATION:Hitchcock Center for the Environment\, 845 West Street\, Amherst\, MA\, 01002
CATEGORIES:Ages 5–8/Grades K–3 or Ages 9–11/Grades 4–6
END:VEVENT
BEGIN:VEVENT
DTSTART;TZID=America/New_York:20230626T084500
DTEND;TZID=America/New_York:20230626T150000
DTSTAMP:20260420T102647
CREATED:20230131T163957Z
LAST-MODIFIED:20230131T163957Z
UID:10003308-1687769100-1687791600@www.hitchcockcenter.org
SUMMARY:Nature Summer Camp: Making and Tinkering
DESCRIPTION:Making and Tinkering\nYoung Naturalists: Entering grades 1-2\nEco-investigators: Entering grades 3-4\nNature Explorers: Entering grades 5-6 \nMondays-Fridays\, 8:45am-3pm\nSession 1: June 26 – June 30 (one week)\nSession 4: July 24 – August 4 (two weeks)\n \nFees for the 1 week session: Tier A $509; Tier B $424; Tier C $360; Tier D $276\nFees for the 2 week session: Tier A $958; Tier B $798; Tier C $678; Tier D $519 \nBecome a nature-inspired inventor! Campers will spend this week outdoors exploring science and biomimicry\, and then applying what they learn to create! And yes\, chain reaction machines (a.k.a. Rube Goldberg machines) will be part of the fun too! Through investigation and play\, campers will discover nature’s smartest lessons and use them to playfully solve problems. By learning from the world around us\, we can become sustainable engineers! For the two week session there will be more to explore and field trips.
URL:https://www.hitchcockcenter.org/event/nature-summer-camp-making-and-tinkering-12/2023-06-26/
LOCATION:Hitchcock Center for the Environment\, 845 West Street\, Amherst\, MA\, 01002
CATEGORIES:Ages 5–8/Grades K–3 or Ages 9–11/Grades 4–6
END:VEVENT
BEGIN:VEVENT
DTSTART;TZID=America/New_York:20230627T084500
DTEND;TZID=America/New_York:20230627T150000
DTSTAMP:20260420T102647
CREATED:20230131T163957Z
LAST-MODIFIED:20230131T163957Z
UID:10003309-1687855500-1687878000@www.hitchcockcenter.org
SUMMARY:Nature Summer Camp: Making and Tinkering
DESCRIPTION:Making and Tinkering\nYoung Naturalists: Entering grades 1-2\nEco-investigators: Entering grades 3-4\nNature Explorers: Entering grades 5-6 \nMondays-Fridays\, 8:45am-3pm\nSession 1: June 26 – June 30 (one week)\nSession 4: July 24 – August 4 (two weeks)\n \nFees for the 1 week session: Tier A $509; Tier B $424; Tier C $360; Tier D $276\nFees for the 2 week session: Tier A $958; Tier B $798; Tier C $678; Tier D $519 \nBecome a nature-inspired inventor! Campers will spend this week outdoors exploring science and biomimicry\, and then applying what they learn to create! And yes\, chain reaction machines (a.k.a. Rube Goldberg machines) will be part of the fun too! Through investigation and play\, campers will discover nature’s smartest lessons and use them to playfully solve problems. By learning from the world around us\, we can become sustainable engineers! For the two week session there will be more to explore and field trips.
URL:https://www.hitchcockcenter.org/event/nature-summer-camp-making-and-tinkering-12/2023-06-27/
LOCATION:Hitchcock Center for the Environment\, 845 West Street\, Amherst\, MA\, 01002
CATEGORIES:Ages 5–8/Grades K–3 or Ages 9–11/Grades 4–6
END:VEVENT
BEGIN:VEVENT
DTSTART;TZID=America/New_York:20230628T084500
DTEND;TZID=America/New_York:20230628T150000
DTSTAMP:20260420T102647
CREATED:20230131T163957Z
LAST-MODIFIED:20230131T163957Z
UID:10003310-1687941900-1687964400@www.hitchcockcenter.org
SUMMARY:Nature Summer Camp: Making and Tinkering
DESCRIPTION:Making and Tinkering\nYoung Naturalists: Entering grades 1-2\nEco-investigators: Entering grades 3-4\nNature Explorers: Entering grades 5-6 \nMondays-Fridays\, 8:45am-3pm\nSession 1: June 26 – June 30 (one week)\nSession 4: July 24 – August 4 (two weeks)\n \nFees for the 1 week session: Tier A $509; Tier B $424; Tier C $360; Tier D $276\nFees for the 2 week session: Tier A $958; Tier B $798; Tier C $678; Tier D $519 \nBecome a nature-inspired inventor! Campers will spend this week outdoors exploring science and biomimicry\, and then applying what they learn to create! And yes\, chain reaction machines (a.k.a. Rube Goldberg machines) will be part of the fun too! Through investigation and play\, campers will discover nature’s smartest lessons and use them to playfully solve problems. By learning from the world around us\, we can become sustainable engineers! For the two week session there will be more to explore and field trips.
URL:https://www.hitchcockcenter.org/event/nature-summer-camp-making-and-tinkering-12/2023-06-28/
LOCATION:Hitchcock Center for the Environment\, 845 West Street\, Amherst\, MA\, 01002
CATEGORIES:Ages 5–8/Grades K–3 or Ages 9–11/Grades 4–6
END:VEVENT
BEGIN:VEVENT
DTSTART;TZID=America/New_York:20230629T084500
DTEND;TZID=America/New_York:20230629T150000
DTSTAMP:20260420T102647
CREATED:20230131T163957Z
LAST-MODIFIED:20230131T163957Z
UID:10003311-1688028300-1688050800@www.hitchcockcenter.org
SUMMARY:Nature Summer Camp: Making and Tinkering
DESCRIPTION:Making and Tinkering\nYoung Naturalists: Entering grades 1-2\nEco-investigators: Entering grades 3-4\nNature Explorers: Entering grades 5-6 \nMondays-Fridays\, 8:45am-3pm\nSession 1: June 26 – June 30 (one week)\nSession 4: July 24 – August 4 (two weeks)\n \nFees for the 1 week session: Tier A $509; Tier B $424; Tier C $360; Tier D $276\nFees for the 2 week session: Tier A $958; Tier B $798; Tier C $678; Tier D $519 \nBecome a nature-inspired inventor! Campers will spend this week outdoors exploring science and biomimicry\, and then applying what they learn to create! And yes\, chain reaction machines (a.k.a. Rube Goldberg machines) will be part of the fun too! Through investigation and play\, campers will discover nature’s smartest lessons and use them to playfully solve problems. By learning from the world around us\, we can become sustainable engineers! For the two week session there will be more to explore and field trips.
URL:https://www.hitchcockcenter.org/event/nature-summer-camp-making-and-tinkering-12/2023-06-29/
LOCATION:Hitchcock Center for the Environment\, 845 West Street\, Amherst\, MA\, 01002
CATEGORIES:Ages 5–8/Grades K–3 or Ages 9–11/Grades 4–6
END:VEVENT
BEGIN:VEVENT
DTSTART;TZID=America/New_York:20230630T084500
DTEND;TZID=America/New_York:20230630T150000
DTSTAMP:20260420T102647
CREATED:20230131T163957Z
LAST-MODIFIED:20230131T163957Z
UID:10003312-1688114700-1688137200@www.hitchcockcenter.org
SUMMARY:Nature Summer Camp: Making and Tinkering
DESCRIPTION:Making and Tinkering\nYoung Naturalists: Entering grades 1-2\nEco-investigators: Entering grades 3-4\nNature Explorers: Entering grades 5-6 \nMondays-Fridays\, 8:45am-3pm\nSession 1: June 26 – June 30 (one week)\nSession 4: July 24 – August 4 (two weeks)\n \nFees for the 1 week session: Tier A $509; Tier B $424; Tier C $360; Tier D $276\nFees for the 2 week session: Tier A $958; Tier B $798; Tier C $678; Tier D $519 \nBecome a nature-inspired inventor! Campers will spend this week outdoors exploring science and biomimicry\, and then applying what they learn to create! And yes\, chain reaction machines (a.k.a. Rube Goldberg machines) will be part of the fun too! Through investigation and play\, campers will discover nature’s smartest lessons and use them to playfully solve problems. By learning from the world around us\, we can become sustainable engineers! For the two week session there will be more to explore and field trips.
URL:https://www.hitchcockcenter.org/event/nature-summer-camp-making-and-tinkering-12/2023-06-30/
LOCATION:Hitchcock Center for the Environment\, 845 West Street\, Amherst\, MA\, 01002
CATEGORIES:Ages 5–8/Grades K–3 or Ages 9–11/Grades 4–6
END:VEVENT
END:VCALENDAR