BEGIN:VCALENDAR
VERSION:2.0
PRODID:-//Hitchcock Center for the Environment - ECPv6.15.18//NONSGML v1.0//EN
CALSCALE:GREGORIAN
METHOD:PUBLISH
X-ORIGINAL-URL:https://www.hitchcockcenter.org
X-WR-CALDESC:Events for Hitchcock Center for the Environment
REFRESH-INTERVAL;VALUE=DURATION:PT1H
X-Robots-Tag:noindex
X-PUBLISHED-TTL:PT1H
BEGIN:VTIMEZONE
TZID:America/New_York
BEGIN:DAYLIGHT
TZOFFSETFROM:-0500
TZOFFSETTO:-0400
TZNAME:EDT
DTSTART:20220313T070000
END:DAYLIGHT
BEGIN:STANDARD
TZOFFSETFROM:-0400
TZOFFSETTO:-0500
TZNAME:EST
DTSTART:20221106T060000
END:STANDARD
BEGIN:DAYLIGHT
TZOFFSETFROM:-0500
TZOFFSETTO:-0400
TZNAME:EDT
DTSTART:20230312T070000
END:DAYLIGHT
BEGIN:STANDARD
TZOFFSETFROM:-0400
TZOFFSETTO:-0500
TZNAME:EST
DTSTART:20231105T060000
END:STANDARD
BEGIN:DAYLIGHT
TZOFFSETFROM:-0500
TZOFFSETTO:-0400
TZNAME:EDT
DTSTART:20240310T070000
END:DAYLIGHT
BEGIN:STANDARD
TZOFFSETFROM:-0400
TZOFFSETTO:-0500
TZNAME:EST
DTSTART:20241103T060000
END:STANDARD
END:VTIMEZONE
BEGIN:VEVENT
DTSTART;TZID=America/New_York:20230801T084500
DTEND;TZID=America/New_York:20230801T150000
DTSTAMP:20260420T082237
CREATED:20230131T164136Z
LAST-MODIFIED:20230131T164136Z
UID:10003319-1690879500-1690902000@www.hitchcockcenter.org
SUMMARY:Nature Summer Camp: Making and Tinkering
DESCRIPTION:Making and Tinkering\nYoung Naturalists: Entering grades 1-2\nEco-investigators: Entering grades 3-4\nNature Explorers: Entering grades 5-6 \nMondays-Fridays\, 8:45am-3pm\nSession 1: June 26 – June 30 (one week)\nSession 4: July 24 – August 4 (two weeks)\n \nFees for the 1 week session: Tier A $509; Tier B $424; Tier C $360; Tier D $276\nFees for the 2 week session: Tier A $958; Tier B $798; Tier C $678; Tier D $519 \nBecome a nature-inspired inventor! Campers will spend this week outdoors exploring science and biomimicry\, and then applying what they learn to create! And yes\, chain reaction machines (a.k.a. Rube Goldberg machines) will be part of the fun too! Through investigation and play\, campers will discover nature’s smartest lessons and use them to playfully solve problems. By learning from the world around us\, we can become sustainable engineers! For the two week session there will be more to explore and field trips.
URL:https://www.hitchcockcenter.org/event/nature-summer-camp-making-and-tinkering-13/2023-08-01/
LOCATION:Hitchcock Center for the Environment\, 845 West Street\, Amherst\, MA\, 01002
CATEGORIES:Ages 5–8/Grades K–3 or Ages 9–11/Grades 4–6
END:VEVENT
BEGIN:VEVENT
DTSTART;TZID=America/New_York:20230802T084500
DTEND;TZID=America/New_York:20230802T150000
DTSTAMP:20260420T082237
CREATED:20230131T164136Z
LAST-MODIFIED:20230131T164136Z
UID:10003320-1690965900-1690988400@www.hitchcockcenter.org
SUMMARY:Nature Summer Camp: Making and Tinkering
DESCRIPTION:Making and Tinkering\nYoung Naturalists: Entering grades 1-2\nEco-investigators: Entering grades 3-4\nNature Explorers: Entering grades 5-6 \nMondays-Fridays\, 8:45am-3pm\nSession 1: June 26 – June 30 (one week)\nSession 4: July 24 – August 4 (two weeks)\n \nFees for the 1 week session: Tier A $509; Tier B $424; Tier C $360; Tier D $276\nFees for the 2 week session: Tier A $958; Tier B $798; Tier C $678; Tier D $519 \nBecome a nature-inspired inventor! Campers will spend this week outdoors exploring science and biomimicry\, and then applying what they learn to create! And yes\, chain reaction machines (a.k.a. Rube Goldberg machines) will be part of the fun too! Through investigation and play\, campers will discover nature’s smartest lessons and use them to playfully solve problems. By learning from the world around us\, we can become sustainable engineers! For the two week session there will be more to explore and field trips.
URL:https://www.hitchcockcenter.org/event/nature-summer-camp-making-and-tinkering-13/2023-08-02/
LOCATION:Hitchcock Center for the Environment\, 845 West Street\, Amherst\, MA\, 01002
CATEGORIES:Ages 5–8/Grades K–3 or Ages 9–11/Grades 4–6
END:VEVENT
BEGIN:VEVENT
DTSTART;TZID=America/New_York:20230803T084500
DTEND;TZID=America/New_York:20230803T150000
DTSTAMP:20260420T082237
CREATED:20230131T164136Z
LAST-MODIFIED:20230131T164136Z
UID:10003321-1691052300-1691074800@www.hitchcockcenter.org
SUMMARY:Nature Summer Camp: Making and Tinkering
DESCRIPTION:Making and Tinkering\nYoung Naturalists: Entering grades 1-2\nEco-investigators: Entering grades 3-4\nNature Explorers: Entering grades 5-6 \nMondays-Fridays\, 8:45am-3pm\nSession 1: June 26 – June 30 (one week)\nSession 4: July 24 – August 4 (two weeks)\n \nFees for the 1 week session: Tier A $509; Tier B $424; Tier C $360; Tier D $276\nFees for the 2 week session: Tier A $958; Tier B $798; Tier C $678; Tier D $519 \nBecome a nature-inspired inventor! Campers will spend this week outdoors exploring science and biomimicry\, and then applying what they learn to create! And yes\, chain reaction machines (a.k.a. Rube Goldberg machines) will be part of the fun too! Through investigation and play\, campers will discover nature’s smartest lessons and use them to playfully solve problems. By learning from the world around us\, we can become sustainable engineers! For the two week session there will be more to explore and field trips.
URL:https://www.hitchcockcenter.org/event/nature-summer-camp-making-and-tinkering-13/2023-08-03/
LOCATION:Hitchcock Center for the Environment\, 845 West Street\, Amherst\, MA\, 01002
CATEGORIES:Ages 5–8/Grades K–3 or Ages 9–11/Grades 4–6
END:VEVENT
BEGIN:VEVENT
DTSTART;TZID=America/New_York:20230804T084500
DTEND;TZID=America/New_York:20230804T150000
DTSTAMP:20260420T082237
CREATED:20230131T164136Z
LAST-MODIFIED:20230131T164136Z
UID:10003322-1691138700-1691161200@www.hitchcockcenter.org
SUMMARY:Nature Summer Camp: Making and Tinkering
DESCRIPTION:Making and Tinkering\nYoung Naturalists: Entering grades 1-2\nEco-investigators: Entering grades 3-4\nNature Explorers: Entering grades 5-6 \nMondays-Fridays\, 8:45am-3pm\nSession 1: June 26 – June 30 (one week)\nSession 4: July 24 – August 4 (two weeks)\n \nFees for the 1 week session: Tier A $509; Tier B $424; Tier C $360; Tier D $276\nFees for the 2 week session: Tier A $958; Tier B $798; Tier C $678; Tier D $519 \nBecome a nature-inspired inventor! Campers will spend this week outdoors exploring science and biomimicry\, and then applying what they learn to create! And yes\, chain reaction machines (a.k.a. Rube Goldberg machines) will be part of the fun too! Through investigation and play\, campers will discover nature’s smartest lessons and use them to playfully solve problems. By learning from the world around us\, we can become sustainable engineers! For the two week session there will be more to explore and field trips.
URL:https://www.hitchcockcenter.org/event/nature-summer-camp-making-and-tinkering-13/2023-08-04/
LOCATION:Hitchcock Center for the Environment\, 845 West Street\, Amherst\, MA\, 01002
CATEGORIES:Ages 5–8/Grades K–3 or Ages 9–11/Grades 4–6
END:VEVENT
BEGIN:VEVENT
DTSTART;TZID=America/New_York:20230807T084500
DTEND;TZID=America/New_York:20230807T150000
DTSTAMP:20260420T082237
CREATED:20230131T164920Z
LAST-MODIFIED:20230131T164920Z
UID:10003338-1691397900-1691420400@www.hitchcockcenter.org
SUMMARY:Nature Summer Camp: Woodland Magic and Mysteries
DESCRIPTION:Woodland Magic and Mysteries\nYoung Naturalists: Entering grades 1-2\nEco-investigators: Entering grades 3-4\nNature Explorers: Entering grades 5-6 \nMondays-Fridays\, 8:45am-3pm\nSession 3: July 17 – July 21 (one week)\nSession 5: August 7 – August 11 (one week) \nFees for 1 week session: Tier A $509; Tier B $424; Tier C $360; Tier D $276\n \nNature is magic. It protects us\, gives us air to breathe\, food to eat\, and hidden places to rest in the forest. In Woodland Magic and Mysteries\, we’ll use our imagination and creativity to assist with problem solving and learning from the earth to build fairy houses\, solve mysteries and challenges and become nature wizards by performing science experiments.
URL:https://www.hitchcockcenter.org/event/nature-summer-camp-woodland-magic-and-mysteries-2/2023-08-07/
LOCATION:Hitchcock Center for the Environment\, 845 West Street\, Amherst\, MA\, 01002
CATEGORIES:Ages 5–8/Grades K–3 or Ages 9–11/Grades 4–6
END:VEVENT
BEGIN:VEVENT
DTSTART;TZID=America/New_York:20230808T084500
DTEND;TZID=America/New_York:20230808T150000
DTSTAMP:20260420T082237
CREATED:20230131T164920Z
LAST-MODIFIED:20230131T164920Z
UID:10003339-1691484300-1691506800@www.hitchcockcenter.org
SUMMARY:Nature Summer Camp: Woodland Magic and Mysteries
DESCRIPTION:Woodland Magic and Mysteries\nYoung Naturalists: Entering grades 1-2\nEco-investigators: Entering grades 3-4\nNature Explorers: Entering grades 5-6 \nMondays-Fridays\, 8:45am-3pm\nSession 3: July 17 – July 21 (one week)\nSession 5: August 7 – August 11 (one week) \nFees for 1 week session: Tier A $509; Tier B $424; Tier C $360; Tier D $276\n \nNature is magic. It protects us\, gives us air to breathe\, food to eat\, and hidden places to rest in the forest. In Woodland Magic and Mysteries\, we’ll use our imagination and creativity to assist with problem solving and learning from the earth to build fairy houses\, solve mysteries and challenges and become nature wizards by performing science experiments.
URL:https://www.hitchcockcenter.org/event/nature-summer-camp-woodland-magic-and-mysteries-2/2023-08-08/
LOCATION:Hitchcock Center for the Environment\, 845 West Street\, Amherst\, MA\, 01002
CATEGORIES:Ages 5–8/Grades K–3 or Ages 9–11/Grades 4–6
END:VEVENT
BEGIN:VEVENT
DTSTART;TZID=America/New_York:20230809T084500
DTEND;TZID=America/New_York:20230809T150000
DTSTAMP:20260420T082237
CREATED:20230131T164920Z
LAST-MODIFIED:20230131T164920Z
UID:10003340-1691570700-1691593200@www.hitchcockcenter.org
SUMMARY:Nature Summer Camp: Woodland Magic and Mysteries
DESCRIPTION:Woodland Magic and Mysteries\nYoung Naturalists: Entering grades 1-2\nEco-investigators: Entering grades 3-4\nNature Explorers: Entering grades 5-6 \nMondays-Fridays\, 8:45am-3pm\nSession 3: July 17 – July 21 (one week)\nSession 5: August 7 – August 11 (one week) \nFees for 1 week session: Tier A $509; Tier B $424; Tier C $360; Tier D $276\n \nNature is magic. It protects us\, gives us air to breathe\, food to eat\, and hidden places to rest in the forest. In Woodland Magic and Mysteries\, we’ll use our imagination and creativity to assist with problem solving and learning from the earth to build fairy houses\, solve mysteries and challenges and become nature wizards by performing science experiments.
URL:https://www.hitchcockcenter.org/event/nature-summer-camp-woodland-magic-and-mysteries-2/2023-08-09/
LOCATION:Hitchcock Center for the Environment\, 845 West Street\, Amherst\, MA\, 01002
CATEGORIES:Ages 5–8/Grades K–3 or Ages 9–11/Grades 4–6
END:VEVENT
BEGIN:VEVENT
DTSTART;TZID=America/New_York:20230810T084500
DTEND;TZID=America/New_York:20230810T150000
DTSTAMP:20260420T082237
CREATED:20230131T164920Z
LAST-MODIFIED:20230131T164920Z
UID:10003341-1691657100-1691679600@www.hitchcockcenter.org
SUMMARY:Nature Summer Camp: Woodland Magic and Mysteries
DESCRIPTION:Woodland Magic and Mysteries\nYoung Naturalists: Entering grades 1-2\nEco-investigators: Entering grades 3-4\nNature Explorers: Entering grades 5-6 \nMondays-Fridays\, 8:45am-3pm\nSession 3: July 17 – July 21 (one week)\nSession 5: August 7 – August 11 (one week) \nFees for 1 week session: Tier A $509; Tier B $424; Tier C $360; Tier D $276\n \nNature is magic. It protects us\, gives us air to breathe\, food to eat\, and hidden places to rest in the forest. In Woodland Magic and Mysteries\, we’ll use our imagination and creativity to assist with problem solving and learning from the earth to build fairy houses\, solve mysteries and challenges and become nature wizards by performing science experiments.
URL:https://www.hitchcockcenter.org/event/nature-summer-camp-woodland-magic-and-mysteries-2/2023-08-10/
LOCATION:Hitchcock Center for the Environment\, 845 West Street\, Amherst\, MA\, 01002
CATEGORIES:Ages 5–8/Grades K–3 or Ages 9–11/Grades 4–6
END:VEVENT
BEGIN:VEVENT
DTSTART;TZID=America/New_York:20230811T084500
DTEND;TZID=America/New_York:20230811T150000
DTSTAMP:20260420T082237
CREATED:20230131T164920Z
LAST-MODIFIED:20230131T164920Z
UID:10003342-1691743500-1691766000@www.hitchcockcenter.org
SUMMARY:Nature Summer Camp: Woodland Magic and Mysteries
DESCRIPTION:Woodland Magic and Mysteries\nYoung Naturalists: Entering grades 1-2\nEco-investigators: Entering grades 3-4\nNature Explorers: Entering grades 5-6 \nMondays-Fridays\, 8:45am-3pm\nSession 3: July 17 – July 21 (one week)\nSession 5: August 7 – August 11 (one week) \nFees for 1 week session: Tier A $509; Tier B $424; Tier C $360; Tier D $276\n \nNature is magic. It protects us\, gives us air to breathe\, food to eat\, and hidden places to rest in the forest. In Woodland Magic and Mysteries\, we’ll use our imagination and creativity to assist with problem solving and learning from the earth to build fairy houses\, solve mysteries and challenges and become nature wizards by performing science experiments.
URL:https://www.hitchcockcenter.org/event/nature-summer-camp-woodland-magic-and-mysteries-2/2023-08-11/
LOCATION:Hitchcock Center for the Environment\, 845 West Street\, Amherst\, MA\, 01002
CATEGORIES:Ages 5–8/Grades K–3 or Ages 9–11/Grades 4–6
END:VEVENT
END:VCALENDAR