BEGIN:VCALENDAR
VERSION:2.0
PRODID:-//Hitchcock Center for the Environment - ECPv6.15.18//NONSGML v1.0//EN
CALSCALE:GREGORIAN
METHOD:PUBLISH
X-WR-CALNAME:Hitchcock Center for the Environment
X-ORIGINAL-URL:https://www.hitchcockcenter.org
X-WR-CALDESC:Events for Hitchcock Center for the Environment
REFRESH-INTERVAL;VALUE=DURATION:PT1H
X-Robots-Tag:noindex
X-PUBLISHED-TTL:PT1H
BEGIN:VTIMEZONE
TZID:America/New_York
BEGIN:DAYLIGHT
TZOFFSETFROM:-0500
TZOFFSETTO:-0400
TZNAME:EDT
DTSTART:20220313T070000
END:DAYLIGHT
BEGIN:STANDARD
TZOFFSETFROM:-0400
TZOFFSETTO:-0500
TZNAME:EST
DTSTART:20221106T060000
END:STANDARD
BEGIN:DAYLIGHT
TZOFFSETFROM:-0500
TZOFFSETTO:-0400
TZNAME:EDT
DTSTART:20230312T070000
END:DAYLIGHT
BEGIN:STANDARD
TZOFFSETFROM:-0400
TZOFFSETTO:-0500
TZNAME:EST
DTSTART:20231105T060000
END:STANDARD
BEGIN:DAYLIGHT
TZOFFSETFROM:-0500
TZOFFSETTO:-0400
TZNAME:EDT
DTSTART:20240310T070000
END:DAYLIGHT
BEGIN:STANDARD
TZOFFSETFROM:-0400
TZOFFSETTO:-0500
TZNAME:EST
DTSTART:20241103T060000
END:STANDARD
END:VTIMEZONE
BEGIN:VEVENT
DTSTART;TZID=America/New_York:20230907T153000
DTEND;TZID=America/New_York:20230907T173000
DTSTAMP:20260420T071848
CREATED:20230531T201029Z
LAST-MODIFIED:20230531T201029Z
UID:10003514-1694100600-1694107800@www.hitchcockcenter.org
SUMMARY:Girls into the Wild
DESCRIPTION:GIRLS INTO THE WILD AFTERSCHOOL  \nwith Katie Koerten\nAges 9-12 or Grades 4-6\nThursdays\, 3:30-5:30pm\nSeptember 7 – December 21 (*Extended day Oct 26\, no program November 23)\nFee per Child: Tier A-$480 | Tier B-$400| Tier C-$340  | Tier D-$260\nLimited to 12 participants \nGirls into the Wild is back in Fall 2023 for more romping wildly through the field and forests of the Hitchcock Center. Please note the age adjustment: GITW has shifted to be for students in grades 4 through 6. As always we’ll visit our favorite places to play in the forest\, such as Stump City\, the Ferns\, and the Faraway Woods – exploring the seasonal beauty of nature as we go. Play games\, make friends\, and create nature projects outdoors! Come build your confidence and show your wild side! Genderqueer\, nonbinary\, agender and trans young people are welcome! *Extended day hours on Oct 26 are 1pm-5:30pm due to early release for Amherst Public Schools.
URL:https://www.hitchcockcenter.org/event/girls-into-the-wild-130/2023-09-07/
CATEGORIES:Ages 5–8/Grades K–3 or Ages 9–11/Grades 4–6
END:VEVENT
BEGIN:VEVENT
DTSTART;TZID=America/New_York:20230911T153000
DTEND;TZID=America/New_York:20230911T173000
DTSTAMP:20260420T071848
CREATED:20230531T200256Z
LAST-MODIFIED:20230531T200256Z
UID:10003456-1694446200-1694453400@www.hitchcockcenter.org
SUMMARY:Wild Children of the Woods
DESCRIPTION:WILD CHILDREN OF THE WOODS SERIES \nWith Monya Relles\nAges 8-11 or Grades 3-5\nMondays\, 3:30-5:30pm\nSeptember 11 – December 18 (no program September 25 and October 9)\nTier A:$393 Tier B:$327 Tier C:$278 Tier D:$213\nLimited to 12 participants \nWe go to the woods to think\, learn\, play\, and explore in this afterschool series for upper-elementary schoolers. We will roam the grounds of the Hitchcock Center as we watch Fall turn to Winter. We will visit stump city\, ferns\, and the far-away woods\, play some organized games\, and learn about the animals\, plants\, and life in these woods\, including ourselves.
URL:https://www.hitchcockcenter.org/event/wild-children-of-the-woods-34/2023-09-11/
CATEGORIES:Ages 5–8/Grades K–3 or Ages 9–11/Grades 4–6
END:VEVENT
BEGIN:VEVENT
DTSTART;TZID=America/New_York:20230914T153000
DTEND;TZID=America/New_York:20230914T173000
DTSTAMP:20260420T071848
CREATED:20230531T201029Z
LAST-MODIFIED:20230531T201029Z
UID:10003515-1694705400-1694712600@www.hitchcockcenter.org
SUMMARY:Girls into the Wild
DESCRIPTION:GIRLS INTO THE WILD AFTERSCHOOL  \nwith Katie Koerten\nAges 9-12 or Grades 4-6\nThursdays\, 3:30-5:30pm\nSeptember 7 – December 21 (*Extended day Oct 26\, no program November 23)\nFee per Child: Tier A-$480 | Tier B-$400| Tier C-$340  | Tier D-$260\nLimited to 12 participants \nGirls into the Wild is back in Fall 2023 for more romping wildly through the field and forests of the Hitchcock Center. Please note the age adjustment: GITW has shifted to be for students in grades 4 through 6. As always we’ll visit our favorite places to play in the forest\, such as Stump City\, the Ferns\, and the Faraway Woods – exploring the seasonal beauty of nature as we go. Play games\, make friends\, and create nature projects outdoors! Come build your confidence and show your wild side! Genderqueer\, nonbinary\, agender and trans young people are welcome! *Extended day hours on Oct 26 are 1pm-5:30pm due to early release for Amherst Public Schools.
URL:https://www.hitchcockcenter.org/event/girls-into-the-wild-130/2023-09-14/
CATEGORIES:Ages 5–8/Grades K–3 or Ages 9–11/Grades 4–6
END:VEVENT
BEGIN:VEVENT
DTSTART;TZID=America/New_York:20230918T153000
DTEND;TZID=America/New_York:20230918T173000
DTSTAMP:20260420T071848
CREATED:20230531T200256Z
LAST-MODIFIED:20230531T200256Z
UID:10003457-1695051000-1695058200@www.hitchcockcenter.org
SUMMARY:Wild Children of the Woods
DESCRIPTION:WILD CHILDREN OF THE WOODS SERIES \nWith Monya Relles\nAges 8-11 or Grades 3-5\nMondays\, 3:30-5:30pm\nSeptember 11 – December 18 (no program September 25 and October 9)\nTier A:$393 Tier B:$327 Tier C:$278 Tier D:$213\nLimited to 12 participants \nWe go to the woods to think\, learn\, play\, and explore in this afterschool series for upper-elementary schoolers. We will roam the grounds of the Hitchcock Center as we watch Fall turn to Winter. We will visit stump city\, ferns\, and the far-away woods\, play some organized games\, and learn about the animals\, plants\, and life in these woods\, including ourselves.
URL:https://www.hitchcockcenter.org/event/wild-children-of-the-woods-34/2023-09-18/
CATEGORIES:Ages 5–8/Grades K–3 or Ages 9–11/Grades 4–6
END:VEVENT
BEGIN:VEVENT
DTSTART;TZID=America/New_York:20230921T153000
DTEND;TZID=America/New_York:20230921T173000
DTSTAMP:20260420T071848
CREATED:20230531T201029Z
LAST-MODIFIED:20230531T201029Z
UID:10003516-1695310200-1695317400@www.hitchcockcenter.org
SUMMARY:Girls into the Wild
DESCRIPTION:GIRLS INTO THE WILD AFTERSCHOOL  \nwith Katie Koerten\nAges 9-12 or Grades 4-6\nThursdays\, 3:30-5:30pm\nSeptember 7 – December 21 (*Extended day Oct 26\, no program November 23)\nFee per Child: Tier A-$480 | Tier B-$400| Tier C-$340  | Tier D-$260\nLimited to 12 participants \nGirls into the Wild is back in Fall 2023 for more romping wildly through the field and forests of the Hitchcock Center. Please note the age adjustment: GITW has shifted to be for students in grades 4 through 6. As always we’ll visit our favorite places to play in the forest\, such as Stump City\, the Ferns\, and the Faraway Woods – exploring the seasonal beauty of nature as we go. Play games\, make friends\, and create nature projects outdoors! Come build your confidence and show your wild side! Genderqueer\, nonbinary\, agender and trans young people are welcome! *Extended day hours on Oct 26 are 1pm-5:30pm due to early release for Amherst Public Schools.
URL:https://www.hitchcockcenter.org/event/girls-into-the-wild-130/2023-09-21/
CATEGORIES:Ages 5–8/Grades K–3 or Ages 9–11/Grades 4–6
END:VEVENT
BEGIN:VEVENT
DTSTART;TZID=America/New_York:20230926T100000
DTEND;TZID=America/New_York:20230926T140000
DTSTAMP:20260420T071848
CREATED:20230531T194942Z
LAST-MODIFIED:20230531T194942Z
UID:10003444-1695722400-1695736800@www.hitchcockcenter.org
SUMMARY:Discovery Day: Patterns in Nature
DESCRIPTION:Patterns in Nature\nWith Emily Schuttenberg\nSeptember 26\, 10am-2pm\nGrades 1-6\, Ages 6-12\nTier A:$79 Tier B:$66 Tier C:$56 Tier D:$43\nLimited to 12 participants \nWhat do a fiddlehead\, DNA\, and a hurricane all have in common? They’re all spirals! Many other patterns and designs are common throughout nature\, and today we’ll study them and look for examples in nature.
URL:https://www.hitchcockcenter.org/event/discovery-day-patterns-in-nature/
CATEGORIES:Ages 5–8/Grades K–3 or Ages 9–11/Grades 4–6
END:VEVENT
BEGIN:VEVENT
DTSTART;TZID=America/New_York:20230928T153000
DTEND;TZID=America/New_York:20230928T173000
DTSTAMP:20260420T071848
CREATED:20230531T201029Z
LAST-MODIFIED:20230531T201029Z
UID:10003517-1695915000-1695922200@www.hitchcockcenter.org
SUMMARY:Girls into the Wild
DESCRIPTION:GIRLS INTO THE WILD AFTERSCHOOL  \nwith Katie Koerten\nAges 9-12 or Grades 4-6\nThursdays\, 3:30-5:30pm\nSeptember 7 – December 21 (*Extended day Oct 26\, no program November 23)\nFee per Child: Tier A-$480 | Tier B-$400| Tier C-$340  | Tier D-$260\nLimited to 12 participants \nGirls into the Wild is back in Fall 2023 for more romping wildly through the field and forests of the Hitchcock Center. Please note the age adjustment: GITW has shifted to be for students in grades 4 through 6. As always we’ll visit our favorite places to play in the forest\, such as Stump City\, the Ferns\, and the Faraway Woods – exploring the seasonal beauty of nature as we go. Play games\, make friends\, and create nature projects outdoors! Come build your confidence and show your wild side! Genderqueer\, nonbinary\, agender and trans young people are welcome! *Extended day hours on Oct 26 are 1pm-5:30pm due to early release for Amherst Public Schools.
URL:https://www.hitchcockcenter.org/event/girls-into-the-wild-130/2023-09-28/
CATEGORIES:Ages 5–8/Grades K–3 or Ages 9–11/Grades 4–6
END:VEVENT
BEGIN:VEVENT
DTSTART;TZID=America/New_York:20230929T130000
DTEND;TZID=America/New_York:20230929T173000
DTSTAMP:20260420T071848
CREATED:20230531T201155Z
LAST-MODIFIED:20230531T201155Z
UID:10003529-1695992400-1696008600@www.hitchcockcenter.org
SUMMARY:Fun Friday Frolics Afterschool
DESCRIPTION:FUN FRIDAY FROLICS **NEW!!** \nwith Lauren Dausch\nAges: Ages 6-9 or grades 1 – 3*\nFridays\, 1:00 – 5:30pm\nFee per Child: Tier A-$82 | Tier B-$68| Tier C-$58  | Tier D-$44\nLimited to 12 participants\n \nNew! Come frolic in the forest on this Friday afternoon early release day for Amherst elementary schoolers! Bring a snack\, lunch and water bottle and come prepared to play outside\, no matter what the weather! Limited to 12 participants. *Depending on enrollment\, your Kindergartner or 4th grader may be able to join. \nSeptember 29: The Fall Forest
URL:https://www.hitchcockcenter.org/event/fun-friday-frolics-afterschool/
CATEGORIES:Ages 5–8/Grades K–3 or Ages 9–11/Grades 4–6
END:VEVENT
END:VCALENDAR