BEGIN:VCALENDAR
VERSION:2.0
PRODID:-//Hitchcock Center for the Environment - ECPv6.15.18//NONSGML v1.0//EN
CALSCALE:GREGORIAN
METHOD:PUBLISH
X-WR-CALNAME:Hitchcock Center for the Environment
X-ORIGINAL-URL:https://www.hitchcockcenter.org
X-WR-CALDESC:Events for Hitchcock Center for the Environment
REFRESH-INTERVAL;VALUE=DURATION:PT1H
X-Robots-Tag:noindex
X-PUBLISHED-TTL:PT1H
BEGIN:VTIMEZONE
TZID:America/New_York
BEGIN:DAYLIGHT
TZOFFSETFROM:-0500
TZOFFSETTO:-0400
TZNAME:EDT
DTSTART:20220313T070000
END:DAYLIGHT
BEGIN:STANDARD
TZOFFSETFROM:-0400
TZOFFSETTO:-0500
TZNAME:EST
DTSTART:20221106T060000
END:STANDARD
BEGIN:DAYLIGHT
TZOFFSETFROM:-0500
TZOFFSETTO:-0400
TZNAME:EDT
DTSTART:20230312T070000
END:DAYLIGHT
BEGIN:STANDARD
TZOFFSETFROM:-0400
TZOFFSETTO:-0500
TZNAME:EST
DTSTART:20231105T060000
END:STANDARD
BEGIN:DAYLIGHT
TZOFFSETFROM:-0500
TZOFFSETTO:-0400
TZNAME:EDT
DTSTART:20240310T070000
END:DAYLIGHT
BEGIN:STANDARD
TZOFFSETFROM:-0400
TZOFFSETTO:-0500
TZNAME:EST
DTSTART:20241103T060000
END:STANDARD
END:VTIMEZONE
BEGIN:VEVENT
DTSTART;TZID=America/New_York:20231102T153000
DTEND;TZID=America/New_York:20231102T173000
DTSTAMP:20260420T050704
CREATED:20230531T201029Z
LAST-MODIFIED:20230531T201029Z
UID:10003522-1698939000-1698946200@www.hitchcockcenter.org
SUMMARY:Girls into the Wild
DESCRIPTION:GIRLS INTO THE WILD AFTERSCHOOL  \nwith Katie Koerten\nAges 9-12 or Grades 4-6\nThursdays\, 3:30-5:30pm\nSeptember 7 – December 21 (*Extended day Oct 26\, no program November 23)\nFee per Child: Tier A-$480 | Tier B-$400| Tier C-$340  | Tier D-$260\nLimited to 12 participants \nGirls into the Wild is back in Fall 2023 for more romping wildly through the field and forests of the Hitchcock Center. Please note the age adjustment: GITW has shifted to be for students in grades 4 through 6. As always we’ll visit our favorite places to play in the forest\, such as Stump City\, the Ferns\, and the Faraway Woods – exploring the seasonal beauty of nature as we go. Play games\, make friends\, and create nature projects outdoors! Come build your confidence and show your wild side! Genderqueer\, nonbinary\, agender and trans young people are welcome! *Extended day hours on Oct 26 are 1pm-5:30pm due to early release for Amherst Public Schools.
URL:https://www.hitchcockcenter.org/event/girls-into-the-wild-130/2023-11-02/
CATEGORIES:Ages 5–8/Grades K–3 or Ages 9–11/Grades 4–6
END:VEVENT
BEGIN:VEVENT
DTSTART;TZID=America/New_York:20231106T153000
DTEND;TZID=America/New_York:20231106T173000
DTSTAMP:20260420T050704
CREATED:20230531T200256Z
LAST-MODIFIED:20230531T200256Z
UID:10003462-1699284600-1699291800@www.hitchcockcenter.org
SUMMARY:Wild Children of the Woods
DESCRIPTION:WILD CHILDREN OF THE WOODS SERIES \nWith Monya Relles\nAges 8-11 or Grades 3-5\nMondays\, 3:30-5:30pm\nSeptember 11 – December 18 (no program September 25 and October 9)\nTier A:$393 Tier B:$327 Tier C:$278 Tier D:$213\nLimited to 12 participants \nWe go to the woods to think\, learn\, play\, and explore in this afterschool series for upper-elementary schoolers. We will roam the grounds of the Hitchcock Center as we watch Fall turn to Winter. We will visit stump city\, ferns\, and the far-away woods\, play some organized games\, and learn about the animals\, plants\, and life in these woods\, including ourselves.
URL:https://www.hitchcockcenter.org/event/wild-children-of-the-woods-34/2023-11-06/
CATEGORIES:Ages 5–8/Grades K–3 or Ages 9–11/Grades 4–6
END:VEVENT
BEGIN:VEVENT
DTSTART;TZID=America/New_York:20231107T084500
DTEND;TZID=America/New_York:20231107T150000
DTSTAMP:20260420T050704
CREATED:20230531T193915Z
LAST-MODIFIED:20230531T193915Z
UID:10003422-1699346700-1699369200@www.hitchcockcenter.org
SUMMARY:Curriculum Day
DESCRIPTION:Tuesday November 7\, Curriculum Day\n\nWith Katie Koerten\n8:45am to 3:00 pm\nAges 6-9 or grades 1st – 3rd*\nFee per Child: Tier A-$110 | Tier B-$91 | Tier C-$78  | Tier D-$59\nTotal number of participants: 12 \nCome play outside on this day off for many local elementary schoolers! Bring a snack\, lunch and water bottle and come prepared to play outside\, no matter what the weather! Limited to 12 participants. *Depending on enrollment\, your Kindergartner or 4th grader may be able to join. 
URL:https://www.hitchcockcenter.org/event/curriculum-day-2/
CATEGORIES:Ages 5–8/Grades K–3 or Ages 9–11/Grades 4–6
END:VEVENT
BEGIN:VEVENT
DTSTART;TZID=America/New_York:20231109T153000
DTEND;TZID=America/New_York:20231109T173000
DTSTAMP:20260420T050704
CREATED:20230531T201029Z
LAST-MODIFIED:20230531T201029Z
UID:10003523-1699543800-1699551000@www.hitchcockcenter.org
SUMMARY:Girls into the Wild
DESCRIPTION:GIRLS INTO THE WILD AFTERSCHOOL  \nwith Katie Koerten\nAges 9-12 or Grades 4-6\nThursdays\, 3:30-5:30pm\nSeptember 7 – December 21 (*Extended day Oct 26\, no program November 23)\nFee per Child: Tier A-$480 | Tier B-$400| Tier C-$340  | Tier D-$260\nLimited to 12 participants \nGirls into the Wild is back in Fall 2023 for more romping wildly through the field and forests of the Hitchcock Center. Please note the age adjustment: GITW has shifted to be for students in grades 4 through 6. As always we’ll visit our favorite places to play in the forest\, such as Stump City\, the Ferns\, and the Faraway Woods – exploring the seasonal beauty of nature as we go. Play games\, make friends\, and create nature projects outdoors! Come build your confidence and show your wild side! Genderqueer\, nonbinary\, agender and trans young people are welcome! *Extended day hours on Oct 26 are 1pm-5:30pm due to early release for Amherst Public Schools.
URL:https://www.hitchcockcenter.org/event/girls-into-the-wild-130/2023-11-09/
CATEGORIES:Ages 5–8/Grades K–3 or Ages 9–11/Grades 4–6
END:VEVENT
BEGIN:VEVENT
DTSTART;TZID=America/New_York:20231110T084500
DTEND;TZID=America/New_York:20231110T150000
DTSTAMP:20260420T050704
CREATED:20230531T194005Z
LAST-MODIFIED:20230531T194005Z
UID:10003423-1699605900-1699628400@www.hitchcockcenter.org
SUMMARY:Curriculum Day
DESCRIPTION:Friday November 10\, Veterans  Day \nWith: TBD\nFriday November 10 – Veterans  Day\n8:45am to 3:00 pm\nAges 6-9 or grades 1st – 3rd*\nFee per Child: Tier A-$110 | Tier B-$91 | Tier C-$78  | Tier D-$59\nTotal number of participants: 12 \nCome play outside on this day off for many local elementary schoolers! Bring a snack\, lunch and water bottle and come prepared to play outside\, no matter what the weather! Limited to 12 participants. *Depending on enrollment\, your Kindergartner or 4th grader may be able to join.
URL:https://www.hitchcockcenter.org/event/curriculum-day-3/
CATEGORIES:Ages 5–8/Grades K–3 or Ages 9–11/Grades 4–6
END:VEVENT
BEGIN:VEVENT
DTSTART;TZID=America/New_York:20231113T153000
DTEND;TZID=America/New_York:20231113T173000
DTSTAMP:20260420T050704
CREATED:20230531T200256Z
LAST-MODIFIED:20230531T200256Z
UID:10003463-1699889400-1699896600@www.hitchcockcenter.org
SUMMARY:Wild Children of the Woods
DESCRIPTION:WILD CHILDREN OF THE WOODS SERIES \nWith Monya Relles\nAges 8-11 or Grades 3-5\nMondays\, 3:30-5:30pm\nSeptember 11 – December 18 (no program September 25 and October 9)\nTier A:$393 Tier B:$327 Tier C:$278 Tier D:$213\nLimited to 12 participants \nWe go to the woods to think\, learn\, play\, and explore in this afterschool series for upper-elementary schoolers. We will roam the grounds of the Hitchcock Center as we watch Fall turn to Winter. We will visit stump city\, ferns\, and the far-away woods\, play some organized games\, and learn about the animals\, plants\, and life in these woods\, including ourselves.
URL:https://www.hitchcockcenter.org/event/wild-children-of-the-woods-34/2023-11-13/
CATEGORIES:Ages 5–8/Grades K–3 or Ages 9–11/Grades 4–6
END:VEVENT
BEGIN:VEVENT
DTSTART;TZID=America/New_York:20231116T153000
DTEND;TZID=America/New_York:20231116T173000
DTSTAMP:20260420T050705
CREATED:20230531T201029Z
LAST-MODIFIED:20230531T201029Z
UID:10003524-1700148600-1700155800@www.hitchcockcenter.org
SUMMARY:Girls into the Wild
DESCRIPTION:GIRLS INTO THE WILD AFTERSCHOOL  \nwith Katie Koerten\nAges 9-12 or Grades 4-6\nThursdays\, 3:30-5:30pm\nSeptember 7 – December 21 (*Extended day Oct 26\, no program November 23)\nFee per Child: Tier A-$480 | Tier B-$400| Tier C-$340  | Tier D-$260\nLimited to 12 participants \nGirls into the Wild is back in Fall 2023 for more romping wildly through the field and forests of the Hitchcock Center. Please note the age adjustment: GITW has shifted to be for students in grades 4 through 6. As always we’ll visit our favorite places to play in the forest\, such as Stump City\, the Ferns\, and the Faraway Woods – exploring the seasonal beauty of nature as we go. Play games\, make friends\, and create nature projects outdoors! Come build your confidence and show your wild side! Genderqueer\, nonbinary\, agender and trans young people are welcome! *Extended day hours on Oct 26 are 1pm-5:30pm due to early release for Amherst Public Schools.
URL:https://www.hitchcockcenter.org/event/girls-into-the-wild-130/2023-11-16/
CATEGORIES:Ages 5–8/Grades K–3 or Ages 9–11/Grades 4–6
END:VEVENT
BEGIN:VEVENT
DTSTART;TZID=America/New_York:20231120T153000
DTEND;TZID=America/New_York:20231120T173000
DTSTAMP:20260420T050705
CREATED:20230531T200256Z
LAST-MODIFIED:20230531T200256Z
UID:10003464-1700494200-1700501400@www.hitchcockcenter.org
SUMMARY:Wild Children of the Woods
DESCRIPTION:WILD CHILDREN OF THE WOODS SERIES \nWith Monya Relles\nAges 8-11 or Grades 3-5\nMondays\, 3:30-5:30pm\nSeptember 11 – December 18 (no program September 25 and October 9)\nTier A:$393 Tier B:$327 Tier C:$278 Tier D:$213\nLimited to 12 participants \nWe go to the woods to think\, learn\, play\, and explore in this afterschool series for upper-elementary schoolers. We will roam the grounds of the Hitchcock Center as we watch Fall turn to Winter. We will visit stump city\, ferns\, and the far-away woods\, play some organized games\, and learn about the animals\, plants\, and life in these woods\, including ourselves.
URL:https://www.hitchcockcenter.org/event/wild-children-of-the-woods-34/2023-11-20/
CATEGORIES:Ages 5–8/Grades K–3 or Ages 9–11/Grades 4–6
END:VEVENT
BEGIN:VEVENT
DTSTART;TZID=America/New_York:20231121T100000
DTEND;TZID=America/New_York:20231121T140000
DTSTAMP:20260420T050705
CREATED:20230531T195048Z
LAST-MODIFIED:20230531T195048Z
UID:10003445-1700560800-1700575200@www.hitchcockcenter.org
SUMMARY:Discovery Day: Owl-ology
DESCRIPTION:Owl-ology\nWith Emily Schuttenberg\nNovember 21\,  10am-2pm\nGrades 1-6\, Ages 6-12\nTier A:$79 Tier B:$66 Tier C:$56 Tier D:$43\nLimited to 12 participants \nWho\, who\, who will we be studying this discovery day? Owls! We will learn all about owls\, play owl games\, practice our owl calls and even dissect some pellets. Get your silent wings on and fly on over!
URL:https://www.hitchcockcenter.org/event/discovery-day-owl-ology-2/
CATEGORIES:Ages 5–8/Grades K–3 or Ages 9–11/Grades 4–6
END:VEVENT
BEGIN:VEVENT
DTSTART;TZID=America/New_York:20231127T153000
DTEND;TZID=America/New_York:20231127T173000
DTSTAMP:20260420T050705
CREATED:20230531T200256Z
LAST-MODIFIED:20230531T200256Z
UID:10003465-1701099000-1701106200@www.hitchcockcenter.org
SUMMARY:Wild Children of the Woods
DESCRIPTION:WILD CHILDREN OF THE WOODS SERIES \nWith Monya Relles\nAges 8-11 or Grades 3-5\nMondays\, 3:30-5:30pm\nSeptember 11 – December 18 (no program September 25 and October 9)\nTier A:$393 Tier B:$327 Tier C:$278 Tier D:$213\nLimited to 12 participants \nWe go to the woods to think\, learn\, play\, and explore in this afterschool series for upper-elementary schoolers. We will roam the grounds of the Hitchcock Center as we watch Fall turn to Winter. We will visit stump city\, ferns\, and the far-away woods\, play some organized games\, and learn about the animals\, plants\, and life in these woods\, including ourselves.
URL:https://www.hitchcockcenter.org/event/wild-children-of-the-woods-34/2023-11-27/
CATEGORIES:Ages 5–8/Grades K–3 or Ages 9–11/Grades 4–6
END:VEVENT
BEGIN:VEVENT
DTSTART;TZID=America/New_York:20231130T153000
DTEND;TZID=America/New_York:20231130T173000
DTSTAMP:20260420T050705
CREATED:20230531T201029Z
LAST-MODIFIED:20230531T201029Z
UID:10003525-1701358200-1701365400@www.hitchcockcenter.org
SUMMARY:Girls into the Wild
DESCRIPTION:GIRLS INTO THE WILD AFTERSCHOOL  \nwith Katie Koerten\nAges 9-12 or Grades 4-6\nThursdays\, 3:30-5:30pm\nSeptember 7 – December 21 (*Extended day Oct 26\, no program November 23)\nFee per Child: Tier A-$480 | Tier B-$400| Tier C-$340  | Tier D-$260\nLimited to 12 participants \nGirls into the Wild is back in Fall 2023 for more romping wildly through the field and forests of the Hitchcock Center. Please note the age adjustment: GITW has shifted to be for students in grades 4 through 6. As always we’ll visit our favorite places to play in the forest\, such as Stump City\, the Ferns\, and the Faraway Woods – exploring the seasonal beauty of nature as we go. Play games\, make friends\, and create nature projects outdoors! Come build your confidence and show your wild side! Genderqueer\, nonbinary\, agender and trans young people are welcome! *Extended day hours on Oct 26 are 1pm-5:30pm due to early release for Amherst Public Schools.
URL:https://www.hitchcockcenter.org/event/girls-into-the-wild-130/2023-11-30/
CATEGORIES:Ages 5–8/Grades K–3 or Ages 9–11/Grades 4–6
END:VEVENT
END:VCALENDAR