BEGIN:VCALENDAR
VERSION:2.0
PRODID:-//Hitchcock Center for the Environment - ECPv6.15.18//NONSGML v1.0//EN
CALSCALE:GREGORIAN
METHOD:PUBLISH
X-ORIGINAL-URL:https://www.hitchcockcenter.org
X-WR-CALDESC:Events for Hitchcock Center for the Environment
REFRESH-INTERVAL;VALUE=DURATION:PT1H
X-Robots-Tag:noindex
X-PUBLISHED-TTL:PT1H
BEGIN:VTIMEZONE
TZID:America/New_York
BEGIN:DAYLIGHT
TZOFFSETFROM:-0500
TZOFFSETTO:-0400
TZNAME:EDT
DTSTART:20190310T070000
END:DAYLIGHT
BEGIN:STANDARD
TZOFFSETFROM:-0400
TZOFFSETTO:-0500
TZNAME:EST
DTSTART:20191103T060000
END:STANDARD
BEGIN:DAYLIGHT
TZOFFSETFROM:-0500
TZOFFSETTO:-0400
TZNAME:EDT
DTSTART:20200308T070000
END:DAYLIGHT
BEGIN:STANDARD
TZOFFSETFROM:-0400
TZOFFSETTO:-0500
TZNAME:EST
DTSTART:20201101T060000
END:STANDARD
BEGIN:DAYLIGHT
TZOFFSETFROM:-0500
TZOFFSETTO:-0400
TZNAME:EDT
DTSTART:20210314T070000
END:DAYLIGHT
BEGIN:STANDARD
TZOFFSETFROM:-0400
TZOFFSETTO:-0500
TZNAME:EST
DTSTART:20211107T060000
END:STANDARD
END:VTIMEZONE
BEGIN:VEVENT
DTSTART;TZID=America/New_York:20201021T100000
DTEND;TZID=America/New_York:20201021T120000
DTSTAMP:20260425T170035
CREATED:20200822T135004Z
LAST-MODIFIED:20200827T180253Z
UID:10001779-1603274400-1603281600@www.hitchcockcenter.org
SUMMARY:10:00am-12:00pm  Art in the Forest Wednesday Series
DESCRIPTION:The natural world has served as inspiration for artists of all varieties for all of humankind’s history. While surrounded by the undeniable beauty of the outdoors\, children in the Art in the Forest program will be encouraged to develop awareness of the details in the natural world and learn how to utilize its beauty in artistic expression. Throughout the fall and into winter we will explore our own imagination and expression with activities that include drawing\, poetry\, structure building\, painting and sculpture. We’ll spend part of our time\, in-person\, working together towards creating works of art and part free time in the woods\, playing\, talking and building community. This series is being offered two times per week on Mondays and Wednesdays. Please sign up for one of the two days. \nwith Aemelia Thompson\nAges 7–10 or Grades 2–4\nWednesdays\, 10am–12pm\nSeptember 16–December 16\nFee per Child: Tier A-$437  | Tier B-$349  | Tier C-$252  | Tier D-$131\nLimited to 10 participants
URL:https://www.hitchcockcenter.org/event/art-in-the-forest-wednesday-series-6/
CATEGORIES:Ages 5–8/Grades K–3 or Ages 9–11/Grades 4–6
END:VEVENT
BEGIN:VEVENT
DTSTART;TZID=America/New_York:20201015T153000
DTEND;TZID=America/New_York:20201015T173000
DTSTAMP:20260425T170035
CREATED:20200822T133704Z
LAST-MODIFIED:20200827T180823Z
UID:10001766-1602775800-1602783000@www.hitchcockcenter.org
SUMMARY:3:30-5:30pm  Girls into the Wild Series
DESCRIPTION:Sometimes you just need to run\, explore and play outdoors! Girls into the Wild is designed to get girls outside\, playing and engaging with nature in their own way. Instructor Katie Koerten offers games and activities that each girl can participate in at her own comfort level\, from climbing trees\, to playing camouflage in the forest\, to running and whooping wildly through fields. Come build your confidence and show your wild side! \nwith Katie Koerten\nAges 8–11 or Grades 3–5\nThursdays\, 3:30pm-5:30pm\nSeptember 24–December 17 (no program November 5 or 26)\nFee per Child: Tier A-$289  | Tier B-$232  | Tier C-$174  | Tier D-$87\nLimited to 10 participants
URL:https://www.hitchcockcenter.org/event/girls-into-the-wild-series-4/
CATEGORIES:Ages 5–8/Grades K–3 or Ages 9–11/Grades 4–6
END:VEVENT
BEGIN:VEVENT
DTSTART;TZID=America/New_York:20201014T100000
DTEND;TZID=America/New_York:20201014T120000
DTSTAMP:20260425T170035
CREATED:20200822T134922Z
LAST-MODIFIED:20200827T180302Z
UID:10001778-1602669600-1602676800@www.hitchcockcenter.org
SUMMARY:10:00-12:00pm  Art in the Forest Wednesday Series
DESCRIPTION:The natural world has served as inspiration for artists of all varieties for all of humankind’s history. While surrounded by the undeniable beauty of the outdoors\, children in the Art in the Forest program will be encouraged to develop awareness of the details in the natural world and learn how to utilize its beauty in artistic expression. Throughout the fall and into winter we will explore our own imagination and expression with activities that include drawing\, poetry\, structure building\, painting and sculpture. We’ll spend part of our time\, in-person\, working together towards creating works of art and part free time in the woods\, playing\, talking and building community. This series is being offered two times per week on Mondays and Wednesdays. Please sign up for one of the two days. \nwith Aemelia Thompson\nAges 7–10 or Grades 2–4\nWednesdays\, 10am–12pm\nSeptember 16–December 16\nFee per Child: Tier A-$437  | Tier B-$349  | Tier C-$252  | Tier D-$131\nLimited to 10 participants
URL:https://www.hitchcockcenter.org/event/art-in-the-forest-wednesday-series-5/
CATEGORIES:Ages 5–8/Grades K–3 or Ages 9–11/Grades 4–6
END:VEVENT
BEGIN:VEVENT
DTSTART;TZID=America/New_York:20201008T153000
DTEND;TZID=America/New_York:20201008T173000
DTSTAMP:20260425T170035
CREATED:20200822T133632Z
LAST-MODIFIED:20200827T180834Z
UID:10001765-1602171000-1602178200@www.hitchcockcenter.org
SUMMARY:3:30-5:30pm  Girls into the Wild Series
DESCRIPTION:Sometimes you just need to run\, explore and play outdoors! Girls into the Wild is designed to get girls outside\, playing and engaging with nature in their own way. Instructor Katie Koerten offers games and activities that each girl can participate in at her own comfort level\, from climbing trees\, to playing camouflage in the forest\, to running and whooping wildly through fields. Come build your confidence and show your wild side! \nwith Katie Koerten\nAges 8–11 or Grades 3–5\nThursdays\, 3:30pm-5:30pm\nSeptember 24–December 17 (no program November 5 or 26)\nFee per Child: Tier A-$289  | Tier B-$232  | Tier C-$174  | Tier D-$87\nLimited to 10 participants
URL:https://www.hitchcockcenter.org/event/girls-into-the-wild-series-3/
CATEGORIES:Ages 5–8/Grades K–3 or Ages 9–11/Grades 4–6
END:VEVENT
BEGIN:VEVENT
DTSTART;TZID=America/New_York:20201007T100000
DTEND;TZID=America/New_York:20201007T120000
DTSTAMP:20260425T170035
CREATED:20200822T134812Z
LAST-MODIFIED:20200827T180313Z
UID:10001777-1602064800-1602072000@www.hitchcockcenter.org
SUMMARY:10:00am-12:00pm  Art in the Forest Wednesday Series
DESCRIPTION:The natural world has served as inspiration for artists of all varieties for all of humankind’s history. While surrounded by the undeniable beauty of the outdoors\, children in the Art in the Forest program will be encouraged to develop awareness of the details in the natural world and learn how to utilize its beauty in artistic expression. Throughout the fall and into winter we will explore our own imagination and expression with activities that include drawing\, poetry\, structure building\, painting and sculpture. We’ll spend part of our time\, in-person\, working together towards creating works of art and part free time in the woods\, playing\, talking and building community. This series is being offered two times per week on Mondays and Wednesdays. Please sign up for one of the two days. \nwith Aemelia Thompson\nAges 7–10 or Grades 2–4\nWednesdays\, 10am–12pm\nSeptember 16–December 16\nFee per Child: Tier A-$437  | Tier B-$349  | Tier C-$252  | Tier D-$131\nLimited to 10 participants
URL:https://www.hitchcockcenter.org/event/art-in-the-forest-wednesday-series-4/
CATEGORIES:Ages 5–8/Grades K–3 or Ages 9–11/Grades 4–6,Ages 9–11 or Grades 4–6
END:VEVENT
BEGIN:VEVENT
DTSTART;TZID=America/New_York:20201001T153000
DTEND;TZID=America/New_York:20201001T173000
DTSTAMP:20260425T170035
CREATED:20200822T133551Z
LAST-MODIFIED:20200827T180846Z
UID:10001764-1601566200-1601573400@www.hitchcockcenter.org
SUMMARY:3:30-5:30pm  Girls into the Wild Series
DESCRIPTION:Sometimes you just need to run\, explore and play outdoors! Girls into the Wild is designed to get girls outside\, playing and engaging with nature in their own way. Instructor Katie Koerten offers games and activities that each girl can participate in at her own comfort level\, from climbing trees\, to playing camouflage in the forest\, to running and whooping wildly through fields. Come build your confidence and show your wild side! \nwith Katie Koerten\nAges 8–11 or Grades 3–5\nThursdays\, 3:30pm-5:30pm\nSeptember 24–December 17 (no program November 5 or 26)\nFee per Child: Tier A-$289  | Tier B-$232  | Tier C-$174  | Tier D-$87\nLimited to 10 participants
URL:https://www.hitchcockcenter.org/event/girls-into-the-wild-series-2/
CATEGORIES:Ages 5–8/Grades K–3 or Ages 9–11/Grades 4–6
END:VEVENT
BEGIN:VEVENT
DTSTART;TZID=America/New_York:20200930T100000
DTEND;TZID=America/New_York:20200930T120000
DTSTAMP:20260425T170035
CREATED:20200822T134735Z
LAST-MODIFIED:20200827T180322Z
UID:10001776-1601460000-1601467200@www.hitchcockcenter.org
SUMMARY:10:00am-12:00pm  Art in the Forest Wednesday Series
DESCRIPTION:The natural world has served as inspiration for artists of all varieties for all of humankind’s history. While surrounded by the undeniable beauty of the outdoors\, children in the Art in the Forest program will be encouraged to develop awareness of the details in the natural world and learn how to utilize its beauty in artistic expression. Throughout the fall and into winter we will explore our own imagination and expression with activities that include drawing\, poetry\, structure building\, painting and sculpture. We’ll spend part of our time\, in-person\, working together towards creating works of art and part free time in the woods\, playing\, talking and building community. This series is being offered two times per week on Mondays and Wednesdays. Please sign up for one of the two days. \nwith Aemelia Thompson\nAges 7–10 or Grades 2–4\nWednesdays\, 10am–12pm\nSeptember 16–December 16\nFee per Child: Tier A-$437  | Tier B-$349  | Tier C-$252  | Tier D-$131\nLimited to 10 participants
URL:https://www.hitchcockcenter.org/event/art-in-the-forest-wednesday-series-3/
CATEGORIES:Ages 5–8/Grades K–3 or Ages 9–11/Grades 4–6
END:VEVENT
BEGIN:VEVENT
DTSTART;TZID=America/New_York:20200924T153000
DTEND;TZID=America/New_York:20200924T173000
DTSTAMP:20260425T170035
CREATED:20200822T133510Z
LAST-MODIFIED:20200827T180855Z
UID:10001763-1600961400-1600968600@www.hitchcockcenter.org
SUMMARY:3:30-5:30pm  Girls into the Wild Series
DESCRIPTION:Sometimes you just need to run\, explore and play outdoors! Girls into the Wild is designed to get girls outside\, playing and engaging with nature in their own way. Instructor Katie Koerten offers games and activities that each girl can participate in at her own comfort level\, from climbing trees\, to playing camouflage in the forest\, to running and whooping wildly through fields. Come build your confidence and show your wild side! \nwith Katie Koerten\nAges 8–11 or Grades 3–5\nThursdays\, 3:30pm-5:30pm\nSeptember 24–December 17 (no program November 5 or 26)\nFee per Child: Tier A-$289  | Tier B-$232  | Tier C-$174  | Tier D-$87\nLimited to 10 participants
URL:https://www.hitchcockcenter.org/event/girls-into-the-wild-series/
CATEGORIES:Ages 5–8/Grades K–3 or Ages 9–11/Grades 4–6
END:VEVENT
BEGIN:VEVENT
DTSTART;TZID=America/New_York:20200923T100000
DTEND;TZID=America/New_York:20200923T120000
DTSTAMP:20260425T170035
CREATED:20200822T134655Z
LAST-MODIFIED:20200827T180331Z
UID:10001775-1600855200-1600862400@www.hitchcockcenter.org
SUMMARY:10:00am-12:00pm  Art in the Forest Wednesday Series
DESCRIPTION:The natural world has served as inspiration for artists of all varieties for all of humankind’s history. While surrounded by the undeniable beauty of the outdoors\, children in the Art in the Forest program will be encouraged to develop awareness of the details in the natural world and learn how to utilize its beauty in artistic expression. Throughout the fall and into winter we will explore our own imagination and expression with activities that include drawing\, poetry\, structure building\, painting and sculpture. We’ll spend part of our time\, in-person\, working together towards creating works of art and part free time in the woods\, playing\, talking and building community. This series is being offered two times per week on Mondays and Wednesdays. Please sign up for one of the two days. \nwith Aemelia Thompson\nAges 7–10 or Grades 2–4\nWednesdays\, 10am–12pm\nSeptember 16–December 16\nFee per Child: Tier A-$437  | Tier B-$349  | Tier C-$252  | Tier D-$131\nLimited to 10 participants
URL:https://www.hitchcockcenter.org/event/art-in-the-forest-wednesday-series-2/
CATEGORIES:Ages 5–8/Grades K–3 or Ages 9–11/Grades 4–6
END:VEVENT
BEGIN:VEVENT
DTSTART;TZID=America/New_York:20200916T100000
DTEND;TZID=America/New_York:20200916T120000
DTSTAMP:20260425T170035
CREATED:20200822T134552Z
LAST-MODIFIED:20200827T180343Z
UID:10001774-1600250400-1600257600@www.hitchcockcenter.org
SUMMARY:10:00am-12:00pm  Art in the Forest Wednesday Series
DESCRIPTION:The natural world has served as inspiration for artists of all varieties for all of humankind’s history. While surrounded by the undeniable beauty of the outdoors\, children in the Art in the Forest program will be encouraged to develop awareness of the details in the natural world and learn how to utilize its beauty in artistic expression. Throughout the fall and into winter we will explore our own imagination and expression with activities that include drawing\, poetry\, structure building\, painting and sculpture. We’ll spend part of our time\, in-person\, working together towards creating works of art and part free time in the woods\, playing\, talking and building community. This series is being offered two times per week on Mondays and Wednesdays. Please sign up for one of the two days. \nwith Aemelia Thompson\nAges 7–10 or Grades 2–4\nWednesdays\, 10am–12pm\nSeptember 16–December 16\nFee per Child: Tier A-$437  | Tier B-$349  | Tier C-$252  | Tier D-$131\nLimited to 10 participants
URL:https://www.hitchcockcenter.org/event/art-in-the-forest-wednesday-series/
CATEGORIES:Ages 5–8/Grades K–3 or Ages 9–11/Grades 4–6
END:VEVENT
END:VCALENDAR