BEGIN:VCALENDAR
VERSION:2.0
PRODID:-//Hitchcock Center for the Environment - ECPv6.15.18//NONSGML v1.0//EN
CALSCALE:GREGORIAN
METHOD:PUBLISH
X-ORIGINAL-URL:https://www.hitchcockcenter.org
X-WR-CALDESC:Events for Hitchcock Center for the Environment
REFRESH-INTERVAL;VALUE=DURATION:PT1H
X-Robots-Tag:noindex
X-PUBLISHED-TTL:PT1H
BEGIN:VTIMEZONE
TZID:America/New_York
BEGIN:DAYLIGHT
TZOFFSETFROM:-0500
TZOFFSETTO:-0400
TZNAME:EDT
DTSTART:20190310T070000
END:DAYLIGHT
BEGIN:STANDARD
TZOFFSETFROM:-0400
TZOFFSETTO:-0500
TZNAME:EST
DTSTART:20191103T060000
END:STANDARD
BEGIN:DAYLIGHT
TZOFFSETFROM:-0500
TZOFFSETTO:-0400
TZNAME:EDT
DTSTART:20200308T070000
END:DAYLIGHT
BEGIN:STANDARD
TZOFFSETFROM:-0400
TZOFFSETTO:-0500
TZNAME:EST
DTSTART:20201101T060000
END:STANDARD
BEGIN:DAYLIGHT
TZOFFSETFROM:-0500
TZOFFSETTO:-0400
TZNAME:EDT
DTSTART:20210314T070000
END:DAYLIGHT
BEGIN:STANDARD
TZOFFSETFROM:-0400
TZOFFSETTO:-0500
TZNAME:EST
DTSTART:20211107T060000
END:STANDARD
END:VTIMEZONE
BEGIN:VEVENT
DTSTART;TZID=America/New_York:20201102T100000
DTEND;TZID=America/New_York:20201102T120000
DTSTAMP:20260424T125011
CREATED:20200822T123805Z
LAST-MODIFIED:20200827T151431Z
UID:10001745-1604311200-1604318400@www.hitchcockcenter.org
SUMMARY:10:00am-12:00pm  Junior Nature Play Series
DESCRIPTION:We are pleased to offer for the first time a new Nature Play program that includes kindergartners— Junior Nature Play! Children in kindergarten and first grade may sign up for this immersive\, lightly-structured program that lets kids be “free-range” while being safely supervised. Instructor Katie Koerten will lead us to our favorite places to play in the forest\, such as Stump Town\, the Ferns\, and the Faraway Woods. Each day includes games\, free play\, a story and snack time. \nwith Katie Koerten\nAges 5–7 or Grades K–1\nMondays\, 10am–12pm\nSeptember 21–December 14 (no program October 12)\nFee per Child: Tier A-$470  | Tier B-$376  | Tier C-$282  | Tier D-$141\nLimited to 8 participants per day
URL:https://www.hitchcockcenter.org/event/junior-nature-play-series-6/
CATEGORIES:Ages 5–8 or Grades K–3
END:VEVENT
BEGIN:VEVENT
DTSTART;TZID=America/New_York:20201102T133000
DTEND;TZID=America/New_York:20201102T173000
DTSTAMP:20260424T125011
CREATED:20200822T221511Z
LAST-MODIFIED:20200827T172626Z
UID:10001825-1604323800-1604338200@www.hitchcockcenter.org
SUMMARY:1:30-5:30pm  Nature Play Afterschool Monday Series
DESCRIPTION:Our Nature Play Afterschool Program is designed to let kids be kids. Together we will run\, jump\, climb\, invent\, imagine\, play and be free-range children\, all while developing self-confidence and learning valuable social skills. We will explore wooded trails and fields\, play in the leaves\, build forts\, climb trees\, make new discoveries about ourselves and the world around us and use our imaginations. Children will be provided with a safe setting for children to explore nature and stretch their limits as they balance on logs\, hold salamanders\, or co-create new games with their peers. \nwith Aemelia Thompson\nAges 6–8 or Grades 1–3\nMondays\, 3:30–5:30pm\nSeptember 21–December 14 (no class October 12)\nExtended days: September 28 and November 2\, 1:30–5:30pm\nFee per Child: Tier A-$335  | Tier B-$268  | Tier C-$201  | Tier D-$101\nLimited to 10 participants
URL:https://www.hitchcockcenter.org/event/nature-play-afterschool-monday-series-5/
CATEGORIES:Ages 5–8 or Grades K–3
END:VEVENT
BEGIN:VEVENT
DTSTART;TZID=America/New_York:20201103T093000
DTEND;TZID=America/New_York:20201103T123000
DTSTAMP:20260424T125011
CREATED:20200822T225816Z
LAST-MODIFIED:20200827T160945Z
UID:10001850-1604395800-1604406600@www.hitchcockcenter.org
SUMMARY:9:30am-12:30pm  Morning Nature Play Series
DESCRIPTION:Spend Tuesday mornings playing outside in the woods! Challenge your body by balancing on logs and climbing trees. Get as dirty as you like as we romp through the forest\, explore under logs\, make mud pie feasts and splash in puddles. Notice the changes in nature as we go through the season together. Instructor Katie Koerten will lead kids to our favorite places to play in the forest\, such as Stump Town\, the Ferns\, and the Faraway Woods. Please note: lunch is not part of this program\, so please pack a robust snack that includes protein for a mid-program snack. \nwith Katie Koerten\nAges 6–8 or Grades 1–3\nTuesdays\, 9:30am–12:30pm\nSeptember 22–December 15\nFee per Child: Tier A-$604 | Tier B-$483 | Tier C-$363  | Tier D-$181\nLimited to 10 participants per day
URL:https://www.hitchcockcenter.org/event/morning-nature-play-series-7/
CATEGORIES:Ages 5–8 or Grades K–3
END:VEVENT
BEGIN:VEVENT
DTSTART;TZID=America/New_York:20201104T100000
DTEND;TZID=America/New_York:20201104T120000
DTSTAMP:20260424T125011
CREATED:20200822T214157Z
LAST-MODIFIED:20200827T161013Z
UID:10001814-1604484000-1604491200@www.hitchcockcenter.org
SUMMARY:10:00am-12:00pm  Junior Discovery Day: Being Birds
DESCRIPTION:Attention kindergartners and first graders! Junior Discovery Days are one-time nature programs where we notice what’s happening in nature and explore specific topics. Sign up for as many days as you like. Our morning includes snack time\, story\, a nature project and a game. \nWith Katie Koerten\nAges 5–7 or Grades K–1\nWednesdays\, 10am–12pm\nSeptember 23–December 16\nFee per Child: Tier A-$46 per day | Tier B-$37 per day | Tier C-$27 per day | Tier D-$14 per day\nLimited to 8 participants per day \n\nSeptember 23: Colors of Nature\nSeptember 30: Catching Crickets\nOctober 7: Insect Life Cycles\nOctober 14: A Leaf Rainbow\nOctober 21: Wonderful Water\nOctober 28: Spiders Are Friends\nNovember 4: Being Birds\nNovember 11: Super Cool Seeds\nNovember 18: White-Tailed Deer Games\nDecember 2: Gnome Homes\nDecember 9: Faraway Woods Foray\nDecember 16: Gifts from Nature
URL:https://www.hitchcockcenter.org/event/junior-discovery-day-being-birds/
CATEGORIES:Ages 5–8 or Grades K–3
END:VEVENT
BEGIN:VEVENT
DTSTART;TZID=America/New_York:20201104T153000
DTEND;TZID=America/New_York:20201104T173000
DTSTAMP:20260424T125011
CREATED:20200822T224731Z
LAST-MODIFIED:20200827T151258Z
UID:10001839-1604503800-1604511000@www.hitchcockcenter.org
SUMMARY:3:30-5:30pm  Nature Play Afterschool Wednesday Series
DESCRIPTION:Our Nature Play Afterschool Program is designed to let kids be kids. Together we will run\, jump\, climb\, invent\, imagine\, play and be free-range children\, all while developing self-confidence and learning valuable social skills. We will explore wooded trails and fields\, play in the leaves\, build forts\, climb trees\, make new discoveries about ourselves and the world around us and use our imaginations. Children will be provided with a safe setting for children to explore nature and stretch their limits as they balance on logs\, hold salamanders\, or co-create new games with their peers. \nwith Jeff Mazur\nAges 6–8 or Grades 1–3\nWednesdays\, 3:30–5:30pm\nSeptember 16–December 16 (no class November 11 or 25)\nExtended days: October 21\, November 18\, and December 16\, 1:30–5:30pm\nFee per Child: Tier A-$315  | Tier B-$252   | Tier C-$189   | Tier D-$94\nLimited to 10 participants
URL:https://www.hitchcockcenter.org/event/nature-play-afterschool-wednesday-series-7/
CATEGORIES:Ages 5–8 or Grades K–3
END:VEVENT
BEGIN:VEVENT
DTSTART;TZID=America/New_York:20201109T100000
DTEND;TZID=America/New_York:20201109T120000
DTSTAMP:20260424T125011
CREATED:20200822T123842Z
LAST-MODIFIED:20200827T151414Z
UID:10001746-1604916000-1604923200@www.hitchcockcenter.org
SUMMARY:10:00-12:00pm  Junior Nature Play Series
DESCRIPTION:We are pleased to offer for the first time a new Nature Play program that includes kindergartners— Junior Nature Play! Children in kindergarten and first grade may sign up for this immersive\, lightly-structured program that lets kids be “free-range” while being safely supervised. Instructor Katie Koerten will lead us to our favorite places to play in the forest\, such as Stump Town\, the Ferns\, and the Faraway Woods. Each day includes games\, free play\, a story and snack time. \nwith Katie Koerten\nAges 5–7 or Grades K–1\nMondays\, 10am–12pm\nSeptember 21–December 14 (no program October 12)\nFee per Child: Tier A-$470  | Tier B-$376  | Tier C-$282  | Tier D-$141\nLimited to 8 participants per day
URL:https://www.hitchcockcenter.org/event/junior-nature-play-series-7/
CATEGORIES:Ages 5–8 or Grades K–3
END:VEVENT
BEGIN:VEVENT
DTSTART;TZID=America/New_York:20201109T153000
DTEND;TZID=America/New_York:20201109T173000
DTSTAMP:20260424T125011
CREATED:20200822T221627Z
LAST-MODIFIED:20200827T150702Z
UID:10001826-1604935800-1604943000@www.hitchcockcenter.org
SUMMARY:3:30-5:30pm  Nature Play Afterschool Monday Series
DESCRIPTION:Our Nature Play Afterschool Program is designed to let kids be kids. Together we will run\, jump\, climb\, invent\, imagine\, play and be free-range children\, all while developing self-confidence and learning valuable social skills. We will explore wooded trails and fields\, play in the leaves\, build forts\, climb trees\, make new discoveries about ourselves and the world around us and use our imaginations. Children will be provided with a safe setting for children to explore nature and stretch their limits as they balance on logs\, hold salamanders\, or co-create new games with their peers. \nwith Aemelia Thompson\nAges 6–8 or Grades 1–3\nMondays\, 3:30–5:30pm\nSeptember 21–December 14 (no class October 12)\nExtended days: September 28 and November 2\, 1:30–5:30pm\nFee per Child: Tier A-$335  | Tier B-$268  | Tier C-$201  | Tier D-$101\nLimited to 10 participants
URL:https://www.hitchcockcenter.org/event/nature-play-afterschool-monday-series-6/
CATEGORIES:Ages 5–8 or Grades K–3
END:VEVENT
BEGIN:VEVENT
DTSTART;TZID=America/New_York:20201110T093000
DTEND;TZID=America/New_York:20201110T123000
DTSTAMP:20260424T125011
CREATED:20200822T225901Z
LAST-MODIFIED:20200827T151146Z
UID:10001851-1605000600-1605011400@www.hitchcockcenter.org
SUMMARY:9:30am-12:30pm  Morning Nature Play Series
DESCRIPTION:Spend Tuesday mornings playing outside in the woods! Challenge your body by balancing on logs and climbing trees. Get as dirty as you like as we romp through the forest\, explore under logs\, make mud pie feasts and splash in puddles. Notice the changes in nature as we go through the season together. Instructor Katie Koerten will lead kids to our favorite places to play in the forest\, such as Stump Town\, the Ferns\, and the Faraway Woods. Please note: lunch is not part of this program\, so please pack a robust snack that includes protein for a mid-program snack. \nwith Katie Koerten\nAges 6–8 or Grades 1–3\nTuesdays\, 9:30am–12:30pm\nSeptember 22–December 15\nFee per Child: Tier A-$604 | Tier B-$483 | Tier C-$363  | Tier D-$181\nLimited to 10 participants per day
URL:https://www.hitchcockcenter.org/event/morning-nature-play-series-8/
CATEGORIES:Ages 5–8 or Grades K–3
END:VEVENT
BEGIN:VEVENT
DTSTART;TZID=America/New_York:20201111T100000
DTEND;TZID=America/New_York:20201111T120000
DTSTAMP:20260424T125011
CREATED:20200822T214259Z
LAST-MODIFIED:20200827T151130Z
UID:10001815-1605088800-1605096000@www.hitchcockcenter.org
SUMMARY:10:00am-12:00pm  Junior Discovery Day: Super Cool Seeds
DESCRIPTION:Attention kindergartners and first graders! Junior Discovery Days are one-time nature programs where we notice what’s happening in nature and explore specific topics. Sign up for as many days as you like. Our morning includes snack time\, story\, a nature project and a game. \nWith Katie Koerten\nAges 5–7 or Grades K–1\nWednesdays\, 10am–12pm\nSeptember 23–December 16\nFee per Child: Tier A-$46 per day | Tier B-$37 per day | Tier C-$27 per day | Tier D-$14 per day\nLimited to 8 participants per day \n\nSeptember 23: Colors of Nature\nSeptember 30: Catching Crickets\nOctober 7: Insect Life Cycles\nOctober 14: A Leaf Rainbow\nOctober 21: Wonderful Water\nOctober 28: Spiders Are Friends\nNovember 4: Being Birds\nNovember 11: Super Cool Seeds\nNovember 18: White-Tailed Deer Games\nDecember 2: Gnome Homes\nDecember 9: Faraway Woods Foray\nDecember 16: Gifts from Nature
URL:https://www.hitchcockcenter.org/event/junior-discovery-day-super-cool-seeds/
CATEGORIES:Ages 5–8 or Grades K–3
END:VEVENT
BEGIN:VEVENT
DTSTART;TZID=America/New_York:20201112T100000
DTEND;TZID=America/New_York:20201112T120000
DTSTAMP:20260424T125011
CREATED:20200925T172003Z
LAST-MODIFIED:20200925T172003Z
UID:10001926-1605175200-1605182400@www.hitchcockcenter.org
SUMMARY:10:00am-12:00pm  Junior Nature Play (In-person
DESCRIPTION:We are pleased to offer for the first time a new Nature Play program that includes kindergartners— Junior Nature Play! Children in kindergarten and first grade may sign up for this immersive\, lightly-structured program that lets kids be “free-range” while being safely supervised. Instructor Katie Koerten will lead us to our favorite places to play in the forest\, such as Stump Town\, the Ferns\, and the Faraway Woods. Each day includes games\, free play\, a story and snack time. \nwith Katie Koerten\nAges 5–7 or Grades K–1\nThursdays\, September 24–December 17  (No program November 5 and 26)\nFee per Child: Tier A-$432  | Tier B-$345  | Tier C-$259  | Tier D-$129\nLimited to 8 participants per day
URL:https://www.hitchcockcenter.org/event/1000am-1200pm-junior-nature-play-in-person-7/
CATEGORIES:Ages 5–8 or Grades K–3
END:VEVENT
BEGIN:VEVENT
DTSTART;TZID=America/New_York:20201114T100000
DTEND;TZID=America/New_York:20201114T110000
DTSTAMP:20260424T125011
CREATED:20200821T204452Z
LAST-MODIFIED:20200827T150339Z
UID:10001714-1605348000-1605351600@www.hitchcockcenter.org
SUMMARY:10:00-11:00am  Second Saturday Family Science: Reptiles in Winter
DESCRIPTION:Join us for seasonal nature and science programs\, in-person\, each second Saturday of the month. Designed for children (ages 5–7) with their parents\, these programs will explore cool topics in nature. \n\nSeptember 12: Pollinators\nOctober 10: Our Trees in Autumn\nNovember 14: Reptiles in Winter\nDecember 12: Fantastic Foxes\n\nwith Aemelia Thompson\nAges ages 5–7 and Grades  K–1\nSaturdays\, 10–11am\nSeptember 12\, October 10\, November 15\, December 12\nSuggested Donation: $5–$12 per family\nLimited to 10 participants. Children must be accompanied by an adult. Limit of 3 children per adult.
URL:https://www.hitchcockcenter.org/event/second-saturday-family-science-reptiles-in-winter/
CATEGORIES:Ages 5–8 or Grades K–3,Family Programs
END:VEVENT
BEGIN:VEVENT
DTSTART;TZID=America/New_York:20201116T100000
DTEND;TZID=America/New_York:20201116T120000
DTSTAMP:20260424T125011
CREATED:20200822T123927Z
LAST-MODIFIED:20200827T151017Z
UID:10001747-1605520800-1605528000@www.hitchcockcenter.org
SUMMARY:10:00am-12:00pm  Junior Nature Play Series
DESCRIPTION:We are pleased to offer for the first time a new Nature Play program that includes kindergartners— Junior Nature Play! Children in kindergarten and first grade may sign up for this immersive\, lightly-structured program that lets kids be “free-range” while being safely supervised. Instructor Katie Koerten will lead us to our favorite places to play in the forest\, such as Stump Town\, the Ferns\, and the Faraway Woods. Each day includes games\, free play\, a story and snack time. \nwith Katie Koerten\nAges 5–7 or Grades K–1\nMondays\, 10am–12pm\nSeptember 21–December 14 (no program October 12)\nFee per Child: Tier A-$470  | Tier B-$376  | Tier C-$282  | Tier D-$141\nLimited to 8 participants per day
URL:https://www.hitchcockcenter.org/event/junior-nature-play-series-8/
CATEGORIES:Ages 5–8 or Grades K–3
END:VEVENT
BEGIN:VEVENT
DTSTART;TZID=America/New_York:20201116T153000
DTEND;TZID=America/New_York:20201116T173000
DTSTAMP:20260424T125011
CREATED:20200822T221829Z
LAST-MODIFIED:20200827T150638Z
UID:10001827-1605540600-1605547800@www.hitchcockcenter.org
SUMMARY:3:30-5:30pm  Nature Play Afterschool Monday Series
DESCRIPTION:Our Nature Play Afterschool Program is designed to let kids be kids. Together we will run\, jump\, climb\, invent\, imagine\, play and be free-range children\, all while developing self-confidence and learning valuable social skills. We will explore wooded trails and fields\, play in the leaves\, build forts\, climb trees\, make new discoveries about ourselves and the world around us and use our imaginations. Children will be provided with a safe setting for children to explore nature and stretch their limits as they balance on logs\, hold salamanders\, or co-create new games with their peers. \nwith Aemelia Thompson\nAges 6–8 or Grades 1–3\nMondays\, 3:30–5:30pm\nSeptember 21–December 14 (no class October 12)\nExtended days: September 28 and November 2\, 1:30–5:30pm\nFee per Child: Tier A-$335  | Tier B-$268  | Tier C-$201  | Tier D-$101\nLimited to 10 participants
URL:https://www.hitchcockcenter.org/event/nature-play-afterschool-monday-series-7/
CATEGORIES:Ages 5–8 or Grades K–3
END:VEVENT
BEGIN:VEVENT
DTSTART;TZID=America/New_York:20201117T093000
DTEND;TZID=America/New_York:20201117T123000
DTSTAMP:20260424T125011
CREATED:20200822T225939Z
LAST-MODIFIED:20200827T150946Z
UID:10001852-1605605400-1605616200@www.hitchcockcenter.org
SUMMARY:9:30am-12:30pm  Morning Nature Play Series
DESCRIPTION:Spend Tuesday mornings playing outside in the woods! Challenge your body by balancing on logs and climbing trees. Get as dirty as you like as we romp through the forest\, explore under logs\, make mud pie feasts and splash in puddles. Notice the changes in nature as we go through the season together. Instructor Katie Koerten will lead kids to our favorite places to play in the forest\, such as Stump Town\, the Ferns\, and the Faraway Woods. Please note: lunch is not part of this program\, so please pack a robust snack that includes protein for a mid-program snack. \nwith Katie Koerten\nAges 6–8 or Grades 1–3\nTuesdays\, 9:30am–12:30pm\nSeptember 22–December 15\nFee per Child: Tier A-$604 | Tier B-$483 | Tier C-$363  | Tier D-$181\nLimited to 10 participants per day
URL:https://www.hitchcockcenter.org/event/morning-nature-play-series-9/
CATEGORIES:Ages 5–8 or Grades K–3
END:VEVENT
BEGIN:VEVENT
DTSTART;TZID=America/New_York:20201118T100000
DTEND;TZID=America/New_York:20201118T120000
DTSTAMP:20260424T125011
CREATED:20200822T214357Z
LAST-MODIFIED:20200827T144539Z
UID:10001816-1605693600-1605700800@www.hitchcockcenter.org
SUMMARY:10:00am-12:00pm  Junior Discovery Day: White-Tailed Deer Games
DESCRIPTION:Attention kindergartners and first graders! Junior Discovery Days are one-time nature programs where we notice what’s happening in nature and explore specific topics. Sign up for as many days as you like. Our morning includes snack time\, story\, a nature project and a game. \nWith Katie Koerten\nAges 5–7 or Grades K–1\nWednesdays\, 10am–12pm\nSeptember 23–December 16\nFee per Child: Tier A-$46 per day | Tier B-$37 per day | Tier C-$27 per day | Tier D-$14 per day\nLimited to 8 participants per day \n\nSeptember 23: Colors of Nature\nSeptember 30: Catching Crickets\nOctober 7: Insect Life Cycles\nOctober 14: A Leaf Rainbow\nOctober 21: Wonderful Water\nOctober 28: Spiders Are Friends\nNovember 4: Being Birds\nNovember 11: Super Cool Seeds\nNovember 18: White-Tailed Deer Games\nDecember 2: Gnome Homes\nDecember 9: Faraway Woods Foray\nDecember 16: Gifts from Nature
URL:https://www.hitchcockcenter.org/event/junior-discovery-day-white-tailed-deer-games/
CATEGORIES:Ages 5–8 or Grades K–3
END:VEVENT
BEGIN:VEVENT
DTSTART;TZID=America/New_York:20201118T133000
DTEND;TZID=America/New_York:20201118T173000
DTSTAMP:20260424T125011
CREATED:20200822T224829Z
LAST-MODIFIED:20200827T172614Z
UID:10001840-1605706200-1605720600@www.hitchcockcenter.org
SUMMARY:1:30-5:30pm  Nature Play Afterschool Wednesday Series
DESCRIPTION:Our Nature Play Afterschool Program is designed to let kids be kids. Together we will run\, jump\, climb\, invent\, imagine\, play and be free-range children\, all while developing self-confidence and learning valuable social skills. We will explore wooded trails and fields\, play in the leaves\, build forts\, climb trees\, make new discoveries about ourselves and the world around us and use our imaginations. Children will be provided with a safe setting for children to explore nature and stretch their limits as they balance on logs\, hold salamanders\, or co-create new games with their peers. \nwith Jeff Mazur\nAges 6–8 or Grades 1–3\nWednesdays\, 3:30–5:30pm\nSeptember 16–December 16 (no class November 11 or 25)\nExtended days: October 21\, November 18\, and December 16\, 1:30–5:30pm\nFee per Child: Tier A-$315  | Tier B-$252   | Tier C-$189   | Tier D-$94\nLimited to 10 participants
URL:https://www.hitchcockcenter.org/event/nature-play-afterschool-wednesday-series-8/
CATEGORIES:Ages 5–8 or Grades K–3
END:VEVENT
BEGIN:VEVENT
DTSTART;TZID=America/New_York:20201119T100000
DTEND;TZID=America/New_York:20201119T120000
DTSTAMP:20260424T125011
CREATED:20200925T172046Z
LAST-MODIFIED:20200925T172046Z
UID:10001927-1605780000-1605787200@www.hitchcockcenter.org
SUMMARY:10:00am-12:00pm  Junior Nature Play (In-person)
DESCRIPTION:We are pleased to offer for the first time a new Nature Play program that includes kindergartners— Junior Nature Play! Children in kindergarten and first grade may sign up for this immersive\, lightly-structured program that lets kids be “free-range” while being safely supervised. Instructor Katie Koerten will lead us to our favorite places to play in the forest\, such as Stump Town\, the Ferns\, and the Faraway Woods. Each day includes games\, free play\, a story and snack time. \nwith Katie Koerten\nAges 5–7 or Grades K–1\nThursdays\, September 24–December 17  (No program November 5 and 26)\nFee per Child: Tier A-$432  | Tier B-$345  | Tier C-$259  | Tier D-$129\nLimited to 8 participants per day
URL:https://www.hitchcockcenter.org/event/1000am-1200pm-junior-nature-play-in-person-8/
CATEGORIES:Ages 5–8 or Grades K–3
END:VEVENT
BEGIN:VEVENT
DTSTART;TZID=America/New_York:20201123T100000
DTEND;TZID=America/New_York:20201123T120000
DTSTAMP:20260424T125011
CREATED:20200822T124012Z
LAST-MODIFIED:20200827T144648Z
UID:10001748-1606125600-1606132800@www.hitchcockcenter.org
SUMMARY:10:00am-12:00pm  Junior Nature Play Series
DESCRIPTION:We are pleased to offer for the first time a new Nature Play program that includes kindergartners— Junior Nature Play! Children in kindergarten and first grade may sign up for this immersive\, lightly-structured program that lets kids be “free-range” while being safely supervised. Instructor Katie Koerten will lead us to our favorite places to play in the forest\, such as Stump Town\, the Ferns\, and the Faraway Woods. Each day includes games\, free play\, a story and snack time. \nwith Katie Koerten\nAges 5–7 or Grades K–1\nMondays\, 10am–12pm\nSeptember 21–December 14 (no program October 12)\nFee per Child: Tier A-$470  | Tier B-$376  | Tier C-$282  | Tier D-$141\nLimited to 8 participants per day
URL:https://www.hitchcockcenter.org/event/junior-nature-play-series-9/
CATEGORIES:Ages 5–8 or Grades K–3
END:VEVENT
BEGIN:VEVENT
DTSTART;TZID=America/New_York:20201123T153000
DTEND;TZID=America/New_York:20201123T173000
DTSTAMP:20260424T125011
CREATED:20200822T221929Z
LAST-MODIFIED:20200827T144754Z
UID:10001828-1606145400-1606152600@www.hitchcockcenter.org
SUMMARY:3:30-5:30pm  Nature Play Afterschool Monday Series
DESCRIPTION:Our Nature Play Afterschool Program is designed to let kids be kids. Together we will run\, jump\, climb\, invent\, imagine\, play and be free-range children\, all while developing self-confidence and learning valuable social skills. We will explore wooded trails and fields\, play in the leaves\, build forts\, climb trees\, make new discoveries about ourselves and the world around us and use our imaginations. Children will be provided with a safe setting for children to explore nature and stretch their limits as they balance on logs\, hold salamanders\, or co-create new games with their peers. \nwith Aemelia Thompson\nAges 6–8 or Grades 1–3\nMondays\, 3:30–5:30pm\nSeptember 21–December 14 (no class October 12)\nExtended days: September 28 and November 2\, 1:30–5:30pm\nFee per Child: Tier A-$335  | Tier B-$268  | Tier C-$201  | Tier D-$101\nLimited to 10 participants
URL:https://www.hitchcockcenter.org/event/nature-play-afterschool-monday-series-8/
CATEGORIES:Ages 5–8 or Grades K–3
END:VEVENT
BEGIN:VEVENT
DTSTART;TZID=America/New_York:20201124T093000
DTEND;TZID=America/New_York:20201124T123000
DTSTAMP:20260424T125011
CREATED:20200822T230027Z
LAST-MODIFIED:20200827T144511Z
UID:10001853-1606210200-1606221000@www.hitchcockcenter.org
SUMMARY:9:30am-12:30pm  Morning Nature Play Series
DESCRIPTION:Spend Tuesday mornings playing outside in the woods! Challenge your body by balancing on logs and climbing trees. Get as dirty as you like as we romp through the forest\, explore under logs\, make mud pie feasts and splash in puddles. Notice the changes in nature as we go through the season together. Instructor Katie Koerten will lead kids to our favorite places to play in the forest\, such as Stump Town\, the Ferns\, and the Faraway Woods. Please note: lunch is not part of this program\, so please pack a robust snack that includes protein for a mid-program snack. \nwith Katie Koerten\nAges 6–8 or Grades 1–3\nTuesdays\, 9:30am–12:30pm\nSeptember 22–December 15\nFee per Child: Tier A-$604 | Tier B-$483 | Tier C-$363  | Tier D-$181\nLimited to 10 participants per day
URL:https://www.hitchcockcenter.org/event/morning-nature-play-series-10/
CATEGORIES:Ages 5–8 or Grades K–3
END:VEVENT
BEGIN:VEVENT
DTSTART;TZID=America/New_York:20201130T100000
DTEND;TZID=America/New_York:20201130T120000
DTSTAMP:20260424T125011
CREATED:20200822T124047Z
LAST-MODIFIED:20200827T144445Z
UID:10001749-1606730400-1606737600@www.hitchcockcenter.org
SUMMARY:10:00am-12:00pm  Junior Nature Play Series
DESCRIPTION:We are pleased to offer for the first time a new Nature Play program that includes kindergartners— Junior Nature Play! Children in kindergarten and first grade may sign up for this immersive\, lightly-structured program that lets kids be “free-range” while being safely supervised. Instructor Katie Koerten will lead us to our favorite places to play in the forest\, such as Stump Town\, the Ferns\, and the Faraway Woods. Each day includes games\, free play\, a story and snack time. \nwith Katie Koerten\nAges 5–7 or Grades K–1\nMondays\, 10am–12pm\nSeptember 21–December 14 (no program October 12)\nFee per Child: Tier A-$470  | Tier B-$376  | Tier C-$282  | Tier D-$141\nLimited to 8 participants per day
URL:https://www.hitchcockcenter.org/event/junior-nature-play-series-10/
CATEGORIES:Ages 5–8 or Grades K–3
END:VEVENT
BEGIN:VEVENT
DTSTART;TZID=America/New_York:20201130T153000
DTEND;TZID=America/New_York:20201130T173000
DTSTAMP:20260424T125011
CREATED:20200822T222009Z
LAST-MODIFIED:20200827T144131Z
UID:10001829-1606750200-1606757400@www.hitchcockcenter.org
SUMMARY:3:30-5:30pm  Nature Play Afterschool Monday Series
DESCRIPTION:Our Nature Play Afterschool Program is designed to let kids be kids. Together we will run\, jump\, climb\, invent\, imagine\, play and be free-range children\, all while developing self-confidence and learning valuable social skills. We will explore wooded trails and fields\, play in the leaves\, build forts\, climb trees\, make new discoveries about ourselves and the world around us and use our imaginations. Children will be provided with a safe setting for children to explore nature and stretch their limits as they balance on logs\, hold salamanders\, or co-create new games with their peers. \nwith Aemelia Thompson\nAges 6–8 or Grades 1–3\nMondays\, 3:30–5:30pm\nSeptember 21–December 14 (no class October 12)\nExtended days: September 28 and November 2\, 1:30–5:30pm\nFee per Child: Tier A-$335  | Tier B-$268  | Tier C-$201  | Tier D-$101\nLimited to 10 participants
URL:https://www.hitchcockcenter.org/event/nature-play-afterschool-monday-series-9/
CATEGORIES:Ages 5–8 or Grades K–3
END:VEVENT
END:VCALENDAR