BEGIN:VCALENDAR
VERSION:2.0
PRODID:-//Hitchcock Center for the Environment - ECPv6.15.18//NONSGML v1.0//EN
CALSCALE:GREGORIAN
METHOD:PUBLISH
X-ORIGINAL-URL:https://www.hitchcockcenter.org
X-WR-CALDESC:Events for Hitchcock Center for the Environment
REFRESH-INTERVAL;VALUE=DURATION:PT1H
X-Robots-Tag:noindex
X-PUBLISHED-TTL:PT1H
BEGIN:VTIMEZONE
TZID:America/New_York
BEGIN:DAYLIGHT
TZOFFSETFROM:-0500
TZOFFSETTO:-0400
TZNAME:EDT
DTSTART:20200308T070000
END:DAYLIGHT
BEGIN:STANDARD
TZOFFSETFROM:-0400
TZOFFSETTO:-0500
TZNAME:EST
DTSTART:20201101T060000
END:STANDARD
BEGIN:DAYLIGHT
TZOFFSETFROM:-0500
TZOFFSETTO:-0400
TZNAME:EDT
DTSTART:20210314T070000
END:DAYLIGHT
BEGIN:STANDARD
TZOFFSETFROM:-0400
TZOFFSETTO:-0500
TZNAME:EST
DTSTART:20211107T060000
END:STANDARD
BEGIN:DAYLIGHT
TZOFFSETFROM:-0500
TZOFFSETTO:-0400
TZNAME:EDT
DTSTART:20220313T070000
END:DAYLIGHT
BEGIN:STANDARD
TZOFFSETFROM:-0400
TZOFFSETTO:-0500
TZNAME:EST
DTSTART:20221106T060000
END:STANDARD
END:VTIMEZONE
BEGIN:VEVENT
DTSTART;TZID=America/New_York:20210601T094500
DTEND;TZID=America/New_York:20210601T124500
DTSTAMP:20260421T193552
CREATED:20210114T211458Z
LAST-MODIFIED:20210114T211458Z
UID:10002231-1622540700-1622551500@www.hitchcockcenter.org
SUMMARY:9:45am-12:45pm Morning Nature Play
DESCRIPTION:Morning Nature Play continues into spring 2021! Every day is a mix of games\, exploring and playing. We’ll romp and play in the fields and forests of the Hitchcock Center\, noticing the beauty of the spring season and playing wild games. \nwith Katie Koerten\nAges 6–8 or Grades 1–3\nTuesdays\, 9:45am–12:45pm\nMarch 23 – June 8 (no program April 20)\nFee per Child: Tier A-$557 | Tier B-$446 | Tier C-$334  | Tier D-$223\nLimited to 10 participants
URL:https://www.hitchcockcenter.org/event/945am-1245pm-morning-nature-play-11/
CATEGORIES:Ages 5–8 or Grades K–3
END:VEVENT
BEGIN:VEVENT
DTSTART;TZID=America/New_York:20210602T100000
DTEND;TZID=America/New_York:20210602T120000
DTSTAMP:20260421T193552
CREATED:20210114T213450Z
LAST-MODIFIED:20210114T213450Z
UID:10002242-1622628000-1622635200@www.hitchcockcenter.org
SUMMARY:10am-12pm Junior Discovery Day: Bat and Moth
DESCRIPTION:Attention kindergartners and first graders! Junior Discovery Days are one-time nature programs where we notice what’s happening in nature and explore specific topics. Sign up for as many days as you like. Our morning includes snack time\, story\, a nature project and a game. \nWith Katie Koerten\nAges 5-7\, Grades K-1\nWednesdays\, 10:00am-12:00pm\nMarch 24 – June 2 (no program April 21)\nFee per Child: Tier A-$46 | Tier B-$37 | Tier C-$28  | Tier D-$19\nLimited to 8 participants \nMarch 24: Patterns in Nature\nMarch 31: Awesome Amphibians\nApril 7: A Tree’s Life\nApril 14: Terrific Teeth\nApril 28: Animal Homes\nMay 5: Dandelion Day\nMay 12: Bees in the Hive\nMay 19: Life Under a Log\nMay 26: Oh My Dragonfly\nJune 2: Bat and Moth
URL:https://www.hitchcockcenter.org/event/10am-12pm-junior-discovery-day-bat-and-moth/
CATEGORIES:Ages 5–8 or Grades K–3
END:VEVENT
BEGIN:VEVENT
DTSTART;TZID=America/New_York:20210602T133000
DTEND;TZID=America/New_York:20210602T173000
DTSTAMP:20260421T193552
CREATED:20210114T181844Z
LAST-MODIFIED:20210114T181844Z
UID:10002167-1622640600-1622655000@www.hitchcockcenter.org
SUMMARY:1:30-5:30pm Junior Nature Play Afterschool
DESCRIPTION:Hitchcock’s Nature Play Afterschool Program is designed to let kids be kids. Together we will run\, jump\, climb\, invent\, imagine\, play and be free-range kids all while developing self-confidence and learning valuable social skills. During Spring Nature Play we will explore wooded trails and fields\, play in the mud\, build forts\, climb trees\, and make new discoveries about ourselves and the world around us. Our instructors provide a safe setting for children to explore nature and encourage children to stretch their limits. This program is available to kindergarteners and first graders. \nwith Aemelia Thompson\nAges 5-7 or Grades K-1\nWednesdays\, 3:30-5:30pm\nMarch 24- June 9 (no class April 21)\nExtended days: March 24th\, April 14\, May 12th\, June 2nd 1:30-5:30pm\nFee per Child: Tier A-$413 | Tier B-$330 | Tier C-$248 | Tier D-$165\nLimited to 8 participants
URL:https://www.hitchcockcenter.org/event/130-530pm-junior-nature-play-afterschool-4/
CATEGORIES:Ages 5–8 or Grades K–3
END:VEVENT
BEGIN:VEVENT
DTSTART;TZID=America/New_York:20210603T100000
DTEND;TZID=America/New_York:20210603T120000
DTSTAMP:20260421T193552
CREATED:20210114T215945Z
LAST-MODIFIED:20210114T215945Z
UID:10002261-1622714400-1622721600@www.hitchcockcenter.org
SUMMARY:10am-12pm Junior Nature Play Thursday Series
DESCRIPTION:Junior Nature Play continues into Spring 2021! Children in kindergarten and first grade may sign up for this immersive\, lightly-structured program that lets kids be “free-range” while being safely supervised. Instructor Katie Koerten will lead us to our favorite places to play in the forest\, such as Stump City\, the Ferns\, and the Faraway Woods. We’ll observe how nature changes as winter melts into spring and make exciting seasonal discoveries! Each day includes games\, free play\, a story and snack time. \nAges 5–7 or Grades K–1\nwith Katie Koerten\nThursdays\, 10:00am-12:00pm\nMarch 25 – June 10 (no program April 22)\nFee per Child: Tier A-$440 | Tier B-$352 | Tier C-$264  | Tier D-$176\nLimited to 8 participants
URL:https://www.hitchcockcenter.org/event/10am-12pm-junior-nature-play-thursday-series-9/
CATEGORIES:Ages 5–8 or Grades K–3
END:VEVENT
BEGIN:VEVENT
DTSTART;TZID=America/New_York:20210607T100000
DTEND;TZID=America/New_York:20210607T120000
DTSTAMP:20260421T193552
CREATED:20210114T215055Z
LAST-MODIFIED:20210114T215055Z
UID:10002251-1623060000-1623067200@www.hitchcockcenter.org
SUMMARY:10am-12pm Junior Nature Play Monday Series
DESCRIPTION:Junior Nature Play continues into Spring 2021! Children in kindergarten and first grade may sign up for this immersive\, lightly-structured program that lets kids be “free-range” while being safely supervised. Instructor Katie Koerten will lead us to our favorite places to play in the forest\, such as Stump City\, the Ferns\, and the Faraway Woods. We’ll observe how nature changes as winter melts into spring and make exciting seasonal discoveries! Each day includes games\, free play\, a story and snack time. \nAges 5–7 or Grades K–1\nwith Katie Koerten\nMondays\, 10am–12:00pm\nMarch 22 – June 7 (no program April 19 or May 31)\nFee per Child: Tier A-$400 | Tier B-$320 | Tier C-$240  | Tier D-$160\nLimited to 8 participants
URL:https://www.hitchcockcenter.org/event/10am-12pm-junior-nature-play-monday-series-9/
CATEGORIES:Ages 5–8 or Grades K–3
END:VEVENT
BEGIN:VEVENT
DTSTART;TZID=America/New_York:20210608T094500
DTEND;TZID=America/New_York:20210608T124500
DTSTAMP:20260421T193552
CREATED:20210114T211602Z
LAST-MODIFIED:20210114T211602Z
UID:10002232-1623145500-1623156300@www.hitchcockcenter.org
SUMMARY:9:45am-12:45pm Morning Nature Play
DESCRIPTION:Morning Nature Play continues into spring 2021! Every day is a mix of games\, exploring and playing. We’ll romp and play in the fields and forests of the Hitchcock Center\, noticing the beauty of the spring season and playing wild games. \nwith Katie Koerten\nAges 6–8 or Grades 1–3\nTuesdays\, 9:45am–12:45pm\nMarch 23 – June 8 (no program April 20)\nFee per Child: Tier A-$557 | Tier B-$446 | Tier C-$334  | Tier D-$223\nLimited to 10 participants
URL:https://www.hitchcockcenter.org/event/945am-1245pm-morning-nature-play-12/
CATEGORIES:Ages 5–8 or Grades K–3
END:VEVENT
BEGIN:VEVENT
DTSTART;TZID=America/New_York:20210609T153000
DTEND;TZID=America/New_York:20210609T173000
DTSTAMP:20260421T193552
CREATED:20210114T181934Z
LAST-MODIFIED:20210114T181934Z
UID:10002168-1623252600-1623259800@www.hitchcockcenter.org
SUMMARY:3:30-5:30pm Junior Nature Play Afterschool
DESCRIPTION:Hitchcock’s Nature Play Afterschool Program is designed to let kids be kids. Together we will run\, jump\, climb\, invent\, imagine\, play and be free-range kids all while developing self-confidence and learning valuable social skills. During Spring Nature Play we will explore wooded trails and fields\, play in the mud\, build forts\, climb trees\, and make new discoveries about ourselves and the world around us. Our instructors provide a safe setting for children to explore nature and encourage children to stretch their limits. This program is available to kindergarteners and first graders. \nwith Aemelia Thompson\nAges 5-7 or Grades K-1\nWednesdays\, 3:30-5:30pm\nMarch 24- June 9 (no class April 21)\nExtended days: March 24th\, April 14\, May 12th\, June 2nd 1:30-5:30pm\nFee per Child: Tier A-$413 | Tier B-$330 | Tier C-$248 | Tier D-$165\nLimited to 8 participants
URL:https://www.hitchcockcenter.org/event/330-530pm-junior-nature-play-afterschool-7/
CATEGORIES:Ages 5–8 or Grades K–3
END:VEVENT
BEGIN:VEVENT
DTSTART;TZID=America/New_York:20210610T100000
DTEND;TZID=America/New_York:20210610T120000
DTSTAMP:20260421T193552
CREATED:20210114T220021Z
LAST-MODIFIED:20210114T220021Z
UID:10002262-1623319200-1623326400@www.hitchcockcenter.org
SUMMARY:10am-12pm Junior Nature Play Thursday Series
DESCRIPTION:Junior Nature Play continues into Spring 2021! Children in kindergarten and first grade may sign up for this immersive\, lightly-structured program that lets kids be “free-range” while being safely supervised. Instructor Katie Koerten will lead us to our favorite places to play in the forest\, such as Stump City\, the Ferns\, and the Faraway Woods. We’ll observe how nature changes as winter melts into spring and make exciting seasonal discoveries! Each day includes games\, free play\, a story and snack time. \nAges 5–7 or Grades K–1\nwith Katie Koerten\nThursdays\, 10:00am-12:00pm\nMarch 25 – June 10 (no program April 22)\nFee per Child: Tier A-$440 | Tier B-$352 | Tier C-$264  | Tier D-$176\nLimited to 8 participants
URL:https://www.hitchcockcenter.org/event/10am-12pm-junior-nature-play-thursday-series-10/
CATEGORIES:Ages 5–8 or Grades K–3
END:VEVENT
BEGIN:VEVENT
DTSTART;TZID=America/New_York:20210612T100000
DTEND;TZID=America/New_York:20210612T104500
DTSTAMP:20260421T193552
CREATED:20210114T170748Z
LAST-MODIFIED:20210114T170748Z
UID:10002146-1623492000-1623494700@www.hitchcockcenter.org
SUMMARY:10-1:45am Second Saturday Science Walk: Slime Time
DESCRIPTION:For our Spring sessions of Second Saturday Science we are using the same format as we did in for the Winter session. In order to provide a safe outdoor space to learn about nature\, our programs will be set up as forest walks that will focus on different seasonal topics. Designed for children with their parents\, registration is required. \nSpring\nApril 10: Backbones Not Required\nMay 8: Bloodsuckers in your Backyard\nJune 12: Slime Time \nAges ages 5–7 and Grades  K–1\nLimited to 12 participants.\nChildren must be accompanied by an adult. Limit of 3 children per adult. \nwith Aemelia Thompson\nSecond Saturdays\, 10:00–10:45am\nSpring: April 10\, May 8\, June 12\nSuggested donation of $5-12 per family \nSATURDAY SCIENCE REGISTRATION
URL:https://www.hitchcockcenter.org/event/10-145am-second-saturday-science-walk-slime-time/
CATEGORIES:Ages 5–8 or Grades K–3
END:VEVENT
END:VCALENDAR