BEGIN:VCALENDAR
VERSION:2.0
PRODID:-//Hitchcock Center for the Environment - ECPv6.15.18//NONSGML v1.0//EN
CALSCALE:GREGORIAN
METHOD:PUBLISH
X-WR-CALNAME:Hitchcock Center for the Environment
X-ORIGINAL-URL:https://www.hitchcockcenter.org
X-WR-CALDESC:Events for Hitchcock Center for the Environment
REFRESH-INTERVAL;VALUE=DURATION:PT1H
X-Robots-Tag:noindex
X-PUBLISHED-TTL:PT1H
BEGIN:VTIMEZONE
TZID:America/New_York
BEGIN:DAYLIGHT
TZOFFSETFROM:-0500
TZOFFSETTO:-0400
TZNAME:EDT
DTSTART:20200308T070000
END:DAYLIGHT
BEGIN:STANDARD
TZOFFSETFROM:-0400
TZOFFSETTO:-0500
TZNAME:EST
DTSTART:20201101T060000
END:STANDARD
BEGIN:DAYLIGHT
TZOFFSETFROM:-0500
TZOFFSETTO:-0400
TZNAME:EDT
DTSTART:20210314T070000
END:DAYLIGHT
BEGIN:STANDARD
TZOFFSETFROM:-0400
TZOFFSETTO:-0500
TZNAME:EST
DTSTART:20211107T060000
END:STANDARD
BEGIN:DAYLIGHT
TZOFFSETFROM:-0500
TZOFFSETTO:-0400
TZNAME:EDT
DTSTART:20220313T070000
END:DAYLIGHT
BEGIN:STANDARD
TZOFFSETFROM:-0400
TZOFFSETTO:-0500
TZNAME:EST
DTSTART:20221106T060000
END:STANDARD
END:VTIMEZONE
BEGIN:VEVENT
DTSTART;TZID=America/New_York:20211102T100000
DTEND;TZID=America/New_York:20211102T120000
DTSTAMP:20260421T113116
CREATED:20210618T205539Z
LAST-MODIFIED:20210620T161842Z
UID:10002400-1635847200-1635854400@www.hitchcockcenter.org
SUMMARY:Homeschool I: Making and Tinkering a Better Future
DESCRIPTION:In this fall’s Homeschool I class we will be exploring how we create and tinker with the world around us. We will learn by playing with pendulums\, marble runs\, circuit boards\, and more. Through the challenges of making and tinkering we’ll also explore what it means to make mistakes and have resilience\, even when something takes more than one try. This class will also have time built in for free play\, journal time and organized games. \nWith Monya Relles\nGrades 1-3\, Ages 6-8\nTuesdays 10:00am -2:00 pm\nSeptember 14 -December 7 (No program Sept 28\, Oct 19\, and Nov 23 for Discovery Days)\nTier A:$728 | Tier B:$582 | Tier C:$437 | Tier D:$292\nLimited to 12 participants (if over enrolled\, we may open a second class on Thursdays)
URL:https://www.hitchcockcenter.org/event/homeschool-i-making-and-tinkering-a-better-future-6/
CATEGORIES:Ages 5–8 or Grades K–3
END:VEVENT
BEGIN:VEVENT
DTSTART;TZID=America/New_York:20211103T153000
DTEND;TZID=America/New_York:20211103T173000
DTSTAMP:20260421T113116
CREATED:20210620T185354Z
LAST-MODIFIED:20210620T185354Z
UID:10002448-1635953400-1635960600@www.hitchcockcenter.org
SUMMARY:Junior Nature Play Afterschool Series
DESCRIPTION:Hitchcock’s Junior Nature Play Afterschool Program is designed to let kids be kids. Together we will run\, jump\, climb\, invent\, imagine\, play and be free-range kids all while developing self-confidence and learning valuable social skills. During Fall Junior Nature Play we will explore wooded trails and fields\, play pretend in our mud kitchen\, and make leaf crowns.  Our instructors provide a safe setting for children to explore nature and encourage children to stretch their limits. \nwith Aemelia Thompson\nAges 5-7 or Grades K-1\nWednesdays\, 3:30pm-5:30pm\nSeptember 15 – December 15  (no program November 24)\n*Extended Days: October 20 & December 8\nFee per Child: Tier A-$436 | Tier B-$349 | Tier C-$261  | Tier D-$175\nLimited to 10 participants
URL:https://www.hitchcockcenter.org/event/junior-nature-play-afterschool-series-8/
CATEGORIES:Ages 5–8 or Grades K–3
END:VEVENT
BEGIN:VEVENT
DTSTART;TZID=America/New_York:20211109T100000
DTEND;TZID=America/New_York:20211109T140000
DTSTAMP:20260421T113116
CREATED:20210618T205630Z
LAST-MODIFIED:20210620T161824Z
UID:10002401-1636452000-1636466400@www.hitchcockcenter.org
SUMMARY:Homeschool I: Making and Tinkering a Better Future
DESCRIPTION:In this fall’s Homeschool I class we will be exploring how we create and tinker with the world around us. We will learn by playing with pendulums\, marble runs\, circuit boards\, and more. Through the challenges of making and tinkering we’ll also explore what it means to make mistakes and have resilience\, even when something takes more than one try. This class will also have time built in for free play\, journal time and organized games. \nWith Monya Relles\nGrades 1-3\, Ages 6-8\nTuesdays 10:00am -2:00 pm\nSeptember 14 -December 7 (No program Sept 28\, Oct 19\, and Nov 23 for Discovery Days)\nTier A:$728 | Tier B:$582 | Tier C:$437 | Tier D:$292\nLimited to 12 participants (if over enrolled\, we may open a second class on Thursdays)
URL:https://www.hitchcockcenter.org/event/homeschool-i-making-and-tinkering-a-better-future-7/
CATEGORIES:Ages 5–8 or Grades K–3
END:VEVENT
BEGIN:VEVENT
DTSTART;TZID=America/New_York:20211110T153000
DTEND;TZID=America/New_York:20211110T173000
DTSTAMP:20260421T113116
CREATED:20210620T185509Z
LAST-MODIFIED:20210620T185509Z
UID:10002449-1636558200-1636565400@www.hitchcockcenter.org
SUMMARY:Junior Nature Play Afterschool Series
DESCRIPTION:Hitchcock’s Junior Nature Play Afterschool Program is designed to let kids be kids. Together we will run\, jump\, climb\, invent\, imagine\, play and be free-range kids all while developing self-confidence and learning valuable social skills. During Fall Junior Nature Play we will explore wooded trails and fields\, play pretend in our mud kitchen\, and make leaf crowns.  Our instructors provide a safe setting for children to explore nature and encourage children to stretch their limits. \nwith Aemelia Thompson\nAges 5-7 or Grades K-1\nWednesdays\, 3:30pm-5:30pm\nSeptember 15 – December 15  (no program November 24)\n*Extended Days: October 20 & December 8\nFee per Child: Tier A-$436 | Tier B-$349 | Tier C-$261  | Tier D-$175\nLimited to 10 participants
URL:https://www.hitchcockcenter.org/event/junior-nature-play-afterschool-series-9/
CATEGORIES:Ages 5–8 or Grades K–3
END:VEVENT
BEGIN:VEVENT
DTSTART;TZID=America/New_York:20211113T100000
DTEND;TZID=America/New_York:20211113T110000
DTSTAMP:20260421T113116
CREATED:20210618T015447Z
LAST-MODIFIED:20210719T191739Z
UID:10002369-1636797600-1636801200@www.hitchcockcenter.org
SUMMARY:Second Saturday Family Science: Oh Deer!
DESCRIPTION:Join us for seasonal nature and science programs each second Saturday of the month. Designed for children (ages 5–7) with their parents\, these programs will explore cool topics in nature.  \nwith Aemelia Thompson\nAges 5–7 or Grades  K–1\nSaturdays\, 10–11am \nREGISTER \nSeptember 18: Composting Critters\nOctober 9: Spiders!\nNovember 13: Oh Deer!\nDecember 11:  Crystals and Snowflakes \nSuggested Donation: $5–$30 per family
URL:https://www.hitchcockcenter.org/event/second-saturday-family-science-oh-deer/
CATEGORIES:Ages 5–8 or Grades K–3
END:VEVENT
BEGIN:VEVENT
DTSTART;TZID=America/New_York:20211116T100000
DTEND;TZID=America/New_York:20211116T140000
DTSTAMP:20260421T113116
CREATED:20210618T205724Z
LAST-MODIFIED:20210620T161759Z
UID:10002402-1637056800-1637071200@www.hitchcockcenter.org
SUMMARY:Homeschool I: Making and Tinkering a Better Future
DESCRIPTION:In this fall’s Homeschool I class we will be exploring how we create and tinker with the world around us. We will learn by playing with pendulums\, marble runs\, circuit boards\, and more. Through the challenges of making and tinkering we’ll also explore what it means to make mistakes and have resilience\, even when something takes more than one try. This class will also have time built in for free play\, journal time and organized games. \nWith Monya Relles\nGrades 1-3\, Ages 6-8\nTuesdays 10:00am -2:00 pm\nSeptember 14 -December 7 (No program Sept 28\, Oct 19\, and Nov 23 for Discovery Days)\nTier A:$728 | Tier B:$582 | Tier C:$437 | Tier D:$292\nLimited to 12 participants (if over enrolled\, we may open a second class on Thursdays)
URL:https://www.hitchcockcenter.org/event/homeschool-i-making-and-tinkering-a-better-future-8/
CATEGORIES:Ages 5–8 or Grades K–3
END:VEVENT
BEGIN:VEVENT
DTSTART;TZID=America/New_York:20211117T153000
DTEND;TZID=America/New_York:20211117T173000
DTSTAMP:20260421T113116
CREATED:20210620T185608Z
LAST-MODIFIED:20210620T185608Z
UID:10002450-1637163000-1637170200@www.hitchcockcenter.org
SUMMARY:Junior Nature Play Afterschool Series
DESCRIPTION:Hitchcock’s Junior Nature Play Afterschool Program is designed to let kids be kids. Together we will run\, jump\, climb\, invent\, imagine\, play and be free-range kids all while developing self-confidence and learning valuable social skills. During Fall Junior Nature Play we will explore wooded trails and fields\, play pretend in our mud kitchen\, and make leaf crowns.  Our instructors provide a safe setting for children to explore nature and encourage children to stretch their limits. \nwith Aemelia Thompson\nAges 5-7 or Grades K-1\nWednesdays\, 3:30pm-5:30pm\nSeptember 15 – December 15  (no program November 24)\n*Extended Days: October 20 & December 8\nFee per Child: Tier A-$436 | Tier B-$349 | Tier C-$261  | Tier D-$175\nLimited to 10 participants
URL:https://www.hitchcockcenter.org/event/junior-nature-play-afterschool-series-10/
CATEGORIES:Ages 5–8 or Grades K–3
END:VEVENT
BEGIN:VEVENT
DTSTART;TZID=America/New_York:20211130T100000
DTEND;TZID=America/New_York:20211130T140000
DTSTAMP:20260421T113116
CREATED:20210618T205811Z
LAST-MODIFIED:20210620T161740Z
UID:10002403-1638266400-1638280800@www.hitchcockcenter.org
SUMMARY:Homeschool I: Making and Tinkering a Better Future
DESCRIPTION:In this fall’s Homeschool I class we will be exploring how we create and tinker with the world around us. We will learn by playing with pendulums\, marble runs\, circuit boards\, and more. Through the challenges of making and tinkering we’ll also explore what it means to make mistakes and have resilience\, even when something takes more than one try. This class will also have time built in for free play\, journal time and organized games. \nWith Monya Relles\nGrades 1-3\, Ages 6-8\nTuesdays 10:00am -2:00 pm\nSeptember 14 -December 7 (No program Sept 28\, Oct 19\, and Nov 23 for Discovery Days)\nTier A:$728 | Tier B:$582 | Tier C:$437 | Tier D:$292\nLimited to 12 participants (if over enrolled\, we may open a second class on Thursdays)
URL:https://www.hitchcockcenter.org/event/homeschool-i-making-and-tinkering-a-better-future-9/
CATEGORIES:Ages 5–8 or Grades K–3
END:VEVENT
END:VCALENDAR