BEGIN:VCALENDAR
VERSION:2.0
PRODID:-//Hitchcock Center for the Environment - ECPv6.15.18//NONSGML v1.0//EN
CALSCALE:GREGORIAN
METHOD:PUBLISH
X-ORIGINAL-URL:https://www.hitchcockcenter.org
X-WR-CALDESC:Events for Hitchcock Center for the Environment
REFRESH-INTERVAL;VALUE=DURATION:PT1H
X-Robots-Tag:noindex
X-PUBLISHED-TTL:PT1H
BEGIN:VTIMEZONE
TZID:America/New_York
BEGIN:DAYLIGHT
TZOFFSETFROM:-0500
TZOFFSETTO:-0400
TZNAME:EDT
DTSTART:20210314T070000
END:DAYLIGHT
BEGIN:STANDARD
TZOFFSETFROM:-0400
TZOFFSETTO:-0500
TZNAME:EST
DTSTART:20211107T060000
END:STANDARD
BEGIN:DAYLIGHT
TZOFFSETFROM:-0500
TZOFFSETTO:-0400
TZNAME:EDT
DTSTART:20220313T070000
END:DAYLIGHT
BEGIN:STANDARD
TZOFFSETFROM:-0400
TZOFFSETTO:-0500
TZNAME:EST
DTSTART:20221106T060000
END:STANDARD
BEGIN:DAYLIGHT
TZOFFSETFROM:-0500
TZOFFSETTO:-0400
TZNAME:EDT
DTSTART:20230312T070000
END:DAYLIGHT
BEGIN:STANDARD
TZOFFSETFROM:-0400
TZOFFSETTO:-0500
TZNAME:EST
DTSTART:20231105T060000
END:STANDARD
END:VTIMEZONE
BEGIN:VEVENT
DTSTART;TZID=America/New_York:20220106T090000
DTEND;TZID=America/New_York:20220106T150000
DTSTAMP:20260421T085115
CREATED:20211118T184856Z
LAST-MODIFIED:20211118T184856Z
UID:10002713-1641459600-1641481200@www.hitchcockcenter.org
SUMMARY:January Curriculum Days-No school for Amherst public schools
DESCRIPTION:Thursday January 6th\n9:00 am to 3:00 pm\nAges 6-9 or grades 1st – 3th*\nFee per Child: Tier A-$95 | Tier B-$76 | Tier C-$57  | Tier D-$38\nTotal number of participants: 12 \n  \nCome play outside on this day off for Amherst elementary schoolers! Bring a snack\, lunch and water bottle and come prepared to play outside\, no matter what the weather! Limited to 12 participants. *Depending on enrollment\, your Kindergartner or 4th grader may be able to join. 
URL:https://www.hitchcockcenter.org/event/january-curriculum-days-no-school-for-amherst-public-schools/
CATEGORIES:Ages 5–8 or Grades K–3
END:VEVENT
BEGIN:VEVENT
DTSTART;TZID=America/New_York:20220110T153000
DTEND;TZID=America/New_York:20220110T173000
DTSTAMP:20260421T085115
CREATED:20211118T162707Z
LAST-MODIFIED:20211118T162707Z
UID:10002624-1641828600-1641835800@www.hitchcockcenter.org
SUMMARY:Nature Play Afterschool Series WINTER
DESCRIPTION:Hitchcock’s Nature Play Afterschool Program is designed to let kids be kids. Together we will run\, jump\, climb\, invent\, imagine\, play and be free-range kids all while developing self-confidence and learning valuable social skills. In Winter Nature Play After School we will explore snowy wooded trails and fields\, make snow villages\, and sled down the HCE hill. Our instructors provide a safe setting for children to explore nature and encourage children to stretch their limits. \nwith Aemelia Thompson\nAges 6-9 or grades 1-3\nMondays\, 3:30-5:30pm\nJanuary 10 – March 14 (no program January 17 or February 21)\nFee per Child: Tier A-$245 | Tier B-$196 | Tier C-$147  | Tier D-$98\nLimited to 12 participants
URL:https://www.hitchcockcenter.org/event/nature-play-afterschool-series-winter/
CATEGORIES:Ages 5–8 or Grades K–3
END:VEVENT
BEGIN:VEVENT
DTSTART;TZID=America/New_York:20220111T153000
DTEND;TZID=America/New_York:20220111T173000
DTSTAMP:20260421T085115
CREATED:20211118T163656Z
LAST-MODIFIED:20211118T163813Z
UID:10002632-1641915000-1641922200@www.hitchcockcenter.org
SUMMARY:Nature Play Afterschool Series WINTER
DESCRIPTION:Hitchcock’s Nature Play Afterschool Program is designed to let kids be kids. Together we will run\, jump\, climb\, invent\, imagine\, play and be free-range kids all while developing self-confidence and learning valuable social skills. In Winter Nature Play After School we will explore snowy wooded trails and fields\, make snow villages\, and sled down the HCE hill. Our instructors provide a safe setting for children to explore nature and encourage children to stretch their limits. \nWith Monya Relles\nTuesdays\, 3:30-5:30\nJanuary 11 – March 15 (no program February 22)\nTier A:$271 | Tier B:$217 | Tier C:$163 | Tier D:$109\nLimited to 12 participants
URL:https://www.hitchcockcenter.org/event/22402/
CATEGORIES:Ages 5–8 or Grades K–3
END:VEVENT
BEGIN:VEVENT
DTSTART;TZID=America/New_York:20220112T153000
DTEND;TZID=America/New_York:20220112T173000
DTSTAMP:20260421T085115
CREATED:20211118T165249Z
LAST-MODIFIED:20211118T165249Z
UID:10002641-1642001400-1642008600@www.hitchcockcenter.org
SUMMARY:Nature Play Afterschool Series WINTER
DESCRIPTION:Hitchcock’s Nature Play Afterschool Program is designed to let kids be kids. Together we will run\, jump\, climb\, invent\, imagine\, play and be free-range kids all while developing self-confidence and learning valuable social skills. In Winter Nature Play After School we will explore snowy wooded trails and fields\, make snow villages\, and sled down the HCE hill. Our instructors provide a safe setting for children to explore nature and encourage children to stretch their limits. \nWith Jeff Mazur\nWednesdays\, 3:30-5:30\nJanuary 12 – March 16 \nExtended Days on February 16 & March 9 (no program on February 23)\nFee per Child: Tier A-$322 | Tier B-$257 | Tier C-$193  | Tier D-$123\nLimited to 12 participants
URL:https://www.hitchcockcenter.org/event/nature-play-afterschool-series-winter-17/
CATEGORIES:Ages 5–8 or Grades K–3
END:VEVENT
BEGIN:VEVENT
DTSTART;TZID=America/New_York:20220112T153000
DTEND;TZID=America/New_York:20220112T173000
DTSTAMP:20260421T085115
CREATED:20211118T175251Z
LAST-MODIFIED:20211118T175251Z
UID:10002682-1642001400-1642008600@www.hitchcockcenter.org
SUMMARY:Junior Nature Play Afterschool Series WINTER
DESCRIPTION:Hitchcock’s Junior Nature Play Afterschool Program is designed to let kids be kids. Together we will run\, jump\, climb\, invent\, imagine\, play and be free-range kids all while developing self-confidence and learning valuable social skills. During Winter Junior Nature Play we will explore snowy wooded trails and fields\, make snow villages\, and sled down the HCE hill!  Our instructors provide a safe setting for children to explore nature and encourage children to stretch their limits.  \nwith Aemelia Thompson\nAges 5-7 or Grades K-1\nWednesdays\, 3:30pm-5:30pm\nJanuary 12 – March 16 (no program February 23)\nExtended Days on February 16 & March 9\nFee per Child: Tier A-$330 | Tier B-$264 | Tier C-$198  | Tier D-$132\nLimited to 10 participants
URL:https://www.hitchcockcenter.org/event/junior-nature-play-afterschool-series-winter/
CATEGORIES:Ages 5–8 or Grades K–3
END:VEVENT
BEGIN:VEVENT
DTSTART;TZID=America/New_York:20220118T153000
DTEND;TZID=America/New_York:20220118T173000
DTSTAMP:20260421T085115
CREATED:20211118T163859Z
LAST-MODIFIED:20211118T164530Z
UID:10002633-1642519800-1642527000@www.hitchcockcenter.org
SUMMARY:Nature Play Afterschool Series WINTER
DESCRIPTION:Hitchcock’s Nature Play Afterschool Program is designed to let kids be kids. Together we will run\, jump\, climb\, invent\, imagine\, play and be free-range kids all while developing self-confidence and learning valuable social skills. In Winter Nature Play After School we will explore snowy wooded trails and fields\, make snow villages\, and sled down the HCE hill. Our instructors provide a safe setting for children to explore nature and encourage children to stretch their limits. \nWith Monya Relles\nTuesdays\, 3:30-5:30\nJanuary 11 – March 15 (no program February 22)\nTier A:$271 | Tier B:$217 | Tier C:$163 | Tier D:$109\nLimited to 12 participants
URL:https://www.hitchcockcenter.org/event/nature-play-afterschool-series-winter-9/
CATEGORIES:Ages 5–8 or Grades K–3
END:VEVENT
BEGIN:VEVENT
DTSTART;TZID=America/New_York:20220119T153000
DTEND;TZID=America/New_York:20220119T173000
DTSTAMP:20260421T085115
CREATED:20211118T165415Z
LAST-MODIFIED:20211118T165415Z
UID:10002642-1642606200-1642613400@www.hitchcockcenter.org
SUMMARY:Nature Play Afterschool Series WINTER
DESCRIPTION:Hitchcock’s Nature Play Afterschool Program is designed to let kids be kids. Together we will run\, jump\, climb\, invent\, imagine\, play and be free-range kids all while developing self-confidence and learning valuable social skills. In Winter Nature Play After School we will explore snowy wooded trails and fields\, make snow villages\, and sled down the HCE hill. Our instructors provide a safe setting for children to explore nature and encourage children to stretch their limits. \nWith Jeff Mazur\nWednesdays\, 3:30-5:30\nJanuary 12 – March 16 \nExtended Days on February 16 & March 9 (no program on February 23)\nFee per Child: Tier A-$322 | Tier B-$257 | Tier C-$193  | Tier D-$123\nLimited to 12 participants
URL:https://www.hitchcockcenter.org/event/nature-play-afterschool-series-winter-18/
CATEGORIES:Ages 5–8 or Grades K–3
END:VEVENT
BEGIN:VEVENT
DTSTART;TZID=America/New_York:20220119T153000
DTEND;TZID=America/New_York:20220119T173000
DTSTAMP:20260421T085115
CREATED:20211118T175939Z
LAST-MODIFIED:20211118T175939Z
UID:10002683-1642606200-1642613400@www.hitchcockcenter.org
SUMMARY:Junior Nature Play Afterschool Series WINTER
DESCRIPTION:Hitchcock’s Junior Nature Play Afterschool Program is designed to let kids be kids. Together we will run\, jump\, climb\, invent\, imagine\, play and be free-range kids all while developing self-confidence and learning valuable social skills. During Winter Junior Nature Play we will explore snowy wooded trails and fields\, make snow villages\, and sled down the HCE hill!  Our instructors provide a safe setting for children to explore nature and encourage children to stretch their limits.  \nwith Aemelia Thompson\nAges 5-7 or Grades K-1\nWednesdays\, 3:30pm-5:30pm\nJanuary 12 – March 16 (no program February 23)\nExtended Days on February 16 & March 9\nFee per Child: Tier A-$330 | Tier B-$264 | Tier C-$198  | Tier D-$132\nLimited to 10 participants
URL:https://www.hitchcockcenter.org/event/junior-nature-play-afterschool-series-winter-2/
CATEGORIES:Ages 5–8 or Grades K–3
END:VEVENT
BEGIN:VEVENT
DTSTART;TZID=America/New_York:20220121T090000
DTEND;TZID=America/New_York:20220121T150000
DTSTAMP:20260421T085115
CREATED:20211118T185103Z
LAST-MODIFIED:20211222T181224Z
UID:10002712-1642755600-1642777200@www.hitchcockcenter.org
SUMMARY:January Curriculum Days-No school for Amherst public schools
DESCRIPTION:Friday January 21th \n9:00 am to 3:00 pm\nAges 6-9 or grades 1st – 3th*\nFee per Child: Tier A-$95 | Tier B-$76 | Tier C-$57  | Tier D-$38\nTotal number of participants: 12 \nCome play outside on this day off for Amherst elementary schoolers! Bring a snack\, lunch and water bottle and come prepared to play outside\, no matter what the weather! Limited to 12 participants. *Depending on enrollment\, your Kindergartner or 4th grader may be able to join. 
URL:https://www.hitchcockcenter.org/event/january-curriculum-days-no-school-for-amherst-public-schools-2/
CATEGORIES:Ages 5–8 or Grades K–3
END:VEVENT
BEGIN:VEVENT
DTSTART;TZID=America/New_York:20220124T153000
DTEND;TZID=America/New_York:20220124T173000
DTSTAMP:20260421T085115
CREATED:20211118T162835Z
LAST-MODIFIED:20211118T162835Z
UID:10002625-1643038200-1643045400@www.hitchcockcenter.org
SUMMARY:Nature Play Afterschool Series WINTER
DESCRIPTION:Hitchcock’s Nature Play Afterschool Program is designed to let kids be kids. Together we will run\, jump\, climb\, invent\, imagine\, play and be free-range kids all while developing self-confidence and learning valuable social skills. In Winter Nature Play After School we will explore snowy wooded trails and fields\, make snow villages\, and sled down the HCE hill. Our instructors provide a safe setting for children to explore nature and encourage children to stretch their limits. \nwith Aemelia Thompson\nAges 6-9 or grades 1-3\nMondays\, 3:30-5:30pm\nJanuary 10 – March 14 (no program January 17 or February 21)\nFee per Child: Tier A-$245 | Tier B-$196 | Tier C-$147  | Tier D-$98\nLimited to 12 participants
URL:https://www.hitchcockcenter.org/event/nature-play-afterschool-series-winter-2/
CATEGORIES:Ages 5–8 or Grades K–3
END:VEVENT
BEGIN:VEVENT
DTSTART;TZID=America/New_York:20220125T153000
DTEND;TZID=America/New_York:20220125T173000
DTSTAMP:20260421T085115
CREATED:20211118T163948Z
LAST-MODIFIED:20211118T163948Z
UID:10002634-1643124600-1643131800@www.hitchcockcenter.org
SUMMARY:Nature Play Afterschool Series WINTER
DESCRIPTION:Hitchcock’s Nature Play Afterschool Program is designed to let kids be kids. Together we will run\, jump\, climb\, invent\, imagine\, play and be free-range kids all while developing self-confidence and learning valuable social skills. In Winter Nature Play After School we will explore snowy wooded trails and fields\, make snow villages\, and sled down the HCE hill. Our instructors provide a safe setting for children to explore nature and encourage children to stretch their limits. \nWith Monya Relles\nTuesdays\, 3:30-5:30\nJanuary 11 – March 15 (no program February 22)\nTier A:$271 | Tier B:$217 | Tier C:$163 | Tier D:$109\nLimited to 12 participants
URL:https://www.hitchcockcenter.org/event/nature-play-afterschool-series-winter-10/
CATEGORIES:Ages 5–8 or Grades K–3
END:VEVENT
BEGIN:VEVENT
DTSTART;TZID=America/New_York:20220126T153000
DTEND;TZID=America/New_York:20220126T173000
DTSTAMP:20260421T085115
CREATED:20211118T165503Z
LAST-MODIFIED:20211118T165503Z
UID:10002643-1643211000-1643218200@www.hitchcockcenter.org
SUMMARY:Nature Play Afterschool Series WINTER
DESCRIPTION:Hitchcock’s Nature Play Afterschool Program is designed to let kids be kids. Together we will run\, jump\, climb\, invent\, imagine\, play and be free-range kids all while developing self-confidence and learning valuable social skills. In Winter Nature Play After School we will explore snowy wooded trails and fields\, make snow villages\, and sled down the HCE hill. Our instructors provide a safe setting for children to explore nature and encourage children to stretch their limits. \nWith Jeff Mazur\nWednesdays\, 3:30-5:30\nJanuary 12 – March 16 \nExtended Days on February 16 & March 9 (no program on February 23)\nFee per Child: Tier A-$322 | Tier B-$257 | Tier C-$193  | Tier D-$123\nLimited to 12 participants
URL:https://www.hitchcockcenter.org/event/nature-play-afterschool-series-winter-19/
CATEGORIES:Ages 5–8 or Grades K–3
END:VEVENT
BEGIN:VEVENT
DTSTART;TZID=America/New_York:20220126T153000
DTEND;TZID=America/New_York:20220126T173000
DTSTAMP:20260421T085115
CREATED:20211118T180116Z
LAST-MODIFIED:20211118T180116Z
UID:10002684-1643211000-1643218200@www.hitchcockcenter.org
SUMMARY:Junior Nature Play Afterschool Series WINTER
DESCRIPTION:Hitchcock’s Junior Nature Play Afterschool Program is designed to let kids be kids. Together we will run\, jump\, climb\, invent\, imagine\, play and be free-range kids all while developing self-confidence and learning valuable social skills. During Winter Junior Nature Play we will explore snowy wooded trails and fields\, make snow villages\, and sled down the HCE hill!  Our instructors provide a safe setting for children to explore nature and encourage children to stretch their limits.  \nwith Aemelia Thompson\nAges 5-7 or Grades K-1\nWednesdays\, 3:30pm-5:30pm\nJanuary 12 – March 16 (no program February 23)\nExtended Days on February 16 & March 9\nFee per Child: Tier A-$330 | Tier B-$264 | Tier C-$198  | Tier D-$132\nLimited to 10 participants
URL:https://www.hitchcockcenter.org/event/junior-nature-play-afterschool-series-winter-3/
CATEGORIES:Ages 5–8 or Grades K–3
END:VEVENT
BEGIN:VEVENT
DTSTART;TZID=America/New_York:20220131T153000
DTEND;TZID=America/New_York:20220131T173000
DTSTAMP:20260421T085115
CREATED:20211118T162926Z
LAST-MODIFIED:20211118T162926Z
UID:10002626-1643643000-1643650200@www.hitchcockcenter.org
SUMMARY:Nature Play Afterschool Series WINTER
DESCRIPTION:Hitchcock’s Nature Play Afterschool Program is designed to let kids be kids. Together we will run\, jump\, climb\, invent\, imagine\, play and be free-range kids all while developing self-confidence and learning valuable social skills. In Winter Nature Play After School we will explore snowy wooded trails and fields\, make snow villages\, and sled down the HCE hill. Our instructors provide a safe setting for children to explore nature and encourage children to stretch their limits. \nwith Aemelia Thompson\nAges 6-9 or grades 1-3\nMondays\, 3:30-5:30pm\nJanuary 10 – March 14 (no program January 17 or February 21)\nFee per Child: Tier A-$245 | Tier B-$196 | Tier C-$147  | Tier D-$98\nLimited to 12 participants
URL:https://www.hitchcockcenter.org/event/nature-play-afterschool-series-winter-3/
CATEGORIES:Ages 5–8 or Grades K–3
END:VEVENT
END:VCALENDAR