BEGIN:VCALENDAR
VERSION:2.0
PRODID:-//Hitchcock Center for the Environment - ECPv6.15.18//NONSGML v1.0//EN
CALSCALE:GREGORIAN
METHOD:PUBLISH
X-ORIGINAL-URL:https://www.hitchcockcenter.org
X-WR-CALDESC:Events for Hitchcock Center for the Environment
REFRESH-INTERVAL;VALUE=DURATION:PT1H
X-Robots-Tag:noindex
X-PUBLISHED-TTL:PT1H
BEGIN:VTIMEZONE
TZID:America/New_York
BEGIN:DAYLIGHT
TZOFFSETFROM:-0500
TZOFFSETTO:-0400
TZNAME:EDT
DTSTART:20210314T070000
END:DAYLIGHT
BEGIN:STANDARD
TZOFFSETFROM:-0400
TZOFFSETTO:-0500
TZNAME:EST
DTSTART:20211107T060000
END:STANDARD
BEGIN:DAYLIGHT
TZOFFSETFROM:-0500
TZOFFSETTO:-0400
TZNAME:EDT
DTSTART:20220313T070000
END:DAYLIGHT
BEGIN:STANDARD
TZOFFSETFROM:-0400
TZOFFSETTO:-0500
TZNAME:EST
DTSTART:20221106T060000
END:STANDARD
BEGIN:DAYLIGHT
TZOFFSETFROM:-0500
TZOFFSETTO:-0400
TZNAME:EDT
DTSTART:20230312T070000
END:DAYLIGHT
BEGIN:STANDARD
TZOFFSETFROM:-0400
TZOFFSETTO:-0500
TZNAME:EST
DTSTART:20231105T060000
END:STANDARD
END:VTIMEZONE
BEGIN:VEVENT
DTSTART;TZID=America/New_York:20220201T153000
DTEND;TZID=America/New_York:20220201T173000
DTSTAMP:20260421T034747
CREATED:20211118T164234Z
LAST-MODIFIED:20211118T164234Z
UID:10002635-1643729400-1643736600@www.hitchcockcenter.org
SUMMARY:Nature Play Afterschool Series WINTER
DESCRIPTION:Hitchcock’s Nature Play Afterschool Program is designed to let kids be kids. Together we will run\, jump\, climb\, invent\, imagine\, play and be free-range kids all while developing self-confidence and learning valuable social skills. In Winter Nature Play After School we will explore snowy wooded trails and fields\, make snow villages\, and sled down the HCE hill. Our instructors provide a safe setting for children to explore nature and encourage children to stretch their limits. \nWith Monya Relles\nTuesdays\, 3:30-5:30\nJanuary 11 – March 15 (no program February 22)\nTier A:$271 | Tier B:$217 | Tier C:$163 | Tier D:$109\nLimited to 12 participants
URL:https://www.hitchcockcenter.org/event/nature-play-afterschool-series-winter-11/
CATEGORIES:Ages 5–8 or Grades K–3
END:VEVENT
BEGIN:VEVENT
DTSTART;TZID=America/New_York:20220202T153000
DTEND;TZID=America/New_York:20220202T173000
DTSTAMP:20260421T034747
CREATED:20211118T165603Z
LAST-MODIFIED:20211118T165603Z
UID:10002644-1643815800-1643823000@www.hitchcockcenter.org
SUMMARY:Nature Play Afterschool Series WINTER
DESCRIPTION:Hitchcock’s Nature Play Afterschool Program is designed to let kids be kids. Together we will run\, jump\, climb\, invent\, imagine\, play and be free-range kids all while developing self-confidence and learning valuable social skills. In Winter Nature Play After School we will explore snowy wooded trails and fields\, make snow villages\, and sled down the HCE hill. Our instructors provide a safe setting for children to explore nature and encourage children to stretch their limits. \nWith Jeff Mazur\nWednesdays\, 3:30-5:30\nJanuary 12 – March 16 \nExtended Days on February 16 & March 9 (no program on February 23)\nFee per Child: Tier A-$322 | Tier B-$257 | Tier C-$193  | Tier D-$123\nLimited to 12 participants
URL:https://www.hitchcockcenter.org/event/nature-play-afterschool-series-winter-20/
CATEGORIES:Ages 5–8 or Grades K–3
END:VEVENT
BEGIN:VEVENT
DTSTART;TZID=America/New_York:20220202T153000
DTEND;TZID=America/New_York:20220202T173000
DTSTAMP:20260421T034747
CREATED:20211118T180329Z
LAST-MODIFIED:20211118T180329Z
UID:10002685-1643815800-1643823000@www.hitchcockcenter.org
SUMMARY:Junior Nature Play Afterschool Series WINTER
DESCRIPTION:Hitchcock’s Junior Nature Play Afterschool Program is designed to let kids be kids. Together we will run\, jump\, climb\, invent\, imagine\, play and be free-range kids all while developing self-confidence and learning valuable social skills. During Winter Junior Nature Play we will explore snowy wooded trails and fields\, make snow villages\, and sled down the HCE hill!  Our instructors provide a safe setting for children to explore nature and encourage children to stretch their limits.  \nwith Aemelia Thompson\nAges 5-7 or Grades K-1\nWednesdays\, 3:30pm-5:30pm\nJanuary 12 – March 16 (no program February 23)\nExtended Days on February 16 & March 9\nFee per Child: Tier A-$330 | Tier B-$264 | Tier C-$198  | Tier D-$132\nLimited to 10 participants
URL:https://www.hitchcockcenter.org/event/junior-nature-play-afterschool-series-winter-4/
CATEGORIES:Ages 5–8 or Grades K–3
END:VEVENT
BEGIN:VEVENT
DTSTART;TZID=America/New_York:20220207T153000
DTEND;TZID=America/New_York:20220207T173000
DTSTAMP:20260421T034747
CREATED:20211118T163036Z
LAST-MODIFIED:20211118T163036Z
UID:10002627-1644247800-1644255000@www.hitchcockcenter.org
SUMMARY:Nature Play Afterschool Series WINTER
DESCRIPTION:Hitchcock’s Nature Play Afterschool Program is designed to let kids be kids. Together we will run\, jump\, climb\, invent\, imagine\, play and be free-range kids all while developing self-confidence and learning valuable social skills. In Winter Nature Play After School we will explore snowy wooded trails and fields\, make snow villages\, and sled down the HCE hill. Our instructors provide a safe setting for children to explore nature and encourage children to stretch their limits. \nwith Aemelia Thompson\nAges 6-9 or grades 1-3\nMondays\, 3:30-5:30pm\nJanuary 10 – March 14 (no program January 17 or February 21)\nFee per Child: Tier A-$245 | Tier B-$196 | Tier C-$147  | Tier D-$98\nLimited to 12 participants
URL:https://www.hitchcockcenter.org/event/nature-play-afterschool-series-winter-4/
CATEGORIES:Ages 5–8 or Grades K–3
END:VEVENT
BEGIN:VEVENT
DTSTART;TZID=America/New_York:20220208T150000
DTEND;TZID=America/New_York:20220208T173000
DTSTAMP:20260421T034747
CREATED:20211118T164713Z
LAST-MODIFIED:20211118T164713Z
UID:10002636-1644332400-1644341400@www.hitchcockcenter.org
SUMMARY:Nature Play Afterschool Series WINTER
DESCRIPTION:Hitchcock’s Nature Play Afterschool Program is designed to let kids be kids. Together we will run\, jump\, climb\, invent\, imagine\, play and be free-range kids all while developing self-confidence and learning valuable social skills. In Winter Nature Play After School we will explore snowy wooded trails and fields\, make snow villages\, and sled down the HCE hill. Our instructors provide a safe setting for children to explore nature and encourage children to stretch their limits. \nWith Monya Relles\nTuesdays\, 3:30-5:30\nJanuary 11 – March 15 (no program February 22)\nTier A:$271 | Tier B:$217 | Tier C:$163 | Tier D:$109\nLimited to 12 participants
URL:https://www.hitchcockcenter.org/event/nature-play-afterschool-series-winter-12/
CATEGORIES:Ages 5–8 or Grades K–3
END:VEVENT
BEGIN:VEVENT
DTSTART;TZID=America/New_York:20220209T153000
DTEND;TZID=America/New_York:20220209T173000
DTSTAMP:20260421T034747
CREATED:20211118T165722Z
LAST-MODIFIED:20211118T165722Z
UID:10002645-1644420600-1644427800@www.hitchcockcenter.org
SUMMARY:Nature Play Afterschool Series WINTER
DESCRIPTION:Hitchcock’s Nature Play Afterschool Program is designed to let kids be kids. Together we will run\, jump\, climb\, invent\, imagine\, play and be free-range kids all while developing self-confidence and learning valuable social skills. In Winter Nature Play After School we will explore snowy wooded trails and fields\, make snow villages\, and sled down the HCE hill. Our instructors provide a safe setting for children to explore nature and encourage children to stretch their limits. \nWith Jeff Mazur\nWednesdays\, 3:30-5:30\nJanuary 12 – March 16 \nExtended Days on February 16 & March 9 (no program on February 23)\nFee per Child: Tier A-$322 | Tier B-$257 | Tier C-$193  | Tier D-$123\nLimited to 12 participants
URL:https://www.hitchcockcenter.org/event/nature-play-afterschool-series-winter-21/
CATEGORIES:Ages 5–8 or Grades K–3
END:VEVENT
BEGIN:VEVENT
DTSTART;TZID=America/New_York:20220209T153000
DTEND;TZID=America/New_York:20220209T173000
DTSTAMP:20260421T034747
CREATED:20211118T180609Z
LAST-MODIFIED:20211118T180609Z
UID:10002686-1644420600-1644427800@www.hitchcockcenter.org
SUMMARY:Junior Nature Play Afterschool Series WINTER
DESCRIPTION:Hitchcock’s Junior Nature Play Afterschool Program is designed to let kids be kids. Together we will run\, jump\, climb\, invent\, imagine\, play and be free-range kids all while developing self-confidence and learning valuable social skills. During Winter Junior Nature Play we will explore snowy wooded trails and fields\, make snow villages\, and sled down the HCE hill!  Our instructors provide a safe setting for children to explore nature and encourage children to stretch their limits.  \nwith Aemelia Thompson\nAges 5-7 or Grades K-1\nWednesdays\, 3:30pm-5:30pm\nJanuary 12 – March 16 (no program February 23)\nExtended Days on February 16 & March 9\nFee per Child: Tier A-$330 | Tier B-$264 | Tier C-$198  | Tier D-$132\nLimited to 10 participants
URL:https://www.hitchcockcenter.org/event/junior-nature-play-afterschool-series-winter-5/
CATEGORIES:Ages 5–8 or Grades K–3
END:VEVENT
BEGIN:VEVENT
DTSTART;TZID=America/New_York:20220214T153000
DTEND;TZID=America/New_York:20220214T173000
DTSTAMP:20260421T034747
CREATED:20211118T163133Z
LAST-MODIFIED:20211118T163133Z
UID:10002628-1644852600-1644859800@www.hitchcockcenter.org
SUMMARY:Nature Play Afterschool Series WINTER
DESCRIPTION:Hitchcock’s Nature Play Afterschool Program is designed to let kids be kids. Together we will run\, jump\, climb\, invent\, imagine\, play and be free-range kids all while developing self-confidence and learning valuable social skills. In Winter Nature Play After School we will explore snowy wooded trails and fields\, make snow villages\, and sled down the HCE hill. Our instructors provide a safe setting for children to explore nature and encourage children to stretch their limits. \nwith Aemelia Thompson\nAges 6-9 or grades 1-3\nMondays\, 3:30-5:30pm\nJanuary 10 – March 14 (no program January 17 or February 21)\nFee per Child: Tier A-$245 | Tier B-$196 | Tier C-$147  | Tier D-$98\nLimited to 12 participants
URL:https://www.hitchcockcenter.org/event/nature-play-afterschool-series-winter-5/
CATEGORIES:Ages 5–8 or Grades K–3
END:VEVENT
BEGIN:VEVENT
DTSTART;TZID=America/New_York:20220215T153000
DTEND;TZID=America/New_York:20220215T173000
DTSTAMP:20260421T034747
CREATED:20211118T164828Z
LAST-MODIFIED:20211118T164828Z
UID:10002637-1644939000-1644946200@www.hitchcockcenter.org
SUMMARY:Nature Play Afterschool Series WINTER
DESCRIPTION:Hitchcock’s Nature Play Afterschool Program is designed to let kids be kids. Together we will run\, jump\, climb\, invent\, imagine\, play and be free-range kids all while developing self-confidence and learning valuable social skills. In Winter Nature Play After School we will explore snowy wooded trails and fields\, make snow villages\, and sled down the HCE hill. Our instructors provide a safe setting for children to explore nature and encourage children to stretch their limits. \nWith Monya Relles\nTuesdays\, 3:30-5:30\nJanuary 11 – March 15 (no program February 22)\nTier A:$271 | Tier B:$217 | Tier C:$163 | Tier D:$109\nLimited to 12 participants
URL:https://www.hitchcockcenter.org/event/nature-play-afterschool-series-winter-13/
CATEGORIES:Ages 5–8 or Grades K–3
END:VEVENT
BEGIN:VEVENT
DTSTART;TZID=America/New_York:20220216T133000
DTEND;TZID=America/New_York:20220216T173000
DTSTAMP:20260421T034747
CREATED:20211118T165819Z
LAST-MODIFIED:20211118T165819Z
UID:10002646-1645018200-1645032600@www.hitchcockcenter.org
SUMMARY:Nature Play Afterschool Series WINTER
DESCRIPTION:Hitchcock’s Nature Play Afterschool Program is designed to let kids be kids. Together we will run\, jump\, climb\, invent\, imagine\, play and be free-range kids all while developing self-confidence and learning valuable social skills. In Winter Nature Play After School we will explore snowy wooded trails and fields\, make snow villages\, and sled down the HCE hill. Our instructors provide a safe setting for children to explore nature and encourage children to stretch their limits. \nWith Jeff Mazur\nWednesdays\, 3:30-5:30\nJanuary 12 – March 16 \nExtended Days on February 16 & March 9 (no program on February 23)\nFee per Child: Tier A-$322 | Tier B-$257 | Tier C-$193  | Tier D-$123\nLimited to 12 participants
URL:https://www.hitchcockcenter.org/event/nature-play-afterschool-series-winter-22/
CATEGORIES:Ages 5–8 or Grades K–3
END:VEVENT
BEGIN:VEVENT
DTSTART;TZID=America/New_York:20220216T133000
DTEND;TZID=America/New_York:20220216T173000
DTSTAMP:20260421T034747
CREATED:20211118T180806Z
LAST-MODIFIED:20211118T180806Z
UID:10002687-1645018200-1645032600@www.hitchcockcenter.org
SUMMARY:Junior Nature Play Afterschool Series WINTER
DESCRIPTION:Hitchcock’s Junior Nature Play Afterschool Program is designed to let kids be kids. Together we will run\, jump\, climb\, invent\, imagine\, play and be free-range kids all while developing self-confidence and learning valuable social skills. During Winter Junior Nature Play we will explore snowy wooded trails and fields\, make snow villages\, and sled down the HCE hill!  Our instructors provide a safe setting for children to explore nature and encourage children to stretch their limits.  \nwith Aemelia Thompson\nAges 5-7 or Grades K-1\nWednesdays\, 3:30pm-5:30pm\nJanuary 12 – March 16 (no program February 23)\nExtended Days on February 16 & March 9\nFee per Child: Tier A-$330 | Tier B-$264 | Tier C-$198  | Tier D-$132\nLimited to 10 participants
URL:https://www.hitchcockcenter.org/event/junior-nature-play-afterschool-series-winter-6/
CATEGORIES:Ages 5–8 or Grades K–3
END:VEVENT
BEGIN:VEVENT
DTSTART;TZID=America/New_York:20220228T153000
DTEND;TZID=America/New_York:20220228T173000
DTSTAMP:20260421T034747
CREATED:20211118T163232Z
LAST-MODIFIED:20211118T163232Z
UID:10002629-1646062200-1646069400@www.hitchcockcenter.org
SUMMARY:Nature Play Afterschool Series WINTER
DESCRIPTION:Hitchcock’s Nature Play Afterschool Program is designed to let kids be kids. Together we will run\, jump\, climb\, invent\, imagine\, play and be free-range kids all while developing self-confidence and learning valuable social skills. In Winter Nature Play After School we will explore snowy wooded trails and fields\, make snow villages\, and sled down the HCE hill. Our instructors provide a safe setting for children to explore nature and encourage children to stretch their limits. \nwith Aemelia Thompson\nAges 6-9 or grades 1-3\nMondays\, 3:30-5:30pm\nJanuary 10 – March 14 (no program January 17 or February 21)\nFee per Child: Tier A-$245 | Tier B-$196 | Tier C-$147  | Tier D-$98\nLimited to 12 participants
URL:https://www.hitchcockcenter.org/event/nature-play-afterschool-series-winter-6/
CATEGORIES:Ages 5–8 or Grades K–3
END:VEVENT
END:VCALENDAR