BEGIN:VCALENDAR
VERSION:2.0
PRODID:-//Hitchcock Center for the Environment - ECPv6.15.18//NONSGML v1.0//EN
CALSCALE:GREGORIAN
METHOD:PUBLISH
X-WR-CALNAME:Hitchcock Center for the Environment
X-ORIGINAL-URL:https://www.hitchcockcenter.org
X-WR-CALDESC:Events for Hitchcock Center for the Environment
REFRESH-INTERVAL;VALUE=DURATION:PT1H
X-Robots-Tag:noindex
X-PUBLISHED-TTL:PT1H
BEGIN:VTIMEZONE
TZID:America/New_York
BEGIN:DAYLIGHT
TZOFFSETFROM:-0500
TZOFFSETTO:-0400
TZNAME:EDT
DTSTART:20210314T070000
END:DAYLIGHT
BEGIN:STANDARD
TZOFFSETFROM:-0400
TZOFFSETTO:-0500
TZNAME:EST
DTSTART:20211107T060000
END:STANDARD
BEGIN:DAYLIGHT
TZOFFSETFROM:-0500
TZOFFSETTO:-0400
TZNAME:EDT
DTSTART:20220313T070000
END:DAYLIGHT
BEGIN:STANDARD
TZOFFSETFROM:-0400
TZOFFSETTO:-0500
TZNAME:EST
DTSTART:20221106T060000
END:STANDARD
BEGIN:DAYLIGHT
TZOFFSETFROM:-0500
TZOFFSETTO:-0400
TZNAME:EDT
DTSTART:20230312T070000
END:DAYLIGHT
BEGIN:STANDARD
TZOFFSETFROM:-0400
TZOFFSETTO:-0500
TZNAME:EST
DTSTART:20231105T060000
END:STANDARD
END:VTIMEZONE
BEGIN:VEVENT
DTSTART;TZID=America/New_York:20220502T153000
DTEND;TZID=America/New_York:20220502T173000
DTSTAMP:20260420T235911
CREATED:20211118T171803Z
LAST-MODIFIED:20211118T171803Z
UID:10002655-1651505400-1651512600@www.hitchcockcenter.org
SUMMARY:Nature Play Afterschool Series SPRING
DESCRIPTION:Hitchcock’s Nature Play Afterschool Program is designed to let kids be kids. Together we will run\, jump\, climb\, invent\, imagine\, play and be free-range kids all while developing self-confidence and learning valuable social skills. During Spring Nature Play we will play in the mud and spring rains\, look for bugs\, and enjoy the warming outdoors. Our instructors provide a safe setting for children to explore nature and encourage children to stretch their limits.  \nwith Aemelia Thompson\nAges 6-9 or grades 1-3\nMondays\, 3:30-5:30pm\nMarch 21 – June 6 (no program April 18 or May 30)\nFee per Child: Tier A-$300 | Tier B-$240 | Tier C-$180  | Tier D-$120\nLimited to 12 participants
URL:https://www.hitchcockcenter.org/event/nature-play-afterschool-series-spring-6/
CATEGORIES:Ages 5–8 or Grades K–3
END:VEVENT
BEGIN:VEVENT
DTSTART;TZID=America/New_York:20220503T100000
DTEND;TZID=America/New_York:20220503T140000
DTSTAMP:20260420T235911
CREATED:20211118T150243Z
LAST-MODIFIED:20211118T150243Z
UID:10002571-1651572000-1651586400@www.hitchcockcenter.org
SUMMARY:Homeschool I: From Raindrop to Reservoir
DESCRIPTION:In Homeschool I: Raindrop to Reservoir\, we will dive into the exciting world of water. We will explore how all life depends on water\, how we humans use water in our daily life\, and how we can connect water to our on-site living building. We will approach learning with outdoor play\, hands-on activities\, journaling\, songs\, and more.  \nWith Monya Relles\nGrades 1-3\, Ages 6-8\nTuesdays 10:00am -2:00 pm\nMarch 8 – June 7 (No program Mar 15\, Apr 26\, and May 24 for Discovery Days\, no class April 19 for April Vacation Week)\nTier A: $732 Tier B: $586 Tier C: $439 Tier D: $293\nLimited to 12 participants
URL:https://www.hitchcockcenter.org/event/homeschool-i-from-raindrop-to-reservoir-6/
CATEGORIES:Ages 5–8 or Grades K–3
END:VEVENT
BEGIN:VEVENT
DTSTART;TZID=America/New_York:20220503T153000
DTEND;TZID=America/New_York:20220503T173000
DTSTAMP:20260420T235911
CREATED:20211118T173039Z
LAST-MODIFIED:20211118T173039Z
UID:10002665-1651591800-1651599000@www.hitchcockcenter.org
SUMMARY:Nature Play Afterschool Series SPRING
DESCRIPTION:Hitchcock’s Nature Play Afterschool Program is designed to let kids be kids. Together we will run\, jump\, climb\, invent\, imagine\, play and be free-range kids all while developing self-confidence and learning valuable social skills. During Spring Nature Play we will play in the mud and spring rains\, look for bugs\, and enjoy the warming outdoors. Our instructors provide a safe setting for children to explore nature and encourage children to stretch their limits.  \nWith Monya Relles\nTuesdays\, 3:30-5:30\nMarch 22 – June 7 (no program April 19)\nFee per Child: Tier A:$325 | Tier B:$260 | Tier C:$195 | Tier D:$130\nLimited to 12 participants
URL:https://www.hitchcockcenter.org/event/nature-play-afterschool-series-spring-16/
CATEGORIES:Ages 5–8 or Grades K–3
END:VEVENT
BEGIN:VEVENT
DTSTART;TZID=America/New_York:20220504T153000
DTEND;TZID=America/New_York:20220504T173000
DTSTAMP:20260420T235911
CREATED:20211118T174351Z
LAST-MODIFIED:20211118T174351Z
UID:10002676-1651678200-1651685400@www.hitchcockcenter.org
SUMMARY:Nature Play Afterschool Series SPRING
DESCRIPTION:Hitchcock’s Nature Play Afterschool Program is designed to let kids be kids. Together we will run\, jump\, climb\, invent\, imagine\, play and be free-range kids all while developing self-confidence and learning valuable social skills. During Spring Nature Play we will play in the mud and spring rains\, look for bugs\, and enjoy the warming outdoors. Our instructors provide a safe setting for children to explore nature and encourage children to stretch their limits.  \nWith Jeff Mazur\nWednesdays\, 3:30pm-5:30pm\nMarch 23 – June 8 (no program April 20)\nExtended Days on March 23\, April 6\, & May 11\nFee per Child: Tier A-$403 | Tier B-$322 | Tier C-$242  | Tier D-$161\nLimited to 12 participants
URL:https://www.hitchcockcenter.org/event/nature-play-afterschool-series-spring-27/
CATEGORIES:Ages 5–8 or Grades K–3
END:VEVENT
BEGIN:VEVENT
DTSTART;TZID=America/New_York:20220504T153000
DTEND;TZID=America/New_York:20220504T173000
DTSTAMP:20260420T235911
CREATED:20211118T182247Z
LAST-MODIFIED:20211118T182247Z
UID:10002696-1651678200-1651685400@www.hitchcockcenter.org
SUMMARY:Junior Nature Play Afterschool Series SPRING
DESCRIPTION:Hitchcock’s Junior Nature Play Afterschool Program is designed to let kids be kids. Together we will run\, jump\, climb\, invent\, imagine\, play and be free-range kids all while developing self-confidence and learning valuable social skills. During Spring Junior Nature Play we will play in the mud and spring rains\, look for bugs\, and enjoy the warming outdoors. Our instructors provide a safe setting for children to explore nature and encourage children to stretch their limits.  \nwith Aemelia Thompson\nAges 5-7 or Grades K-1\nWednesdays\, 3:30pm-5:30pm\nMarch 23 – June 8 (no program April 20) \nExtended Days on March 23\, April 6\, & May 11\nFee per Child: Tier A-$410 | Tier B-$328 | Tier C-$246  | Tier D-$164\nLimited to 10 participants
URL:https://www.hitchcockcenter.org/event/junior-nature-play-afterschool-series-spring-6/
CATEGORIES:Ages 5–8 or Grades K–3
END:VEVENT
BEGIN:VEVENT
DTSTART;TZID=America/New_York:20220509T153000
DTEND;TZID=America/New_York:20220509T173000
DTSTAMP:20260420T235911
CREATED:20211118T172105Z
LAST-MODIFIED:20211118T172105Z
UID:10002656-1652110200-1652117400@www.hitchcockcenter.org
SUMMARY:Nature Play Afterschool Series SPRING
DESCRIPTION:Hitchcock’s Nature Play Afterschool Program is designed to let kids be kids. Together we will run\, jump\, climb\, invent\, imagine\, play and be free-range kids all while developing self-confidence and learning valuable social skills. During Spring Nature Play we will play in the mud and spring rains\, look for bugs\, and enjoy the warming outdoors. Our instructors provide a safe setting for children to explore nature and encourage children to stretch their limits.  \nwith Aemelia Thompson\nAges 6-9 or grades 1-3\nMondays\, 3:30-5:30pm\nMarch 21 – June 6 (no program April 18 or May 30)\nFee per Child: Tier A-$300 | Tier B-$240 | Tier C-$180  | Tier D-$120\nLimited to 12 participants
URL:https://www.hitchcockcenter.org/event/nature-play-afterschool-series-spring-7/
CATEGORIES:Ages 5–8 or Grades K–3
END:VEVENT
BEGIN:VEVENT
DTSTART;TZID=America/New_York:20220510T100000
DTEND;TZID=America/New_York:20220510T140000
DTSTAMP:20260420T235911
CREATED:20211118T150406Z
LAST-MODIFIED:20211118T150406Z
UID:10002572-1652176800-1652191200@www.hitchcockcenter.org
SUMMARY:Homeschool I: From Raindrop to Reservoir
DESCRIPTION:In Homeschool I: Raindrop to Reservoir\, we will dive into the exciting world of water. We will explore how all life depends on water\, how we humans use water in our daily life\, and how we can connect water to our on-site living building. We will approach learning with outdoor play\, hands-on activities\, journaling\, songs\, and more.  \nWith Monya Relles\nGrades 1-3\, Ages 6-8\nTuesdays 10:00am -2:00 pm\nMarch 8 – June 7 (No program Mar 15\, Apr 26\, and May 24 for Discovery Days\, no class April 19 for April Vacation Week)\nTier A: $732 Tier B: $586 Tier C: $439 Tier D: $293\nLimited to 12 participants
URL:https://www.hitchcockcenter.org/event/homeschool-i-from-raindrop-to-reservoir-7/
CATEGORIES:Ages 5–8 or Grades K–3
END:VEVENT
BEGIN:VEVENT
DTSTART;TZID=America/New_York:20220510T153000
DTEND;TZID=America/New_York:20220510T173000
DTSTAMP:20260420T235911
CREATED:20211118T173122Z
LAST-MODIFIED:20211118T173122Z
UID:10002666-1652196600-1652203800@www.hitchcockcenter.org
SUMMARY:Nature Play Afterschool Series SPRING
DESCRIPTION:Hitchcock’s Nature Play Afterschool Program is designed to let kids be kids. Together we will run\, jump\, climb\, invent\, imagine\, play and be free-range kids all while developing self-confidence and learning valuable social skills. During Spring Nature Play we will play in the mud and spring rains\, look for bugs\, and enjoy the warming outdoors. Our instructors provide a safe setting for children to explore nature and encourage children to stretch their limits.  \nWith Monya Relles\nTuesdays\, 3:30-5:30\nMarch 22 – June 7 (no program April 19)\nFee per Child: Tier A:$325 | Tier B:$260 | Tier C:$195 | Tier D:$130\nLimited to 12 participants
URL:https://www.hitchcockcenter.org/event/nature-play-afterschool-series-spring-17/
CATEGORIES:Ages 5–8 or Grades K–3
END:VEVENT
BEGIN:VEVENT
DTSTART;TZID=America/New_York:20220511T133000
DTEND;TZID=America/New_York:20220511T173000
DTSTAMP:20260420T235911
CREATED:20211118T174829Z
LAST-MODIFIED:20211118T174829Z
UID:10002680-1652275800-1652290200@www.hitchcockcenter.org
SUMMARY:Nature Play Afterschool Series SPRING
DESCRIPTION:Hitchcock’s Nature Play Afterschool Program is designed to let kids be kids. Together we will run\, jump\, climb\, invent\, imagine\, play and be free-range kids all while developing self-confidence and learning valuable social skills. During Spring Nature Play we will play in the mud and spring rains\, look for bugs\, and enjoy the warming outdoors. Our instructors provide a safe setting for children to explore nature and encourage children to stretch their limits.  \nWith Jeff Mazur\nWednesdays\, 3:30pm-5:30pm\nMarch 23 – June 8 (no program April 20)\nExtended Days on March 23\, April 6\, & May 11\nFee per Child: Tier A-$403 | Tier B-$322 | Tier C-$242  | Tier D-$161\nLimited to 12 participants
URL:https://www.hitchcockcenter.org/event/nature-play-afterschool-series-spring-31/
CATEGORIES:Ages 5–8 or Grades K–3
END:VEVENT
BEGIN:VEVENT
DTSTART;TZID=America/New_York:20220511T133000
DTEND;TZID=America/New_York:20220511T173000
DTSTAMP:20260420T235911
CREATED:20211118T182345Z
LAST-MODIFIED:20211118T182345Z
UID:10002697-1652275800-1652290200@www.hitchcockcenter.org
SUMMARY:Junior Nature Play Afterschool Series SPRING
DESCRIPTION:Hitchcock’s Junior Nature Play Afterschool Program is designed to let kids be kids. Together we will run\, jump\, climb\, invent\, imagine\, play and be free-range kids all while developing self-confidence and learning valuable social skills. During Spring Junior Nature Play we will play in the mud and spring rains\, look for bugs\, and enjoy the warming outdoors. Our instructors provide a safe setting for children to explore nature and encourage children to stretch their limits.  \nwith Aemelia Thompson\nAges 5-7 or Grades K-1\nWednesdays\, 3:30pm-5:30pm\nMarch 23 – June 8 (no program April 20) \nExtended Days on March 23\, April 6\, & May 11\nFee per Child: Tier A-$410 | Tier B-$328 | Tier C-$246  | Tier D-$164\nLimited to 10 participants
URL:https://www.hitchcockcenter.org/event/junior-nature-play-afterschool-series-spring-7/
CATEGORIES:Ages 5–8 or Grades K–3
END:VEVENT
BEGIN:VEVENT
DTSTART;TZID=America/New_York:20220516T153000
DTEND;TZID=America/New_York:20220516T173000
DTSTAMP:20260420T235911
CREATED:20211118T172200Z
LAST-MODIFIED:20211118T172200Z
UID:10002657-1652715000-1652722200@www.hitchcockcenter.org
SUMMARY:Nature Play Afterschool Series SPRING
DESCRIPTION:Hitchcock’s Nature Play Afterschool Program is designed to let kids be kids. Together we will run\, jump\, climb\, invent\, imagine\, play and be free-range kids all while developing self-confidence and learning valuable social skills. During Spring Nature Play we will play in the mud and spring rains\, look for bugs\, and enjoy the warming outdoors. Our instructors provide a safe setting for children to explore nature and encourage children to stretch their limits.  \nwith Aemelia Thompson\nAges 6-9 or grades 1-3\nMondays\, 3:30-5:30pm\nMarch 21 – June 6 (no program April 18 or May 30)\nFee per Child: Tier A-$300 | Tier B-$240 | Tier C-$180  | Tier D-$120\nLimited to 12 participants
URL:https://www.hitchcockcenter.org/event/nature-play-afterschool-series-spring-8/
CATEGORIES:Ages 5–8 or Grades K–3
END:VEVENT
BEGIN:VEVENT
DTSTART;TZID=America/New_York:20220517T100000
DTEND;TZID=America/New_York:20220517T140000
DTSTAMP:20260420T235911
CREATED:20211118T150459Z
LAST-MODIFIED:20211118T150459Z
UID:10002573-1652781600-1652796000@www.hitchcockcenter.org
SUMMARY:Homeschool I: From Raindrop to Reservoir
DESCRIPTION:In Homeschool I: Raindrop to Reservoir\, we will dive into the exciting world of water. We will explore how all life depends on water\, how we humans use water in our daily life\, and how we can connect water to our on-site living building. We will approach learning with outdoor play\, hands-on activities\, journaling\, songs\, and more.  \nWith Monya Relles\nGrades 1-3\, Ages 6-8\nTuesdays 10:00am -2:00 pm\nMarch 8 – June 7 (No program Mar 15\, Apr 26\, and May 24 for Discovery Days\, no class April 19 for April Vacation Week)\nTier A: $732 Tier B: $586 Tier C: $439 Tier D: $293\nLimited to 12 participants
URL:https://www.hitchcockcenter.org/event/homeschool-i-from-raindrop-to-reservoir-8/
CATEGORIES:Ages 5–8 or Grades K–3
END:VEVENT
BEGIN:VEVENT
DTSTART;TZID=America/New_York:20220517T153000
DTEND;TZID=America/New_York:20220517T173000
DTSTAMP:20260420T235911
CREATED:20211118T173227Z
LAST-MODIFIED:20211118T173227Z
UID:10002667-1652801400-1652808600@www.hitchcockcenter.org
SUMMARY:Nature Play Afterschool Series SPRING
DESCRIPTION:Hitchcock’s Nature Play Afterschool Program is designed to let kids be kids. Together we will run\, jump\, climb\, invent\, imagine\, play and be free-range kids all while developing self-confidence and learning valuable social skills. During Spring Nature Play we will play in the mud and spring rains\, look for bugs\, and enjoy the warming outdoors. Our instructors provide a safe setting for children to explore nature and encourage children to stretch their limits.  \nWith Monya Relles\nTuesdays\, 3:30-5:30\nMarch 22 – June 7 (no program April 19)\nFee per Child: Tier A:$325 | Tier B:$260 | Tier C:$195 | Tier D:$130\nLimited to 12 participants
URL:https://www.hitchcockcenter.org/event/nature-play-afterschool-series-spring-18/
CATEGORIES:Ages 5–8 or Grades K–3
END:VEVENT
BEGIN:VEVENT
DTSTART;TZID=America/New_York:20220518T153000
DTEND;TZID=America/New_York:20220518T173000
DTSTAMP:20260420T235911
CREATED:20211118T174446Z
LAST-MODIFIED:20211118T174555Z
UID:10002677-1652887800-1652895000@www.hitchcockcenter.org
SUMMARY:Nature Play Afterschool Series SPRING
DESCRIPTION:Hitchcock’s Nature Play Afterschool Program is designed to let kids be kids. Together we will run\, jump\, climb\, invent\, imagine\, play and be free-range kids all while developing self-confidence and learning valuable social skills. During Spring Nature Play we will play in the mud and spring rains\, look for bugs\, and enjoy the warming outdoors. Our instructors provide a safe setting for children to explore nature and encourage children to stretch their limits.  \nWith Jeff Mazur\nWednesdays\, 3:30pm-5:30pm\nMarch 23 – June 8 (no program April 20)\nExtended Days on March 23\, April 6\, & May 11\nFee per Child: Tier A-$403 | Tier B-$322 | Tier C-$242  | Tier D-$161\nLimited to 12 participants
URL:https://www.hitchcockcenter.org/event/nature-play-afterschool-series-spring-28/
CATEGORIES:Ages 5–8 or Grades K–3
END:VEVENT
BEGIN:VEVENT
DTSTART;TZID=America/New_York:20220518T153000
DTEND;TZID=America/New_York:20220518T173000
DTSTAMP:20260420T235911
CREATED:20211118T182431Z
LAST-MODIFIED:20211118T182431Z
UID:10002698-1652887800-1652895000@www.hitchcockcenter.org
SUMMARY:Junior Nature Play Afterschool Series SPRING
DESCRIPTION:Hitchcock’s Junior Nature Play Afterschool Program is designed to let kids be kids. Together we will run\, jump\, climb\, invent\, imagine\, play and be free-range kids all while developing self-confidence and learning valuable social skills. During Spring Junior Nature Play we will play in the mud and spring rains\, look for bugs\, and enjoy the warming outdoors. Our instructors provide a safe setting for children to explore nature and encourage children to stretch their limits.  \nwith Aemelia Thompson\nAges 5-7 or Grades K-1\nWednesdays\, 3:30pm-5:30pm\nMarch 23 – June 8 (no program April 20) \nExtended Days on March 23\, April 6\, & May 11\nFee per Child: Tier A-$410 | Tier B-$328 | Tier C-$246  | Tier D-$164\nLimited to 10 participants
URL:https://www.hitchcockcenter.org/event/junior-nature-play-afterschool-series-spring-8/
CATEGORIES:Ages 5–8 or Grades K–3
END:VEVENT
BEGIN:VEVENT
DTSTART;TZID=America/New_York:20220523T153000
DTEND;TZID=America/New_York:20220523T173000
DTSTAMP:20260420T235911
CREATED:20211118T172259Z
LAST-MODIFIED:20211118T172259Z
UID:10002658-1653319800-1653327000@www.hitchcockcenter.org
SUMMARY:Nature Play Afterschool Series SPRING
DESCRIPTION:Hitchcock’s Nature Play Afterschool Program is designed to let kids be kids. Together we will run\, jump\, climb\, invent\, imagine\, play and be free-range kids all while developing self-confidence and learning valuable social skills. During Spring Nature Play we will play in the mud and spring rains\, look for bugs\, and enjoy the warming outdoors. Our instructors provide a safe setting for children to explore nature and encourage children to stretch their limits.  \nwith Aemelia Thompson\nAges 6-9 or grades 1-3\nMondays\, 3:30-5:30pm\nMarch 21 – June 6 (no program April 18 or May 30)\nFee per Child: Tier A-$300 | Tier B-$240 | Tier C-$180  | Tier D-$120\nLimited to 12 participants
URL:https://www.hitchcockcenter.org/event/nature-play-afterschool-series-spring-9/
CATEGORIES:Ages 5–8 or Grades K–3
END:VEVENT
BEGIN:VEVENT
DTSTART;TZID=America/New_York:20220524T153000
DTEND;TZID=America/New_York:20220524T173000
DTSTAMP:20260420T235911
CREATED:20211118T173324Z
LAST-MODIFIED:20211118T173324Z
UID:10002668-1653406200-1653413400@www.hitchcockcenter.org
SUMMARY:Nature Play Afterschool Series SPRING
DESCRIPTION:Hitchcock’s Nature Play Afterschool Program is designed to let kids be kids. Together we will run\, jump\, climb\, invent\, imagine\, play and be free-range kids all while developing self-confidence and learning valuable social skills. During Spring Nature Play we will play in the mud and spring rains\, look for bugs\, and enjoy the warming outdoors. Our instructors provide a safe setting for children to explore nature and encourage children to stretch their limits.  \nWith Monya Relles\nTuesdays\, 3:30-5:30\nMarch 22 – June 7 (no program April 19)\nFee per Child: Tier A:$325 | Tier B:$260 | Tier C:$195 | Tier D:$130\nLimited to 12 participants
URL:https://www.hitchcockcenter.org/event/nature-play-afterschool-series-spring-19/
CATEGORIES:Ages 5–8 or Grades K–3
END:VEVENT
BEGIN:VEVENT
DTSTART;TZID=America/New_York:20220525T153000
DTEND;TZID=America/New_York:20220525T173000
DTSTAMP:20260420T235911
CREATED:20211118T174610Z
LAST-MODIFIED:20211118T174610Z
UID:10002678-1653492600-1653499800@www.hitchcockcenter.org
SUMMARY:Nature Play Afterschool Series SPRING
DESCRIPTION:Hitchcock’s Nature Play Afterschool Program is designed to let kids be kids. Together we will run\, jump\, climb\, invent\, imagine\, play and be free-range kids all while developing self-confidence and learning valuable social skills. During Spring Nature Play we will play in the mud and spring rains\, look for bugs\, and enjoy the warming outdoors. Our instructors provide a safe setting for children to explore nature and encourage children to stretch their limits.  \nWith Jeff Mazur\nWednesdays\, 3:30pm-5:30pm\nMarch 23 – June 8 (no program April 20)\nExtended Days on March 23\, April 6\, & May 11\nFee per Child: Tier A-$403 | Tier B-$322 | Tier C-$242  | Tier D-$161\nLimited to 12 participants
URL:https://www.hitchcockcenter.org/event/nature-play-afterschool-series-spring-29/
CATEGORIES:Ages 5–8 or Grades K–3
END:VEVENT
BEGIN:VEVENT
DTSTART;TZID=America/New_York:20220525T153000
DTEND;TZID=America/New_York:20220525T173000
DTSTAMP:20260420T235911
CREATED:20211118T182527Z
LAST-MODIFIED:20211118T182527Z
UID:10002699-1653492600-1653499800@www.hitchcockcenter.org
SUMMARY:Junior Nature Play Afterschool Series SPRING
DESCRIPTION:Hitchcock’s Junior Nature Play Afterschool Program is designed to let kids be kids. Together we will run\, jump\, climb\, invent\, imagine\, play and be free-range kids all while developing self-confidence and learning valuable social skills. During Spring Junior Nature Play we will play in the mud and spring rains\, look for bugs\, and enjoy the warming outdoors. Our instructors provide a safe setting for children to explore nature and encourage children to stretch their limits.  \nwith Aemelia Thompson\nAges 5-7 or Grades K-1\nWednesdays\, 3:30pm-5:30pm\nMarch 23 – June 8 (no program April 20) \nExtended Days on March 23\, April 6\, & May 11\nFee per Child: Tier A-$410 | Tier B-$328 | Tier C-$246  | Tier D-$164\nLimited to 10 participants
URL:https://www.hitchcockcenter.org/event/junior-nature-play-afterschool-series-spring-9/
CATEGORIES:Ages 5–8 or Grades K–3
END:VEVENT
BEGIN:VEVENT
DTSTART;TZID=America/New_York:20220531T100000
DTEND;TZID=America/New_York:20220531T140000
DTSTAMP:20260420T235911
CREATED:20211118T150550Z
LAST-MODIFIED:20211118T150550Z
UID:10002574-1653991200-1654005600@www.hitchcockcenter.org
SUMMARY:Homeschool I: From Raindrop to Reservoir
DESCRIPTION:In Homeschool I: Raindrop to Reservoir\, we will dive into the exciting world of water. We will explore how all life depends on water\, how we humans use water in our daily life\, and how we can connect water to our on-site living building. We will approach learning with outdoor play\, hands-on activities\, journaling\, songs\, and more.  \nWith Monya Relles\nGrades 1-3\, Ages 6-8\nTuesdays 10:00am -2:00 pm\nMarch 8 – June 7 (No program Mar 15\, Apr 26\, and May 24 for Discovery Days\, no class April 19 for April Vacation Week)\nTier A: $732 Tier B: $586 Tier C: $439 Tier D: $293\nLimited to 12 participants
URL:https://www.hitchcockcenter.org/event/homeschool-i-from-raindrop-to-reservoir-9/
CATEGORIES:Ages 5–8 or Grades K–3
END:VEVENT
BEGIN:VEVENT
DTSTART;TZID=America/New_York:20220531T153000
DTEND;TZID=America/New_York:20220531T173000
DTSTAMP:20260420T235911
CREATED:20211118T173505Z
LAST-MODIFIED:20211118T173505Z
UID:10002669-1654011000-1654018200@www.hitchcockcenter.org
SUMMARY:Nature Play Afterschool Series SPRING
DESCRIPTION:Hitchcock’s Nature Play Afterschool Program is designed to let kids be kids. Together we will run\, jump\, climb\, invent\, imagine\, play and be free-range kids all while developing self-confidence and learning valuable social skills. During Spring Nature Play we will play in the mud and spring rains\, look for bugs\, and enjoy the warming outdoors. Our instructors provide a safe setting for children to explore nature and encourage children to stretch their limits.  \nWith Monya Relles\nTuesdays\, 3:30-5:30\nMarch 22 – June 7 (no program April 19)\nFee per Child: Tier A:$325 | Tier B:$260 | Tier C:$195 | Tier D:$130\nLimited to 12 participants
URL:https://www.hitchcockcenter.org/event/nature-play-afterschool-series-spring-20/
CATEGORIES:Ages 5–8 or Grades K–3
END:VEVENT
END:VCALENDAR