BEGIN:VCALENDAR
VERSION:2.0
PRODID:-//Hitchcock Center for the Environment - ECPv6.15.18//NONSGML v1.0//EN
CALSCALE:GREGORIAN
METHOD:PUBLISH
X-ORIGINAL-URL:https://www.hitchcockcenter.org
X-WR-CALDESC:Events for Hitchcock Center for the Environment
REFRESH-INTERVAL;VALUE=DURATION:PT1H
X-Robots-Tag:noindex
X-PUBLISHED-TTL:PT1H
BEGIN:VTIMEZONE
TZID:America/New_York
BEGIN:DAYLIGHT
TZOFFSETFROM:-0500
TZOFFSETTO:-0400
TZNAME:EDT
DTSTART:20210314T070000
END:DAYLIGHT
BEGIN:STANDARD
TZOFFSETFROM:-0400
TZOFFSETTO:-0500
TZNAME:EST
DTSTART:20211107T060000
END:STANDARD
BEGIN:DAYLIGHT
TZOFFSETFROM:-0500
TZOFFSETTO:-0400
TZNAME:EDT
DTSTART:20220313T070000
END:DAYLIGHT
BEGIN:STANDARD
TZOFFSETFROM:-0400
TZOFFSETTO:-0500
TZNAME:EST
DTSTART:20221106T060000
END:STANDARD
BEGIN:DAYLIGHT
TZOFFSETFROM:-0500
TZOFFSETTO:-0400
TZNAME:EDT
DTSTART:20230312T070000
END:DAYLIGHT
BEGIN:STANDARD
TZOFFSETFROM:-0400
TZOFFSETTO:-0500
TZNAME:EST
DTSTART:20231105T060000
END:STANDARD
END:VTIMEZONE
BEGIN:VEVENT
DTSTART;TZID=America/New_York:20220601T153000
DTEND;TZID=America/New_York:20220601T173000
DTSTAMP:20260420T224653
CREATED:20211118T174719Z
LAST-MODIFIED:20211118T174719Z
UID:10002679-1654097400-1654104600@www.hitchcockcenter.org
SUMMARY:Nature Play Afterschool Series SPRING
DESCRIPTION:Hitchcock’s Nature Play Afterschool Program is designed to let kids be kids. Together we will run\, jump\, climb\, invent\, imagine\, play and be free-range kids all while developing self-confidence and learning valuable social skills. During Spring Nature Play we will play in the mud and spring rains\, look for bugs\, and enjoy the warming outdoors. Our instructors provide a safe setting for children to explore nature and encourage children to stretch their limits.  \nWith Jeff Mazur\nWednesdays\, 3:30pm-5:30pm\nMarch 23 – June 8 (no program April 20)\nExtended Days on March 23\, April 6\, & May 11\nFee per Child: Tier A-$403 | Tier B-$322 | Tier C-$242  | Tier D-$161\nLimited to 12 participants
URL:https://www.hitchcockcenter.org/event/nature-play-afterschool-series-spring-30/
CATEGORIES:Ages 5–8 or Grades K–3
END:VEVENT
BEGIN:VEVENT
DTSTART;TZID=America/New_York:20220601T153000
DTEND;TZID=America/New_York:20220601T173000
DTSTAMP:20260420T224653
CREATED:20211118T182615Z
LAST-MODIFIED:20211118T182615Z
UID:10002700-1654097400-1654104600@www.hitchcockcenter.org
SUMMARY:Junior Nature Play Afterschool Series SPRING
DESCRIPTION:Hitchcock’s Junior Nature Play Afterschool Program is designed to let kids be kids. Together we will run\, jump\, climb\, invent\, imagine\, play and be free-range kids all while developing self-confidence and learning valuable social skills. During Spring Junior Nature Play we will play in the mud and spring rains\, look for bugs\, and enjoy the warming outdoors. Our instructors provide a safe setting for children to explore nature and encourage children to stretch their limits.  \nwith Aemelia Thompson\nAges 5-7 or Grades K-1\nWednesdays\, 3:30pm-5:30pm\nMarch 23 – June 8 (no program April 20) \nExtended Days on March 23\, April 6\, & May 11\nFee per Child: Tier A-$410 | Tier B-$328 | Tier C-$246  | Tier D-$164\nLimited to 10 participants
URL:https://www.hitchcockcenter.org/event/junior-nature-play-afterschool-series-spring-10/
CATEGORIES:Ages 5–8 or Grades K–3
END:VEVENT
BEGIN:VEVENT
DTSTART;TZID=America/New_York:20220606T153000
DTEND;TZID=America/New_York:20220606T173000
DTSTAMP:20260420T224653
CREATED:20211118T172345Z
LAST-MODIFIED:20211118T172345Z
UID:10002659-1654529400-1654536600@www.hitchcockcenter.org
SUMMARY:Nature Play Afterschool Series SPRING
DESCRIPTION:Hitchcock’s Nature Play Afterschool Program is designed to let kids be kids. Together we will run\, jump\, climb\, invent\, imagine\, play and be free-range kids all while developing self-confidence and learning valuable social skills. During Spring Nature Play we will play in the mud and spring rains\, look for bugs\, and enjoy the warming outdoors. Our instructors provide a safe setting for children to explore nature and encourage children to stretch their limits.  \nwith Aemelia Thompson\nAges 6-9 or grades 1-3\nMondays\, 3:30-5:30pm\nMarch 21 – June 6 (no program April 18 or May 30)\nFee per Child: Tier A-$300 | Tier B-$240 | Tier C-$180  | Tier D-$120\nLimited to 12 participants
URL:https://www.hitchcockcenter.org/event/nature-play-afterschool-series-spring-10/
CATEGORIES:Ages 5–8 or Grades K–3
END:VEVENT
BEGIN:VEVENT
DTSTART;TZID=America/New_York:20220607T100000
DTEND;TZID=America/New_York:20220607T140000
DTSTAMP:20260420T224653
CREATED:20211118T150719Z
LAST-MODIFIED:20211118T150719Z
UID:10002575-1654596000-1654610400@www.hitchcockcenter.org
SUMMARY:Homeschool I: From Raindrop to Reservoir
DESCRIPTION:In Homeschool I: Raindrop to Reservoir\, we will dive into the exciting world of water. We will explore how all life depends on water\, how we humans use water in our daily life\, and how we can connect water to our on-site living building. We will approach learning with outdoor play\, hands-on activities\, journaling\, songs\, and more.  \nWith Monya Relles\nGrades 1-3\, Ages 6-8\nTuesdays 10:00am -2:00 pm\nMarch 8 – June 7 (No program Mar 15\, Apr 26\, and May 24 for Discovery Days\, no class April 19 for April Vacation Week)\nTier A: $732 Tier B: $586 Tier C: $439 Tier D: $293\nLimited to 12 participants
URL:https://www.hitchcockcenter.org/event/homeschool-i-from-raindrop-to-reservoir-10/
CATEGORIES:Ages 5–8 or Grades K–3
END:VEVENT
BEGIN:VEVENT
DTSTART;TZID=America/New_York:20220607T153000
DTEND;TZID=America/New_York:20220607T173000
DTSTAMP:20260420T224653
CREATED:20211118T173552Z
LAST-MODIFIED:20211118T173552Z
UID:10002670-1654615800-1654623000@www.hitchcockcenter.org
SUMMARY:Nature Play Afterschool Series SPRING
DESCRIPTION:Hitchcock’s Nature Play Afterschool Program is designed to let kids be kids. Together we will run\, jump\, climb\, invent\, imagine\, play and be free-range kids all while developing self-confidence and learning valuable social skills. During Spring Nature Play we will play in the mud and spring rains\, look for bugs\, and enjoy the warming outdoors. Our instructors provide a safe setting for children to explore nature and encourage children to stretch their limits.  \nWith Monya Relles\nTuesdays\, 3:30-5:30\nMarch 22 – June 7 (no program April 19)\nFee per Child: Tier A:$325 | Tier B:$260 | Tier C:$195 | Tier D:$130\nLimited to 12 participants
URL:https://www.hitchcockcenter.org/event/nature-play-afterschool-series-spring-21/
CATEGORIES:Ages 5–8 or Grades K–3
END:VEVENT
BEGIN:VEVENT
DTSTART;TZID=America/New_York:20220608T153000
DTEND;TZID=America/New_York:20220608T173000
DTSTAMP:20260420T224653
CREATED:20211118T174947Z
LAST-MODIFIED:20211118T174947Z
UID:10002681-1654702200-1654709400@www.hitchcockcenter.org
SUMMARY:Nature Play Afterschool Series SPRING
DESCRIPTION:Hitchcock’s Nature Play Afterschool Program is designed to let kids be kids. Together we will run\, jump\, climb\, invent\, imagine\, play and be free-range kids all while developing self-confidence and learning valuable social skills. During Spring Nature Play we will play in the mud and spring rains\, look for bugs\, and enjoy the warming outdoors. Our instructors provide a safe setting for children to explore nature and encourage children to stretch their limits.  \nWith Jeff Mazur\nWednesdays\, 3:30pm-5:30pm\nMarch 23 – June 8 (no program April 20)\nExtended Days on March 23\, April 6\, & May 11\nFee per Child: Tier A-$403 | Tier B-$322 | Tier C-$242  | Tier D-$161\nLimited to 12 participants
URL:https://www.hitchcockcenter.org/event/nature-play-afterschool-series-spring-32/
CATEGORIES:Ages 5–8 or Grades K–3
END:VEVENT
BEGIN:VEVENT
DTSTART;TZID=America/New_York:20220608T153000
DTEND;TZID=America/New_York:20220608T173000
DTSTAMP:20260420T224653
CREATED:20211118T182717Z
LAST-MODIFIED:20211118T182717Z
UID:10002701-1654702200-1654709400@www.hitchcockcenter.org
SUMMARY:Junior Nature Play Afterschool Series SPRING
DESCRIPTION:Hitchcock’s Junior Nature Play Afterschool Program is designed to let kids be kids. Together we will run\, jump\, climb\, invent\, imagine\, play and be free-range kids all while developing self-confidence and learning valuable social skills. During Spring Junior Nature Play we will play in the mud and spring rains\, look for bugs\, and enjoy the warming outdoors. Our instructors provide a safe setting for children to explore nature and encourage children to stretch their limits.  \nwith Aemelia Thompson\nAges 5-7 or Grades K-1\nWednesdays\, 3:30pm-5:30pm\nMarch 23 – June 8 (no program April 20) \nExtended Days on March 23\, April 6\, & May 11\nFee per Child: Tier A-$410 | Tier B-$328 | Tier C-$246  | Tier D-$164\nLimited to 10 participants
URL:https://www.hitchcockcenter.org/event/junior-nature-play-afterschool-series-spring-11/
CATEGORIES:Ages 5–8 or Grades K–3
END:VEVENT
BEGIN:VEVENT
DTSTART;TZID=America/New_York:20220627T084500
DTEND;TZID=America/New_York:20220627T130000
DTSTAMP:20260420T224653
CREATED:20220621T174611Z
LAST-MODIFIED:20220621T180048Z
UID:10002999-1656319500-1656334800@www.hitchcockcenter.org
SUMMARY:Chickadee Camp
DESCRIPTION:Age 5 (must be entering Kindergarten in fall 2022) \nMondays-Fridays\, 8:45am-1pm\nSession 1: June 27 – July 1 (one week)\nSession 2: July 5 – 15 (two weeks – No camp July 4)\nSession 3: July 18 – 22(one week)\nSession 4: July 25 – August 5 (two weeks)\nSession 5: August 8– 12(one week) \n1 Week Sessions: Tier A – $344 Tier B – $275 Tier C – $206 Tier D – $138 \nSession 2: Tier A – $625 Tier B – $500 Tier C – $375 Tier D – $250\nSession 4: Tier A – $688 Tier B – $550 Tier C – $412 Tier D – $275 \nFor the first time ever\, the Hitchcock Center is offering a summer program for 5 year olds! Each morning we will have circle time before playing at our favorite Hitchcock places: the mud kitchen\, the Discovery Yard\, Root City\, Ferns and more! Each day has a playful nature theme and we will make nature projects\, sing songs\, and play games as well as have story and snack\, and end with lunch. Space is limited. Children must be five years old and entering Kindergarten in fall 2022 to be eligible to participate.
URL:https://www.hitchcockcenter.org/event/chickadee-camp/
CATEGORIES:Ages 5–8 or Grades K–3
END:VEVENT
BEGIN:VEVENT
DTSTART;TZID=America/New_York:20220628T084500
DTEND;TZID=America/New_York:20220628T130000
DTSTAMP:20260420T224653
CREATED:20220621T174706Z
LAST-MODIFIED:20220621T180219Z
UID:10003000-1656405900-1656421200@www.hitchcockcenter.org
SUMMARY:Chickadee Camp
DESCRIPTION:Age 5 (must be entering Kindergarten in fall 2022) \nMondays-Fridays\, 8:45am-1pm\nSession 1: June 27 – July 1 (one week)\nSession 2: July 5 – 15 (two weeks – No camp July 4)\nSession 3: July 18 – 22(one week)\nSession 4: July 25 – August 5 (two weeks)\nSession 5: August 8– 12(one week) \n1 Week Sessions: Tier A – $344 Tier B – $275 Tier C – $206 Tier D – $138 \nSession 2: Tier A – $625 Tier B – $500 Tier C – $375 Tier D – $250\nSession 4: Tier A – $688 Tier B – $550 Tier C – $412 Tier D – $275 \nFor the first time ever\, the Hitchcock Center is offering a summer program for 5 year olds! Each morning we will have circle time before playing at our favorite Hitchcock places: the mud kitchen\, the Discovery Yard\, Root City\, Ferns and more! Each day has a playful nature theme and we will make nature projects\, sing songs\, and play games as well as have story and snack\, and end with lunch. Space is limited. Children must be five years old and entering Kindergarten in fall 2022 to be eligible to participate.
URL:https://www.hitchcockcenter.org/event/chickadee-camp-2/
CATEGORIES:Ages 5–8 or Grades K–3
END:VEVENT
BEGIN:VEVENT
DTSTART;TZID=America/New_York:20220629T084500
DTEND;TZID=America/New_York:20220629T130000
DTSTAMP:20260420T224653
CREATED:20220621T174748Z
LAST-MODIFIED:20220621T180251Z
UID:10003001-1656492300-1656507600@www.hitchcockcenter.org
SUMMARY:Chickadee Camp
DESCRIPTION:Age 5 (must be entering Kindergarten in fall 2022) \nMondays-Fridays\, 8:45am-1pm\nSession 1: June 27 – July 1 (one week)\nSession 2: July 5 – 15 (two weeks – No camp July 4)\nSession 3: July 18 – 22(one week)\nSession 4: July 25 – August 5 (two weeks)\nSession 5: August 8– 12(one week) \n1 Week Sessions: Tier A – $344 Tier B – $275 Tier C – $206 Tier D – $138 \nSession 2: Tier A – $625 Tier B – $500 Tier C – $375 Tier D – $250\nSession 4: Tier A – $688 Tier B – $550 Tier C – $412 Tier D – $275 \nFor the first time ever\, the Hitchcock Center is offering a summer program for 5 year olds! Each morning we will have circle time before playing at our favorite Hitchcock places: the mud kitchen\, the Discovery Yard\, Root City\, Ferns and more! Each day has a playful nature theme and we will make nature projects\, sing songs\, and play games as well as have story and snack\, and end with lunch. Space is limited. Children must be five years old and entering Kindergarten in fall 2022 to be eligible to participate.
URL:https://www.hitchcockcenter.org/event/chickadee-camp-3/
CATEGORIES:Ages 5–8 or Grades K–3
END:VEVENT
BEGIN:VEVENT
DTSTART;TZID=America/New_York:20220630T084500
DTEND;TZID=America/New_York:20220630T130000
DTSTAMP:20260420T224653
CREATED:20220621T174823Z
LAST-MODIFIED:20220621T180315Z
UID:10003002-1656578700-1656594000@www.hitchcockcenter.org
SUMMARY:Chickadee Camp
DESCRIPTION:Age 5 (must be entering Kindergarten in fall 2022) \nMondays-Fridays\, 8:45am-1pm\nSession 1: June 27 – July 1 (one week)\nSession 2: July 5 – 15 (two weeks – No camp July 4)\nSession 3: July 18 – 22(one week)\nSession 4: July 25 – August 5 (two weeks)\nSession 5: August 8– 12(one week) \n1 Week Sessions: Tier A – $344 Tier B – $275 Tier C – $206 Tier D – $138 \nSession 2: Tier A – $625 Tier B – $500 Tier C – $375 Tier D – $250\nSession 4: Tier A – $688 Tier B – $550 Tier C – $412 Tier D – $275 \nFor the first time ever\, the Hitchcock Center is offering a summer program for 5 year olds! Each morning we will have circle time before playing at our favorite Hitchcock places: the mud kitchen\, the Discovery Yard\, Root City\, Ferns and more! Each day has a playful nature theme and we will make nature projects\, sing songs\, and play games as well as have story and snack\, and end with lunch. Space is limited. Children must be five years old and entering Kindergarten in fall 2022 to be eligible to participate.
URL:https://www.hitchcockcenter.org/event/chickadee-camp-4/
CATEGORIES:Ages 5–8 or Grades K–3
END:VEVENT
END:VCALENDAR