BEGIN:VCALENDAR
VERSION:2.0
PRODID:-//Hitchcock Center for the Environment - ECPv6.15.18//NONSGML v1.0//EN
CALSCALE:GREGORIAN
METHOD:PUBLISH
X-ORIGINAL-URL:https://www.hitchcockcenter.org
X-WR-CALDESC:Events for Hitchcock Center for the Environment
REFRESH-INTERVAL;VALUE=DURATION:PT1H
X-Robots-Tag:noindex
X-PUBLISHED-TTL:PT1H
BEGIN:VTIMEZONE
TZID:America/New_York
BEGIN:DAYLIGHT
TZOFFSETFROM:-0500
TZOFFSETTO:-0400
TZNAME:EDT
DTSTART:20210314T070000
END:DAYLIGHT
BEGIN:STANDARD
TZOFFSETFROM:-0400
TZOFFSETTO:-0500
TZNAME:EST
DTSTART:20211107T060000
END:STANDARD
BEGIN:DAYLIGHT
TZOFFSETFROM:-0500
TZOFFSETTO:-0400
TZNAME:EDT
DTSTART:20220313T070000
END:DAYLIGHT
BEGIN:STANDARD
TZOFFSETFROM:-0400
TZOFFSETTO:-0500
TZNAME:EST
DTSTART:20221106T060000
END:STANDARD
BEGIN:DAYLIGHT
TZOFFSETFROM:-0500
TZOFFSETTO:-0400
TZNAME:EDT
DTSTART:20230312T070000
END:DAYLIGHT
BEGIN:STANDARD
TZOFFSETFROM:-0400
TZOFFSETTO:-0500
TZNAME:EST
DTSTART:20231105T060000
END:STANDARD
END:VTIMEZONE
BEGIN:VEVENT
DTSTART;TZID=America/New_York:20220701T084500
DTEND;TZID=America/New_York:20220701T130000
DTSTAMP:20260420T213845
CREATED:20220621T174901Z
LAST-MODIFIED:20220621T180325Z
UID:10003003-1656665100-1656680400@www.hitchcockcenter.org
SUMMARY:Chickadee Camp
DESCRIPTION:Age 5 (must be entering Kindergarten in fall 2022) \nMondays-Fridays\, 8:45am-1pm\nSession 1: June 27 – July 1 (one week)\nSession 2: July 5 – 15 (two weeks – No camp July 4)\nSession 3: July 18 – 22(one week)\nSession 4: July 25 – August 5 (two weeks)\nSession 5: August 8– 12(one week) \n1 Week Sessions: Tier A – $344 Tier B – $275 Tier C – $206 Tier D – $138 \nSession 2: Tier A – $625 Tier B – $500 Tier C – $375 Tier D – $250\nSession 4: Tier A – $688 Tier B – $550 Tier C – $412 Tier D – $275 \nFor the first time ever\, the Hitchcock Center is offering a summer program for 5 year olds! Each morning we will have circle time before playing at our favorite Hitchcock places: the mud kitchen\, the Discovery Yard\, Root City\, Ferns and more! Each day has a playful nature theme and we will make nature projects\, sing songs\, and play games as well as have story and snack\, and end with lunch. Space is limited. Children must be five years old and entering Kindergarten in fall 2022 to be eligible to participate.
URL:https://www.hitchcockcenter.org/event/chickadee-camp-5/
CATEGORIES:Ages 5–8 or Grades K–3
END:VEVENT
BEGIN:VEVENT
DTSTART;TZID=America/New_York:20220705T084500
DTEND;TZID=America/New_York:20220705T130000
DTSTAMP:20260420T213845
CREATED:20220621T174934Z
LAST-MODIFIED:20220621T180331Z
UID:10003004-1657010700-1657026000@www.hitchcockcenter.org
SUMMARY:Chickadee Camp
DESCRIPTION:Age 5 (must be entering Kindergarten in fall 2022) \nMondays-Fridays\, 8:45am-1pm\nSession 1: June 27 – July 1 (one week)\nSession 2: July 5 – 15 (two weeks – No camp July 4)\nSession 3: July 18 – 22(one week)\nSession 4: July 25 – August 5 (two weeks)\nSession 5: August 8– 12(one week) \n1 Week Sessions: Tier A – $344 Tier B – $275 Tier C – $206 Tier D – $138 \nSession 2: Tier A – $625 Tier B – $500 Tier C – $375 Tier D – $250\nSession 4: Tier A – $688 Tier B – $550 Tier C – $412 Tier D – $275 \nFor the first time ever\, the Hitchcock Center is offering a summer program for 5 year olds! Each morning we will have circle time before playing at our favorite Hitchcock places: the mud kitchen\, the Discovery Yard\, Root City\, Ferns and more! Each day has a playful nature theme and we will make nature projects\, sing songs\, and play games as well as have story and snack\, and end with lunch. Space is limited. Children must be five years old and entering Kindergarten in fall 2022 to be eligible to participate.
URL:https://www.hitchcockcenter.org/event/chickadee-camp-6/
CATEGORIES:Ages 5–8 or Grades K–3
END:VEVENT
BEGIN:VEVENT
DTSTART;TZID=America/New_York:20220706T084500
DTEND;TZID=America/New_York:20220706T130000
DTSTAMP:20260420T213845
CREATED:20220621T175020Z
LAST-MODIFIED:20220621T180358Z
UID:10003005-1657097100-1657112400@www.hitchcockcenter.org
SUMMARY:Chickadee Camp
DESCRIPTION:Age 5 (must be entering Kindergarten in fall 2022) \nMondays-Fridays\, 8:45am-1pm\nSession 1: June 27 – July 1 (one week)\nSession 2: July 5 – 15 (two weeks – No camp July 4)\nSession 3: July 18 – 22(one week)\nSession 4: July 25 – August 5 (two weeks)\nSession 5: August 8– 12(one week) \n1 Week Sessions: Tier A – $344 Tier B – $275 Tier C – $206 Tier D – $138 \nSession 2: Tier A – $625 Tier B – $500 Tier C – $375 Tier D – $250\nSession 4: Tier A – $688 Tier B – $550 Tier C – $412 Tier D – $275 \nFor the first time ever\, the Hitchcock Center is offering a summer program for 5 year olds! Each morning we will have circle time before playing at our favorite Hitchcock places: the mud kitchen\, the Discovery Yard\, Root City\, Ferns and more! Each day has a playful nature theme and we will make nature projects\, sing songs\, and play games as well as have story and snack\, and end with lunch. Space is limited. Children must be five years old and entering Kindergarten in fall 2022 to be eligible to participate.
URL:https://www.hitchcockcenter.org/event/chickadee-camp-7/
CATEGORIES:Ages 5–8 or Grades K–3
END:VEVENT
BEGIN:VEVENT
DTSTART;TZID=America/New_York:20220707T084500
DTEND;TZID=America/New_York:20220707T130000
DTSTAMP:20260420T213845
CREATED:20220621T175123Z
LAST-MODIFIED:20220621T180407Z
UID:10003006-1657183500-1657198800@www.hitchcockcenter.org
SUMMARY:Chickadee Camp
DESCRIPTION:Age 5 (must be entering Kindergarten in fall 2022) \nMondays-Fridays\, 8:45am-1pm\nSession 1: June 27 – July 1 (one week)\nSession 2: July 5 – 15 (two weeks – No camp July 4)\nSession 3: July 18 – 22(one week)\nSession 4: July 25 – August 5 (two weeks)\nSession 5: August 8– 12(one week) \n1 Week Sessions: Tier A – $344 Tier B – $275 Tier C – $206 Tier D – $138 \nSession 2: Tier A – $625 Tier B – $500 Tier C – $375 Tier D – $250\nSession 4: Tier A – $688 Tier B – $550 Tier C – $412 Tier D – $275 \nFor the first time ever\, the Hitchcock Center is offering a summer program for 5 year olds! Each morning we will have circle time before playing at our favorite Hitchcock places: the mud kitchen\, the Discovery Yard\, Root City\, Ferns and more! Each day has a playful nature theme and we will make nature projects\, sing songs\, and play games as well as have story and snack\, and end with lunch. Space is limited. Children must be five years old and entering Kindergarten in fall 2022 to be eligible to participate.
URL:https://www.hitchcockcenter.org/event/chickadee-camp-8/
CATEGORIES:Ages 5–8 or Grades K–3
END:VEVENT
BEGIN:VEVENT
DTSTART;TZID=America/New_York:20220708T084500
DTEND;TZID=America/New_York:20220708T130000
DTSTAMP:20260420T213845
CREATED:20220621T175153Z
LAST-MODIFIED:20220621T180421Z
UID:10003007-1657269900-1657285200@www.hitchcockcenter.org
SUMMARY:Chickadee Camp
DESCRIPTION:Age 5 (must be entering Kindergarten in fall 2022) \nMondays-Fridays\, 8:45am-1pm\nSession 1: June 27 – July 1 (one week)\nSession 2: July 5 – 15 (two weeks – No camp July 4)\nSession 3: July 18 – 22(one week)\nSession 4: July 25 – August 5 (two weeks)\nSession 5: August 8– 12(one week) \n1 Week Sessions: Tier A – $344 Tier B – $275 Tier C – $206 Tier D – $138 \nSession 2: Tier A – $625 Tier B – $500 Tier C – $375 Tier D – $250\nSession 4: Tier A – $688 Tier B – $550 Tier C – $412 Tier D – $275 \nFor the first time ever\, the Hitchcock Center is offering a summer program for 5 year olds! Each morning we will have circle time before playing at our favorite Hitchcock places: the mud kitchen\, the Discovery Yard\, Root City\, Ferns and more! Each day has a playful nature theme and we will make nature projects\, sing songs\, and play games as well as have story and snack\, and end with lunch. Space is limited. Children must be five years old and entering Kindergarten in fall 2022 to be eligible to participate.
URL:https://www.hitchcockcenter.org/event/chickadee-camp-9/
CATEGORIES:Ages 5–8 or Grades K–3
END:VEVENT
BEGIN:VEVENT
DTSTART;TZID=America/New_York:20220711T084500
DTEND;TZID=America/New_York:20220711T130000
DTSTAMP:20260420T213845
CREATED:20220621T175239Z
LAST-MODIFIED:20220621T180429Z
UID:10003008-1657529100-1657544400@www.hitchcockcenter.org
SUMMARY:Chickadee Camp
DESCRIPTION:Age 5 (must be entering Kindergarten in fall 2022) \nMondays-Fridays\, 8:45am-1pm\nSession 1: June 27 – July 1 (one week)\nSession 2: July 5 – 15 (two weeks – No camp July 4)\nSession 3: July 18 – 22(one week)\nSession 4: July 25 – August 5 (two weeks)\nSession 5: August 8– 12(one week) \n1 Week Sessions: Tier A – $344 Tier B – $275 Tier C – $206 Tier D – $138 \nSession 2: Tier A – $625 Tier B – $500 Tier C – $375 Tier D – $250\nSession 4: Tier A – $688 Tier B – $550 Tier C – $412 Tier D – $275 \nFor the first time ever\, the Hitchcock Center is offering a summer program for 5 year olds! Each morning we will have circle time before playing at our favorite Hitchcock places: the mud kitchen\, the Discovery Yard\, Root City\, Ferns and more! Each day has a playful nature theme and we will make nature projects\, sing songs\, and play games as well as have story and snack\, and end with lunch. Space is limited. Children must be five years old and entering Kindergarten in fall 2022 to be eligible to participate.
URL:https://www.hitchcockcenter.org/event/chickadee-camp-10/
CATEGORIES:Ages 5–8 or Grades K–3
END:VEVENT
BEGIN:VEVENT
DTSTART;TZID=America/New_York:20220712T084500
DTEND;TZID=America/New_York:20220712T130000
DTSTAMP:20260420T213845
CREATED:20220621T175309Z
LAST-MODIFIED:20220621T180501Z
UID:10003009-1657615500-1657630800@www.hitchcockcenter.org
SUMMARY:Chickadee Camp
DESCRIPTION:Age 5 (must be entering Kindergarten in fall 2022) \nMondays-Fridays\, 8:45am-1pm\nSession 1: June 27 – July 1 (one week)\nSession 2: July 5 – 15 (two weeks – No camp July 4)\nSession 3: July 18 – 22(one week)\nSession 4: July 25 – August 5 (two weeks)\nSession 5: August 8– 12(one week) \n1 Week Sessions: Tier A – $344 Tier B – $275 Tier C – $206 Tier D – $138 \nSession 2: Tier A – $625 Tier B – $500 Tier C – $375 Tier D – $250\nSession 4: Tier A – $688 Tier B – $550 Tier C – $412 Tier D – $275 \nFor the first time ever\, the Hitchcock Center is offering a summer program for 5 year olds! Each morning we will have circle time before playing at our favorite Hitchcock places: the mud kitchen\, the Discovery Yard\, Root City\, Ferns and more! Each day has a playful nature theme and we will make nature projects\, sing songs\, and play games as well as have story and snack\, and end with lunch. Space is limited. Children must be five years old and entering Kindergarten in fall 2022 to be eligible to participate.
URL:https://www.hitchcockcenter.org/event/chickadee-camp-11/
CATEGORIES:Ages 5–8 or Grades K–3
END:VEVENT
BEGIN:VEVENT
DTSTART;TZID=America/New_York:20220713T084500
DTEND;TZID=America/New_York:20220713T130000
DTSTAMP:20260420T213845
CREATED:20220621T175347Z
LAST-MODIFIED:20220621T180508Z
UID:10003010-1657701900-1657717200@www.hitchcockcenter.org
SUMMARY:Chickadee Camp
DESCRIPTION:Age 5 (must be entering Kindergarten in fall 2022) \nMondays-Fridays\, 8:45am-1pm\nSession 1: June 27 – July 1 (one week)\nSession 2: July 5 – 15 (two weeks – No camp July 4)\nSession 3: July 18 – 22(one week)\nSession 4: July 25 – August 5 (two weeks)\nSession 5: August 8– 12(one week) \n1 Week Sessions: Tier A – $344 Tier B – $275 Tier C – $206 Tier D – $138 \nSession 2: Tier A – $625 Tier B – $500 Tier C – $375 Tier D – $250\nSession 4: Tier A – $688 Tier B – $550 Tier C – $412 Tier D – $275 \nFor the first time ever\, the Hitchcock Center is offering a summer program for 5 year olds! Each morning we will have circle time before playing at our favorite Hitchcock places: the mud kitchen\, the Discovery Yard\, Root City\, Ferns and more! Each day has a playful nature theme and we will make nature projects\, sing songs\, and play games as well as have story and snack\, and end with lunch. Space is limited. Children must be five years old and entering Kindergarten in fall 2022 to be eligible to participate.
URL:https://www.hitchcockcenter.org/event/chickadee-camp-12/
CATEGORIES:Ages 5–8 or Grades K–3
END:VEVENT
BEGIN:VEVENT
DTSTART;TZID=America/New_York:20220714T084500
DTEND;TZID=America/New_York:20220714T130000
DTSTAMP:20260420T213845
CREATED:20220621T175415Z
LAST-MODIFIED:20220621T180535Z
UID:10003011-1657788300-1657803600@www.hitchcockcenter.org
SUMMARY:Chickadee Camp
DESCRIPTION:Age 5 (must be entering Kindergarten in fall 2022) \nMondays-Fridays\, 8:45am-1pm\nSession 1: June 27 – July 1 (one week)\nSession 2: July 5 – 15 (two weeks – No camp July 4)\nSession 3: July 18 – 22(one week)\nSession 4: July 25 – August 5 (two weeks)\nSession 5: August 8– 12(one week) \n1 Week Sessions: Tier A – $344 Tier B – $275 Tier C – $206 Tier D – $138 \nSession 2: Tier A – $625 Tier B – $500 Tier C – $375 Tier D – $250\nSession 4: Tier A – $688 Tier B – $550 Tier C – $412 Tier D – $275 \nFor the first time ever\, the Hitchcock Center is offering a summer program for 5 year olds! Each morning we will have circle time before playing at our favorite Hitchcock places: the mud kitchen\, the Discovery Yard\, Root City\, Ferns and more! Each day has a playful nature theme and we will make nature projects\, sing songs\, and play games as well as have story and snack\, and end with lunch. Space is limited. Children must be five years old and entering Kindergarten in fall 2022 to be eligible to participate.
URL:https://www.hitchcockcenter.org/event/chickadee-camp-13/
CATEGORIES:Ages 5–8 or Grades K–3
END:VEVENT
BEGIN:VEVENT
DTSTART;TZID=America/New_York:20220715T084500
DTEND;TZID=America/New_York:20220715T130000
DTSTAMP:20260420T213845
CREATED:20220621T175442Z
LAST-MODIFIED:20220621T180544Z
UID:10003012-1657874700-1657890000@www.hitchcockcenter.org
SUMMARY:Chickadee Camp
DESCRIPTION:Age 5 (must be entering Kindergarten in fall 2022) \nMondays-Fridays\, 8:45am-1pm\nSession 1: June 27 – July 1 (one week)\nSession 2: July 5 – 15 (two weeks – No camp July 4)\nSession 3: July 18 – 22(one week)\nSession 4: July 25 – August 5 (two weeks)\nSession 5: August 8– 12(one week) \n1 Week Sessions: Tier A – $344 Tier B – $275 Tier C – $206 Tier D – $138 \nSession 2: Tier A – $625 Tier B – $500 Tier C – $375 Tier D – $250\nSession 4: Tier A – $688 Tier B – $550 Tier C – $412 Tier D – $275 \nFor the first time ever\, the Hitchcock Center is offering a summer program for 5 year olds! Each morning we will have circle time before playing at our favorite Hitchcock places: the mud kitchen\, the Discovery Yard\, Root City\, Ferns and more! Each day has a playful nature theme and we will make nature projects\, sing songs\, and play games as well as have story and snack\, and end with lunch. Space is limited. Children must be five years old and entering Kindergarten in fall 2022 to be eligible to participate.
URL:https://www.hitchcockcenter.org/event/chickadee-camp-14/
CATEGORIES:Ages 5–8 or Grades K–3
END:VEVENT
BEGIN:VEVENT
DTSTART;TZID=America/New_York:20220718T084500
DTEND;TZID=America/New_York:20220718T130000
DTSTAMP:20260420T213845
CREATED:20220621T175511Z
LAST-MODIFIED:20220621T180552Z
UID:10003013-1658133900-1658149200@www.hitchcockcenter.org
SUMMARY:Chickadee Camp
DESCRIPTION:Age 5 (must be entering Kindergarten in fall 2022) \nMondays-Fridays\, 8:45am-1pm\nSession 1: June 27 – July 1 (one week)\nSession 2: July 5 – 15 (two weeks – No camp July 4)\nSession 3: July 18 – 22(one week)\nSession 4: July 25 – August 5 (two weeks)\nSession 5: August 8– 12(one week) \n1 Week Sessions: Tier A – $344 Tier B – $275 Tier C – $206 Tier D – $138 \nSession 2: Tier A – $625 Tier B – $500 Tier C – $375 Tier D – $250\nSession 4: Tier A – $688 Tier B – $550 Tier C – $412 Tier D – $275 \nFor the first time ever\, the Hitchcock Center is offering a summer program for 5 year olds! Each morning we will have circle time before playing at our favorite Hitchcock places: the mud kitchen\, the Discovery Yard\, Root City\, Ferns and more! Each day has a playful nature theme and we will make nature projects\, sing songs\, and play games as well as have story and snack\, and end with lunch. Space is limited. Children must be five years old and entering Kindergarten in fall 2022 to be eligible to participate.
URL:https://www.hitchcockcenter.org/event/chickadee-camp-15/
CATEGORIES:Ages 5–8 or Grades K–3
END:VEVENT
BEGIN:VEVENT
DTSTART;TZID=America/New_York:20220719T084500
DTEND;TZID=America/New_York:20220719T130000
DTSTAMP:20260420T213845
CREATED:20220621T175547Z
LAST-MODIFIED:20220621T180619Z
UID:10003014-1658220300-1658235600@www.hitchcockcenter.org
SUMMARY:Chickadee Camp
DESCRIPTION:Age 5 (must be entering Kindergarten in fall 2022) \nMondays-Fridays\, 8:45am-1pm\nSession 1: June 27 – July 1 (one week)\nSession 2: July 5 – 15 (two weeks – No camp July 4)\nSession 3: July 18 – 22(one week)\nSession 4: July 25 – August 5 (two weeks)\nSession 5: August 8– 12(one week) \n1 Week Sessions: Tier A – $344 Tier B – $275 Tier C – $206 Tier D – $138 \nSession 2: Tier A – $625 Tier B – $500 Tier C – $375 Tier D – $250\nSession 4: Tier A – $688 Tier B – $550 Tier C – $412 Tier D – $275 \nFor the first time ever\, the Hitchcock Center is offering a summer program for 5 year olds! Each morning we will have circle time before playing at our favorite Hitchcock places: the mud kitchen\, the Discovery Yard\, Root City\, Ferns and more! Each day has a playful nature theme and we will make nature projects\, sing songs\, and play games as well as have story and snack\, and end with lunch. Space is limited. Children must be five years old and entering Kindergarten in fall 2022 to be eligible to participate.
URL:https://www.hitchcockcenter.org/event/chickadee-camp-16/
CATEGORIES:Ages 5–8 or Grades K–3
END:VEVENT
BEGIN:VEVENT
DTSTART;TZID=America/New_York:20220720T084500
DTEND;TZID=America/New_York:20220720T130000
DTSTAMP:20260420T213845
CREATED:20220621T175621Z
LAST-MODIFIED:20220621T180626Z
UID:10003015-1658306700-1658322000@www.hitchcockcenter.org
SUMMARY:Chickadee Camp
DESCRIPTION:Age 5 (must be entering Kindergarten in fall 2022) \nMondays-Fridays\, 8:45am-1pm\nSession 1: June 27 – July 1 (one week)\nSession 2: July 5 – 15 (two weeks – No camp July 4)\nSession 3: July 18 – 22(one week)\nSession 4: July 25 – August 5 (two weeks)\nSession 5: August 8– 12(one week) \n1 Week Sessions: Tier A – $344 Tier B – $275 Tier C – $206 Tier D – $138 \nSession 2: Tier A – $625 Tier B – $500 Tier C – $375 Tier D – $250\nSession 4: Tier A – $688 Tier B – $550 Tier C – $412 Tier D – $275 \nFor the first time ever\, the Hitchcock Center is offering a summer program for 5 year olds! Each morning we will have circle time before playing at our favorite Hitchcock places: the mud kitchen\, the Discovery Yard\, Root City\, Ferns and more! Each day has a playful nature theme and we will make nature projects\, sing songs\, and play games as well as have story and snack\, and end with lunch. Space is limited. Children must be five years old and entering Kindergarten in fall 2022 to be eligible to participate.
URL:https://www.hitchcockcenter.org/event/chickadee-camp-17/
CATEGORIES:Ages 5–8 or Grades K–3
END:VEVENT
BEGIN:VEVENT
DTSTART;TZID=America/New_York:20220721T084500
DTEND;TZID=America/New_York:20220721T130000
DTSTAMP:20260420T213845
CREATED:20220621T175650Z
LAST-MODIFIED:20220621T180635Z
UID:10003016-1658393100-1658408400@www.hitchcockcenter.org
SUMMARY:Chickadee Camp
DESCRIPTION:Age 5 (must be entering Kindergarten in fall 2022) \nMondays-Fridays\, 8:45am-1pm\nSession 1: June 27 – July 1 (one week)\nSession 2: July 5 – 15 (two weeks – No camp July 4)\nSession 3: July 18 – 22(one week)\nSession 4: July 25 – August 5 (two weeks)\nSession 5: August 8– 12(one week) \n1 Week Sessions: Tier A – $344 Tier B – $275 Tier C – $206 Tier D – $138 \nSession 2: Tier A – $625 Tier B – $500 Tier C – $375 Tier D – $250\nSession 4: Tier A – $688 Tier B – $550 Tier C – $412 Tier D – $275 \nFor the first time ever\, the Hitchcock Center is offering a summer program for 5 year olds! Each morning we will have circle time before playing at our favorite Hitchcock places: the mud kitchen\, the Discovery Yard\, Root City\, Ferns and more! Each day has a playful nature theme and we will make nature projects\, sing songs\, and play games as well as have story and snack\, and end with lunch. Space is limited. Children must be five years old and entering Kindergarten in fall 2022 to be eligible to participate.
URL:https://www.hitchcockcenter.org/event/chickadee-camp-18/
CATEGORIES:Ages 5–8 or Grades K–3
END:VEVENT
BEGIN:VEVENT
DTSTART;TZID=America/New_York:20220722T084500
DTEND;TZID=America/New_York:20220722T130000
DTSTAMP:20260420T213845
CREATED:20220621T175718Z
LAST-MODIFIED:20220621T180647Z
UID:10003017-1658479500-1658494800@www.hitchcockcenter.org
SUMMARY:Chickadee Camp
DESCRIPTION:Age 5 (must be entering Kindergarten in fall 2022) \nMondays-Fridays\, 8:45am-1pm\nSession 1: June 27 – July 1 (one week)\nSession 2: July 5 – 15 (two weeks – No camp July 4)\nSession 3: July 18 – 22(one week)\nSession 4: July 25 – August 5 (two weeks)\nSession 5: August 8– 12(one week) \n1 Week Sessions: Tier A – $344 Tier B – $275 Tier C – $206 Tier D – $138 \nSession 2: Tier A – $625 Tier B – $500 Tier C – $375 Tier D – $250\nSession 4: Tier A – $688 Tier B – $550 Tier C – $412 Tier D – $275 \nFor the first time ever\, the Hitchcock Center is offering a summer program for 5 year olds! Each morning we will have circle time before playing at our favorite Hitchcock places: the mud kitchen\, the Discovery Yard\, Root City\, Ferns and more! Each day has a playful nature theme and we will make nature projects\, sing songs\, and play games as well as have story and snack\, and end with lunch. Space is limited. Children must be five years old and entering Kindergarten in fall 2022 to be eligible to participate.
URL:https://www.hitchcockcenter.org/event/chickadee-camp-19/
CATEGORIES:Ages 5–8 or Grades K–3
END:VEVENT
BEGIN:VEVENT
DTSTART;TZID=America/New_York:20220725T084500
DTEND;TZID=America/New_York:20220725T130000
DTSTAMP:20260420T213845
CREATED:20220621T175758Z
LAST-MODIFIED:20220621T180720Z
UID:10003018-1658738700-1658754000@www.hitchcockcenter.org
SUMMARY:Chickadee Camp
DESCRIPTION:Age 5 (must be entering Kindergarten in fall 2022) \nMondays-Fridays\, 8:45am-1pm\nSession 1: June 27 – July 1 (one week)\nSession 2: July 5 – 15 (two weeks – No camp July 4)\nSession 3: July 18 – 22(one week)\nSession 4: July 25 – August 5 (two weeks)\nSession 5: August 8– 12(one week) \n1 Week Sessions: Tier A – $344 Tier B – $275 Tier C – $206 Tier D – $138 \nSession 2: Tier A – $625 Tier B – $500 Tier C – $375 Tier D – $250\nSession 4: Tier A – $688 Tier B – $550 Tier C – $412 Tier D – $275 \nFor the first time ever\, the Hitchcock Center is offering a summer program for 5 year olds! Each morning we will have circle time before playing at our favorite Hitchcock places: the mud kitchen\, the Discovery Yard\, Root City\, Ferns and more! Each day has a playful nature theme and we will make nature projects\, sing songs\, and play games as well as have story and snack\, and end with lunch. Space is limited. Children must be five years old and entering Kindergarten in fall 2022 to be eligible to participate.
URL:https://www.hitchcockcenter.org/event/chickadee-camp-20/
CATEGORIES:Ages 5–8 or Grades K–3
END:VEVENT
BEGIN:VEVENT
DTSTART;TZID=America/New_York:20220726T084500
DTEND;TZID=America/New_York:20220726T130000
DTSTAMP:20260420T213845
CREATED:20220621T175827Z
LAST-MODIFIED:20220621T180728Z
UID:10003019-1658825100-1658840400@www.hitchcockcenter.org
SUMMARY:Chickadee Camp
DESCRIPTION:Age 5 (must be entering Kindergarten in fall 2022) \nMondays-Fridays\, 8:45am-1pm\nSession 1: June 27 – July 1 (one week)\nSession 2: July 5 – 15 (two weeks – No camp July 4)\nSession 3: July 18 – 22(one week)\nSession 4: July 25 – August 5 (two weeks)\nSession 5: August 8– 12(one week) \n1 Week Sessions: Tier A – $344 Tier B – $275 Tier C – $206 Tier D – $138 \nSession 2: Tier A – $625 Tier B – $500 Tier C – $375 Tier D – $250\nSession 4: Tier A – $688 Tier B – $550 Tier C – $412 Tier D – $275 \nFor the first time ever\, the Hitchcock Center is offering a summer program for 5 year olds! Each morning we will have circle time before playing at our favorite Hitchcock places: the mud kitchen\, the Discovery Yard\, Root City\, Ferns and more! Each day has a playful nature theme and we will make nature projects\, sing songs\, and play games as well as have story and snack\, and end with lunch. Space is limited. Children must be five years old and entering Kindergarten in fall 2022 to be eligible to participate.
URL:https://www.hitchcockcenter.org/event/chickadee-camp-21/
CATEGORIES:Ages 5–8 or Grades K–3
END:VEVENT
BEGIN:VEVENT
DTSTART;TZID=America/New_York:20220727T084500
DTEND;TZID=America/New_York:20220727T130000
DTSTAMP:20260420T213845
CREATED:20220621T175931Z
LAST-MODIFIED:20220621T175931Z
UID:10003020-1658911500-1658926800@www.hitchcockcenter.org
SUMMARY:Chickadee Camp
DESCRIPTION:Age 5 (must be entering Kindergarten in fall 2022) \nMondays-Fridays\, 8:45am-1pm\nSession 1: June 27 – July 1 (one week)\nSession 2: July 5 – 15 (two weeks – No camp July 4)\nSession 3: July 18 – 22(one week)\nSession 4: July 25 – August 5 (two weeks)\nSession 5: August 8– 12(one week) \n1 Week Sessions: Tier A – $344 Tier B – $275 Tier C – $206 Tier D – $138 \nSession 2: Tier A – $625 Tier B – $500 Tier C – $375 Tier D – $250\nSession 4: Tier A – $688 Tier B – $550 Tier C – $412 Tier D – $275 \nFor the first time ever\, the Hitchcock Center is offering a summer program for 5 year olds! Each morning we will have circle time before playing at our favorite Hitchcock places: the mud kitchen\, the Discovery Yard\, Root City\, Ferns and more! Each day has a playful nature theme and we will make nature projects\, sing songs\, and play games as well as have story and snack\, and end with lunch. Space is limited. Children must be five years old and entering Kindergarten in fall 2022 to be eligible to participate.
URL:https://www.hitchcockcenter.org/event/chickadee-camp-22/
CATEGORIES:Ages 5–8 or Grades K–3
END:VEVENT
BEGIN:VEVENT
DTSTART;TZID=America/New_York:20220728T084500
DTEND;TZID=America/New_York:20220728T130000
DTSTAMP:20260420T213845
CREATED:20220621T180821Z
LAST-MODIFIED:20220621T180945Z
UID:10003021-1658997900-1659013200@www.hitchcockcenter.org
SUMMARY:Chickadee Camp
DESCRIPTION:Age 5 (must be entering Kindergarten in fall 2022) \nMondays-Fridays\, 8:45am-1pm\nSession 1: June 27 – July 1 (one week)\nSession 2: July 5 – 15 (two weeks – No camp July 4)\nSession 3: July 18 – 22(one week)\nSession 4: July 25 – August 5 (two weeks)\nSession 5: August 8– 12(one week) \n1 Week Sessions: Tier A – $344 Tier B – $275 Tier C – $206 Tier D – $138 \nSession 2: Tier A – $625 Tier B – $500 Tier C – $375 Tier D – $250\nSession 4: Tier A – $688 Tier B – $550 Tier C – $412 Tier D – $275 \nFor the first time ever\, the Hitchcock Center is offering a summer program for 5 year olds! Each morning we will have circle time before playing at our favorite Hitchcock places: the mud kitchen\, the Discovery Yard\, Root City\, Ferns and more! Each day has a playful nature theme and we will make nature projects\, sing songs\, and play games as well as have story and snack\, and end with lunch. Space is limited. Children must be five years old and entering Kindergarten in fall 2022 to be eligible to participate.
URL:https://www.hitchcockcenter.org/event/chickadee-camp-23/
CATEGORIES:Ages 5–8 or Grades K–3
END:VEVENT
BEGIN:VEVENT
DTSTART;TZID=America/New_York:20220729T084500
DTEND;TZID=America/New_York:20220729T130000
DTSTAMP:20260420T213845
CREATED:20220621T180900Z
LAST-MODIFIED:20220621T180900Z
UID:10003022-1659084300-1659099600@www.hitchcockcenter.org
SUMMARY:Chickadee Camp
DESCRIPTION:Age 5 (must be entering Kindergarten in fall 2022) \nMondays-Fridays\, 8:45am-1pm\nSession 1: June 27 – July 1 (one week)\nSession 2: July 5 – 15 (two weeks – No camp July 4)\nSession 3: July 18 – 22(one week)\nSession 4: July 25 – August 5 (two weeks)\nSession 5: August 8– 12(one week) \n1 Week Sessions: Tier A – $344 Tier B – $275 Tier C – $206 Tier D – $138 \nSession 2: Tier A – $625 Tier B – $500 Tier C – $375 Tier D – $250\nSession 4: Tier A – $688 Tier B – $550 Tier C – $412 Tier D – $275 \nFor the first time ever\, the Hitchcock Center is offering a summer program for 5 year olds! Each morning we will have circle time before playing at our favorite Hitchcock places: the mud kitchen\, the Discovery Yard\, Root City\, Ferns and more! Each day has a playful nature theme and we will make nature projects\, sing songs\, and play games as well as have story and snack\, and end with lunch. Space is limited. Children must be five years old and entering Kindergarten in fall 2022 to be eligible to participate.
URL:https://www.hitchcockcenter.org/event/chickadee-camp-24/
CATEGORIES:Ages 5–8 or Grades K–3
END:VEVENT
END:VCALENDAR