BEGIN:VCALENDAR
VERSION:2.0
PRODID:-//Hitchcock Center for the Environment - ECPv6.15.18//NONSGML v1.0//EN
CALSCALE:GREGORIAN
METHOD:PUBLISH
X-WR-CALNAME:Hitchcock Center for the Environment
X-ORIGINAL-URL:https://www.hitchcockcenter.org
X-WR-CALDESC:Events for Hitchcock Center for the Environment
REFRESH-INTERVAL;VALUE=DURATION:PT1H
X-Robots-Tag:noindex
X-PUBLISHED-TTL:PT1H
BEGIN:VTIMEZONE
TZID:America/New_York
BEGIN:DAYLIGHT
TZOFFSETFROM:-0500
TZOFFSETTO:-0400
TZNAME:EDT
DTSTART:20210314T070000
END:DAYLIGHT
BEGIN:STANDARD
TZOFFSETFROM:-0400
TZOFFSETTO:-0500
TZNAME:EST
DTSTART:20211107T060000
END:STANDARD
BEGIN:DAYLIGHT
TZOFFSETFROM:-0500
TZOFFSETTO:-0400
TZNAME:EDT
DTSTART:20220313T070000
END:DAYLIGHT
BEGIN:STANDARD
TZOFFSETFROM:-0400
TZOFFSETTO:-0500
TZNAME:EST
DTSTART:20221106T060000
END:STANDARD
BEGIN:DAYLIGHT
TZOFFSETFROM:-0500
TZOFFSETTO:-0400
TZNAME:EDT
DTSTART:20230312T070000
END:DAYLIGHT
BEGIN:STANDARD
TZOFFSETFROM:-0400
TZOFFSETTO:-0500
TZNAME:EST
DTSTART:20231105T060000
END:STANDARD
END:VTIMEZONE
BEGIN:VEVENT
DTSTART;TZID=America/New_York:20220801T084500
DTEND;TZID=America/New_York:20220801T130000
DTSTAMP:20260420T202952
CREATED:20220621T181019Z
LAST-MODIFIED:20220621T181019Z
UID:10003023-1659343500-1659358800@www.hitchcockcenter.org
SUMMARY:Chickadee Camp
DESCRIPTION:Age 5 (must be entering Kindergarten in fall 2022) \nMondays-Fridays\, 8:45am-1pm\nSession 1: June 27 – July 1 (one week)\nSession 2: July 5 – 15 (two weeks – No camp July 4)\nSession 3: July 18 – 22(one week)\nSession 4: July 25 – August 5 (two weeks)\nSession 5: August 8– 12(one week) \n1 Week Sessions: Tier A – $344 Tier B – $275 Tier C – $206 Tier D – $138 \nSession 2: Tier A – $625 Tier B – $500 Tier C – $375 Tier D – $250\nSession 4: Tier A – $688 Tier B – $550 Tier C – $412 Tier D – $275 \nFor the first time ever\, the Hitchcock Center is offering a summer program for 5 year olds! Each morning we will have circle time before playing at our favorite Hitchcock places: the mud kitchen\, the Discovery Yard\, Root City\, Ferns and more! Each day has a playful nature theme and we will make nature projects\, sing songs\, and play games as well as have story and snack\, and end with lunch. Space is limited. Children must be five years old and entering Kindergarten in fall 2022 to be eligible to participate.
URL:https://www.hitchcockcenter.org/event/chickadee-camp-25/
CATEGORIES:Ages 5–8 or Grades K–3
END:VEVENT
BEGIN:VEVENT
DTSTART;TZID=America/New_York:20220802T084500
DTEND;TZID=America/New_York:20220802T130000
DTSTAMP:20260420T202952
CREATED:20220621T181107Z
LAST-MODIFIED:20220621T181107Z
UID:10003024-1659429900-1659445200@www.hitchcockcenter.org
SUMMARY:Chickadee Camp
DESCRIPTION:Age 5 (must be entering Kindergarten in fall 2022) \nMondays-Fridays\, 8:45am-1pm\nSession 1: June 27 – July 1 (one week)\nSession 2: July 5 – 15 (two weeks – No camp July 4)\nSession 3: July 18 – 22(one week)\nSession 4: July 25 – August 5 (two weeks)\nSession 5: August 8– 12(one week) \n1 Week Sessions: Tier A – $344 Tier B – $275 Tier C – $206 Tier D – $138 \nSession 2: Tier A – $625 Tier B – $500 Tier C – $375 Tier D – $250\nSession 4: Tier A – $688 Tier B – $550 Tier C – $412 Tier D – $275 \nFor the first time ever\, the Hitchcock Center is offering a summer program for 5 year olds! Each morning we will have circle time before playing at our favorite Hitchcock places: the mud kitchen\, the Discovery Yard\, Root City\, Ferns and more! Each day has a playful nature theme and we will make nature projects\, sing songs\, and play games as well as have story and snack\, and end with lunch. Space is limited. Children must be five years old and entering Kindergarten in fall 2022 to be eligible to participate.
URL:https://www.hitchcockcenter.org/event/chickadee-camp-26/
CATEGORIES:Ages 5–8 or Grades K–3
END:VEVENT
BEGIN:VEVENT
DTSTART;TZID=America/New_York:20220803T084500
DTEND;TZID=America/New_York:20220803T130000
DTSTAMP:20260420T202952
CREATED:20220621T181136Z
LAST-MODIFIED:20220621T181136Z
UID:10003025-1659516300-1659531600@www.hitchcockcenter.org
SUMMARY:Chickadee Camp
DESCRIPTION:Age 5 (must be entering Kindergarten in fall 2022) \nMondays-Fridays\, 8:45am-1pm\nSession 1: June 27 – July 1 (one week)\nSession 2: July 5 – 15 (two weeks – No camp July 4)\nSession 3: July 18 – 22(one week)\nSession 4: July 25 – August 5 (two weeks)\nSession 5: August 8– 12(one week) \n1 Week Sessions: Tier A – $344 Tier B – $275 Tier C – $206 Tier D – $138 \nSession 2: Tier A – $625 Tier B – $500 Tier C – $375 Tier D – $250\nSession 4: Tier A – $688 Tier B – $550 Tier C – $412 Tier D – $275 \nFor the first time ever\, the Hitchcock Center is offering a summer program for 5 year olds! Each morning we will have circle time before playing at our favorite Hitchcock places: the mud kitchen\, the Discovery Yard\, Root City\, Ferns and more! Each day has a playful nature theme and we will make nature projects\, sing songs\, and play games as well as have story and snack\, and end with lunch. Space is limited. Children must be five years old and entering Kindergarten in fall 2022 to be eligible to participate.
URL:https://www.hitchcockcenter.org/event/chickadee-camp-27/
CATEGORIES:Ages 5–8 or Grades K–3
END:VEVENT
BEGIN:VEVENT
DTSTART;TZID=America/New_York:20220804T084500
DTEND;TZID=America/New_York:20220804T130000
DTSTAMP:20260420T202952
CREATED:20220621T181214Z
LAST-MODIFIED:20220621T181214Z
UID:10003026-1659602700-1659618000@www.hitchcockcenter.org
SUMMARY:Chickadee Camp
DESCRIPTION:Age 5 (must be entering Kindergarten in fall 2022) \nMondays-Fridays\, 8:45am-1pm\nSession 1: June 27 – July 1 (one week)\nSession 2: July 5 – 15 (two weeks – No camp July 4)\nSession 3: July 18 – 22(one week)\nSession 4: July 25 – August 5 (two weeks)\nSession 5: August 8– 12(one week) \n1 Week Sessions: Tier A – $344 Tier B – $275 Tier C – $206 Tier D – $138 \nSession 2: Tier A – $625 Tier B – $500 Tier C – $375 Tier D – $250\nSession 4: Tier A – $688 Tier B – $550 Tier C – $412 Tier D – $275 \nFor the first time ever\, the Hitchcock Center is offering a summer program for 5 year olds! Each morning we will have circle time before playing at our favorite Hitchcock places: the mud kitchen\, the Discovery Yard\, Root City\, Ferns and more! Each day has a playful nature theme and we will make nature projects\, sing songs\, and play games as well as have story and snack\, and end with lunch. Space is limited. Children must be five years old and entering Kindergarten in fall 2022 to be eligible to participate.
URL:https://www.hitchcockcenter.org/event/chickadee-camp-28/
CATEGORIES:Ages 5–8 or Grades K–3
END:VEVENT
BEGIN:VEVENT
DTSTART;TZID=America/New_York:20220805T084500
DTEND;TZID=America/New_York:20220805T130000
DTSTAMP:20260420T202952
CREATED:20220621T181242Z
LAST-MODIFIED:20220621T181242Z
UID:10003027-1659689100-1659704400@www.hitchcockcenter.org
SUMMARY:Chickadee Camp
DESCRIPTION:Age 5 (must be entering Kindergarten in fall 2022) \nMondays-Fridays\, 8:45am-1pm\nSession 1: June 27 – July 1 (one week)\nSession 2: July 5 – 15 (two weeks – No camp July 4)\nSession 3: July 18 – 22(one week)\nSession 4: July 25 – August 5 (two weeks)\nSession 5: August 8– 12(one week) \n1 Week Sessions: Tier A – $344 Tier B – $275 Tier C – $206 Tier D – $138 \nSession 2: Tier A – $625 Tier B – $500 Tier C – $375 Tier D – $250\nSession 4: Tier A – $688 Tier B – $550 Tier C – $412 Tier D – $275 \nFor the first time ever\, the Hitchcock Center is offering a summer program for 5 year olds! Each morning we will have circle time before playing at our favorite Hitchcock places: the mud kitchen\, the Discovery Yard\, Root City\, Ferns and more! Each day has a playful nature theme and we will make nature projects\, sing songs\, and play games as well as have story and snack\, and end with lunch. Space is limited. Children must be five years old and entering Kindergarten in fall 2022 to be eligible to participate.
URL:https://www.hitchcockcenter.org/event/chickadee-camp-29/
CATEGORIES:Ages 5–8 or Grades K–3
END:VEVENT
BEGIN:VEVENT
DTSTART;TZID=America/New_York:20220808T084500
DTEND;TZID=America/New_York:20220808T130000
DTSTAMP:20260420T202952
CREATED:20220621T181340Z
LAST-MODIFIED:20220621T181340Z
UID:10003028-1659948300-1659963600@www.hitchcockcenter.org
SUMMARY:Chickadee Camp
DESCRIPTION:Age 5 (must be entering Kindergarten in fall 2022) \nMondays-Fridays\, 8:45am-1pm\nSession 1: June 27 – July 1 (one week)\nSession 2: July 5 – 15 (two weeks – No camp July 4)\nSession 3: July 18 – 22(one week)\nSession 4: July 25 – August 5 (two weeks)\nSession 5: August 8– 12(one week) \n1 Week Sessions: Tier A – $344 Tier B – $275 Tier C – $206 Tier D – $138 \nSession 2: Tier A – $625 Tier B – $500 Tier C – $375 Tier D – $250\nSession 4: Tier A – $688 Tier B – $550 Tier C – $412 Tier D – $275 \nFor the first time ever\, the Hitchcock Center is offering a summer program for 5 year olds! Each morning we will have circle time before playing at our favorite Hitchcock places: the mud kitchen\, the Discovery Yard\, Root City\, Ferns and more! Each day has a playful nature theme and we will make nature projects\, sing songs\, and play games as well as have story and snack\, and end with lunch. Space is limited. Children must be five years old and entering Kindergarten in fall 2022 to be eligible to participate.
URL:https://www.hitchcockcenter.org/event/chickadee-camp-30/
CATEGORIES:Ages 5–8 or Grades K–3
END:VEVENT
BEGIN:VEVENT
DTSTART;TZID=America/New_York:20220809T084500
DTEND;TZID=America/New_York:20220809T130000
DTSTAMP:20260420T202952
CREATED:20220621T181407Z
LAST-MODIFIED:20220621T181407Z
UID:10003029-1660034700-1660050000@www.hitchcockcenter.org
SUMMARY:Chickadee Camp
DESCRIPTION:Age 5 (must be entering Kindergarten in fall 2022) \nMondays-Fridays\, 8:45am-1pm\nSession 1: June 27 – July 1 (one week)\nSession 2: July 5 – 15 (two weeks – No camp July 4)\nSession 3: July 18 – 22(one week)\nSession 4: July 25 – August 5 (two weeks)\nSession 5: August 8– 12(one week) \n1 Week Sessions: Tier A – $344 Tier B – $275 Tier C – $206 Tier D – $138 \nSession 2: Tier A – $625 Tier B – $500 Tier C – $375 Tier D – $250\nSession 4: Tier A – $688 Tier B – $550 Tier C – $412 Tier D – $275 \nFor the first time ever\, the Hitchcock Center is offering a summer program for 5 year olds! Each morning we will have circle time before playing at our favorite Hitchcock places: the mud kitchen\, the Discovery Yard\, Root City\, Ferns and more! Each day has a playful nature theme and we will make nature projects\, sing songs\, and play games as well as have story and snack\, and end with lunch. Space is limited. Children must be five years old and entering Kindergarten in fall 2022 to be eligible to participate.
URL:https://www.hitchcockcenter.org/event/chickadee-camp-31/
CATEGORIES:Ages 5–8 or Grades K–3
END:VEVENT
BEGIN:VEVENT
DTSTART;TZID=America/New_York:20220810T084500
DTEND;TZID=America/New_York:20220810T130000
DTSTAMP:20260420T202952
CREATED:20220621T181451Z
LAST-MODIFIED:20220621T181451Z
UID:10003030-1660121100-1660136400@www.hitchcockcenter.org
SUMMARY:Chickadee Camp
DESCRIPTION:Age 5 (must be entering Kindergarten in fall 2022) \nMondays-Fridays\, 8:45am-1pm\nSession 1: June 27 – July 1 (one week)\nSession 2: July 5 – 15 (two weeks – No camp July 4)\nSession 3: July 18 – 22(one week)\nSession 4: July 25 – August 5 (two weeks)\nSession 5: August 8– 12(one week) \n1 Week Sessions: Tier A – $344 Tier B – $275 Tier C – $206 Tier D – $138 \nSession 2: Tier A – $625 Tier B – $500 Tier C – $375 Tier D – $250\nSession 4: Tier A – $688 Tier B – $550 Tier C – $412 Tier D – $275 \nFor the first time ever\, the Hitchcock Center is offering a summer program for 5 year olds! Each morning we will have circle time before playing at our favorite Hitchcock places: the mud kitchen\, the Discovery Yard\, Root City\, Ferns and more! Each day has a playful nature theme and we will make nature projects\, sing songs\, and play games as well as have story and snack\, and end with lunch. Space is limited. Children must be five years old and entering Kindergarten in fall 2022 to be eligible to participate.
URL:https://www.hitchcockcenter.org/event/chickadee-camp-32/
CATEGORIES:Ages 5–8 or Grades K–3
END:VEVENT
BEGIN:VEVENT
DTSTART;TZID=America/New_York:20220811T084500
DTEND;TZID=America/New_York:20220811T130000
DTSTAMP:20260420T202952
CREATED:20220621T181527Z
LAST-MODIFIED:20220621T181527Z
UID:10003031-1660207500-1660222800@www.hitchcockcenter.org
SUMMARY:Chickadee Camp
DESCRIPTION:Age 5 (must be entering Kindergarten in fall 2022) \nMondays-Fridays\, 8:45am-1pm\nSession 1: June 27 – July 1 (one week)\nSession 2: July 5 – 15 (two weeks – No camp July 4)\nSession 3: July 18 – 22(one week)\nSession 4: July 25 – August 5 (two weeks)\nSession 5: August 8– 12(one week) \n1 Week Sessions: Tier A – $344 Tier B – $275 Tier C – $206 Tier D – $138 \nSession 2: Tier A – $625 Tier B – $500 Tier C – $375 Tier D – $250\nSession 4: Tier A – $688 Tier B – $550 Tier C – $412 Tier D – $275 \nFor the first time ever\, the Hitchcock Center is offering a summer program for 5 year olds! Each morning we will have circle time before playing at our favorite Hitchcock places: the mud kitchen\, the Discovery Yard\, Root City\, Ferns and more! Each day has a playful nature theme and we will make nature projects\, sing songs\, and play games as well as have story and snack\, and end with lunch. Space is limited. Children must be five years old and entering Kindergarten in fall 2022 to be eligible to participate.
URL:https://www.hitchcockcenter.org/event/chickadee-camp-33/
CATEGORIES:Ages 5–8 or Grades K–3
END:VEVENT
BEGIN:VEVENT
DTSTART;TZID=America/New_York:20220812T084500
DTEND;TZID=America/New_York:20220812T130000
DTSTAMP:20260420T202952
CREATED:20220621T181555Z
LAST-MODIFIED:20220621T181555Z
UID:10003032-1660293900-1660309200@www.hitchcockcenter.org
SUMMARY:Chickadee Camp
DESCRIPTION:Age 5 (must be entering Kindergarten in fall 2022) \nMondays-Fridays\, 8:45am-1pm\nSession 1: June 27 – July 1 (one week)\nSession 2: July 5 – 15 (two weeks – No camp July 4)\nSession 3: July 18 – 22(one week)\nSession 4: July 25 – August 5 (two weeks)\nSession 5: August 8– 12(one week) \n1 Week Sessions: Tier A – $344 Tier B – $275 Tier C – $206 Tier D – $138 \nSession 2: Tier A – $625 Tier B – $500 Tier C – $375 Tier D – $250\nSession 4: Tier A – $688 Tier B – $550 Tier C – $412 Tier D – $275 \nFor the first time ever\, the Hitchcock Center is offering a summer program for 5 year olds! Each morning we will have circle time before playing at our favorite Hitchcock places: the mud kitchen\, the Discovery Yard\, Root City\, Ferns and more! Each day has a playful nature theme and we will make nature projects\, sing songs\, and play games as well as have story and snack\, and end with lunch. Space is limited. Children must be five years old and entering Kindergarten in fall 2022 to be eligible to participate.
URL:https://www.hitchcockcenter.org/event/chickadee-camp-34/
CATEGORIES:Ages 5–8 or Grades K–3
END:VEVENT
END:VCALENDAR