BEGIN:VCALENDAR
VERSION:2.0
PRODID:-//Hitchcock Center for the Environment - ECPv6.15.18//NONSGML v1.0//EN
CALSCALE:GREGORIAN
METHOD:PUBLISH
X-ORIGINAL-URL:https://www.hitchcockcenter.org
X-WR-CALDESC:Events for Hitchcock Center for the Environment
REFRESH-INTERVAL;VALUE=DURATION:PT1H
X-Robots-Tag:noindex
X-PUBLISHED-TTL:PT1H
BEGIN:VTIMEZONE
TZID:America/New_York
BEGIN:DAYLIGHT
TZOFFSETFROM:-0500
TZOFFSETTO:-0400
TZNAME:EDT
DTSTART:20210314T070000
END:DAYLIGHT
BEGIN:STANDARD
TZOFFSETFROM:-0400
TZOFFSETTO:-0500
TZNAME:EST
DTSTART:20211107T060000
END:STANDARD
BEGIN:DAYLIGHT
TZOFFSETFROM:-0500
TZOFFSETTO:-0400
TZNAME:EDT
DTSTART:20220313T070000
END:DAYLIGHT
BEGIN:STANDARD
TZOFFSETFROM:-0400
TZOFFSETTO:-0500
TZNAME:EST
DTSTART:20221106T060000
END:STANDARD
BEGIN:DAYLIGHT
TZOFFSETFROM:-0500
TZOFFSETTO:-0400
TZNAME:EDT
DTSTART:20230312T070000
END:DAYLIGHT
BEGIN:STANDARD
TZOFFSETFROM:-0400
TZOFFSETTO:-0500
TZNAME:EST
DTSTART:20231105T060000
END:STANDARD
END:VTIMEZONE
BEGIN:VEVENT
DTSTART;TZID=America/New_York:20221003T153000
DTEND;TZID=America/New_York:20221003T173000
DTSTAMP:20260420T181634
CREATED:20220616T150318Z
LAST-MODIFIED:20220616T150318Z
UID:10002788-1664811000-1664818200@www.hitchcockcenter.org
SUMMARY:Nature Play Afterschool
DESCRIPTION:NATURE PLAY AFTERSCHOOL \nAges 6-9 or grades 1-3\nMondays\, 3:30-5:30pm\nSeptember 12  – December 19 (no program October 10)\nExtended Day: September 26\nFee per Child: Tier A-$411 | Tier B-$358 | Tier C-$304  | Tier D-$232\n\nHitchcock’s Nature Play Afterschool Program is designed to let kids be kids. Together we will run\, jump\, climb\, invent\, imagine\, play and be free-range kids all while developing self-confidence and learning valuable social skills. During Fall Nature Play we will explore wooded trails and fields\, jump in leaf piles\, build forts\, climb trees\, and make new discoveries about ourselves and the world around us. Our instructors provide a safe setting for children to explore nature and encourage children to stretch their limits
URL:https://www.hitchcockcenter.org/event/nature-play-afterschool-190/
CATEGORIES:Ages 5–8 or Grades K–3
END:VEVENT
BEGIN:VEVENT
DTSTART;TZID=America/New_York:20221004T100000
DTEND;TZID=America/New_York:20221004T140000
DTSTAMP:20260420T181634
CREATED:20220616T172619Z
LAST-MODIFIED:20220616T172619Z
UID:10002860-1664877600-1664892000@www.hitchcockcenter.org
SUMMARY:Homeschool I: Cycles and Systems
DESCRIPTION:With Monya Relles \nGrades 1-3\, Ages 6-8 \nTuesdays 10:00am -2:00 pm \nSeptember 13 -December 13 (No program September 27\, October 18\, and November 22 for Discovery Days and November 8 for Curriculum Day) \nTier A:$730 Tier B:$635 Tier C:$540 Tier D:$413 \nWhat does it mean to be in an ecosystem? How are we connected to each other? We will study ecosystems\, nutrient cycles\, energy cycles\, and the ways we can interact with all the systems around us. We will approach learning with outdoor play\, hands-on activities\, journaling\, songs\, and more.
URL:https://www.hitchcockcenter.org/event/homeschool-i-cycles-and-systems-3/
CATEGORIES:Ages 5–8 or Grades K–3
END:VEVENT
BEGIN:VEVENT
DTSTART;TZID=America/New_York:20221011T100000
DTEND;TZID=America/New_York:20221011T140000
DTSTAMP:20260420T181634
CREATED:20220616T172728Z
LAST-MODIFIED:20220616T172728Z
UID:10002863-1665482400-1665496800@www.hitchcockcenter.org
SUMMARY:Homeschool I: Cycles and Systems
DESCRIPTION:With Monya Relles \nGrades 1-3\, Ages 6-8 \nTuesdays 10:00am -2:00 pm \nSeptember 13 -December 13 (No program September 27\, October 18\, and November 22 for Discovery Days and November 8 for Curriculum Day) \nTier A:$730 Tier B:$635 Tier C:$540 Tier D:$413 \nWhat does it mean to be in an ecosystem? How are we connected to each other? We will study ecosystems\, nutrient cycles\, energy cycles\, and the ways we can interact with all the systems around us. We will approach learning with outdoor play\, hands-on activities\, journaling\, songs\, and more.
URL:https://www.hitchcockcenter.org/event/homeschool-i-cycles-and-systems-4/
CATEGORIES:Ages 5–8 or Grades K–3
END:VEVENT
BEGIN:VEVENT
DTSTART;TZID=America/New_York:20221012T133000
DTEND;TZID=America/New_York:20221012T173000
DTSTAMP:20260420T181634
CREATED:20220616T163709Z
LAST-MODIFIED:20220616T163709Z
UID:10002834-1665581400-1665595800@www.hitchcockcenter.org
SUMMARY:Nature Play Aftershool
DESCRIPTION:NATURE PLAY AFTERSCHOOL \nAges 6-9 or grades 1-3\nWednesdays\, 3:30-5:30pm\nSeptember 7 – December 21 (no program October 5\, November 23)\nExtended Days: October 12 & December 7\nFee per Child: Tier A-$469 | Tier B-$382 | Tier C-$325  | Tier D-$248  \nHitchcock’s Nature Play Afterschool Program is designed to let kids be kids. Together we will run\, jump\, climb\, invent\, imagine\, play and be free-range kids all while developing self-confidence and learning valuable social skills. During Fall Nature Play we will explore wooded trails and fields\, jump in leaf piles\, build forts\, climb trees\, and make new discoveries about ourselves and the world around us. Our instructors provide a safe setting for children to explore nature and encourage children to stretch their limits.
URL:https://www.hitchcockcenter.org/event/nature-play-aftershool-5/
CATEGORIES:Ages 5–8 or Grades K–3
END:VEVENT
BEGIN:VEVENT
DTSTART;TZID=America/New_York:20221012T133000
DTEND;TZID=America/New_York:20221012T173000
DTSTAMP:20260420T181634
CREATED:20220616T173750Z
LAST-MODIFIED:20220616T173750Z
UID:10002876-1665581400-1665595800@www.hitchcockcenter.org
SUMMARY:Junior Nature Play Afterschool
DESCRIPTION:JUNIOR NATURE PLAY AFTERSCHOOL \nAges 5-7 or grades K-1\nWednesdays\, 3:30-5:30pm\nSeptember 7 – December 21 (no program October 5\, November 23)\nExtended Days: October 12 & December 7\nFee per Child: Tier A-$469 | Tier B-$382 | Tier C-$325  | Tier D-$248  \nHitchcock’s Junior Nature Play Afterschool Program is designed to let kids be kids. Together we will run\, jump\, climb\, invent\, imagine\, play and be free-range kids all while developing self-confidence and learning valuable social skills. During Fall Junior Nature Play we will explore wooded trails and fields\, play pretend in our mud kitchen\, and make leaf crowns.  Our instructors provide a safe setting for children to explore nature and encourage children to stretch their limits.
URL:https://www.hitchcockcenter.org/event/junior-nature-play-afterschool-5/
CATEGORIES:Ages 5–8 or Grades K–3
END:VEVENT
BEGIN:VEVENT
DTSTART;TZID=America/New_York:20221017T153000
DTEND;TZID=America/New_York:20221017T173000
DTSTAMP:20260420T181634
CREATED:20220616T150526Z
LAST-MODIFIED:20220616T150526Z
UID:10002789-1666020600-1666027800@www.hitchcockcenter.org
SUMMARY:Nature Play Afterschool
DESCRIPTION:NATURE PLAY AFTERSCHOOL \nAges 6-9 or grades 1-3\nMondays\, 3:30-5:30pm\nSeptember 12  – December 19 (no program October 10)\nExtended Day: September 26\nFee per Child: Tier A-$411 | Tier B-$358 | Tier C-$304  | Tier D-$232\n\nHitchcock’s Nature Play Afterschool Program is designed to let kids be kids. Together we will run\, jump\, climb\, invent\, imagine\, play and be free-range kids all while developing self-confidence and learning valuable social skills. During Fall Nature Play we will explore wooded trails and fields\, jump in leaf piles\, build forts\, climb trees\, and make new discoveries about ourselves and the world around us. Our instructors provide a safe setting for children to explore nature and encourage children to stretch their limits
URL:https://www.hitchcockcenter.org/event/nature-play-afterschool-191/
CATEGORIES:Ages 5–8 or Grades K–3
END:VEVENT
BEGIN:VEVENT
DTSTART;TZID=America/New_York:20221019T153000
DTEND;TZID=America/New_York:20221019T173000
DTSTAMP:20260420T181634
CREATED:20220616T163840Z
LAST-MODIFIED:20220616T163840Z
UID:10002835-1666193400-1666200600@www.hitchcockcenter.org
SUMMARY:Nature Play Aftershool
DESCRIPTION:NATURE PLAY AFTERSCHOOL \nAges 6-9 or grades 1-3\nWednesdays\, 3:30-5:30pm\nSeptember 7 – December 21 (no program October 5\, November 23)\nExtended Days: October 12 & December 7\nFee per Child: Tier A-$469 | Tier B-$382 | Tier C-$325  | Tier D-$248  \nHitchcock’s Nature Play Afterschool Program is designed to let kids be kids. Together we will run\, jump\, climb\, invent\, imagine\, play and be free-range kids all while developing self-confidence and learning valuable social skills. During Fall Nature Play we will explore wooded trails and fields\, jump in leaf piles\, build forts\, climb trees\, and make new discoveries about ourselves and the world around us. Our instructors provide a safe setting for children to explore nature and encourage children to stretch their limits.
URL:https://www.hitchcockcenter.org/event/nature-play-aftershool-6/
CATEGORIES:Ages 5–8 or Grades K–3
END:VEVENT
BEGIN:VEVENT
DTSTART;TZID=America/New_York:20221019T153000
DTEND;TZID=America/New_York:20221019T173000
DTSTAMP:20260420T181634
CREATED:20220616T173858Z
LAST-MODIFIED:20220616T174003Z
UID:10002878-1666193400-1666200600@www.hitchcockcenter.org
SUMMARY:Junior Nature Play Afterschool
DESCRIPTION:JUNIOR NATURE PLAY AFTERSCHOOL \nAges 5-7 or grades K-1\nWednesdays\, 3:30-5:30pm\nSeptember 7 – December 21 (no program October 5\, November 23)\nExtended Days: October 12 & December 7\nFee per Child: Tier A-$469 | Tier B-$382 | Tier C-$325  | Tier D-$248  \nHitchcock’s Junior Nature Play Afterschool Program is designed to let kids be kids. Together we will run\, jump\, climb\, invent\, imagine\, play and be free-range kids all while developing self-confidence and learning valuable social skills. During Fall Junior Nature Play we will explore wooded trails and fields\, play pretend in our mud kitchen\, and make leaf crowns.  Our instructors provide a safe setting for children to explore nature and encourage children to stretch their limits.
URL:https://www.hitchcockcenter.org/event/junior-nature-play-afterschool-6/
CATEGORIES:Ages 5–8 or Grades K–3
END:VEVENT
BEGIN:VEVENT
DTSTART;TZID=America/New_York:20221024T153000
DTEND;TZID=America/New_York:20221024T173000
DTSTAMP:20260420T181634
CREATED:20220616T150653Z
LAST-MODIFIED:20220616T150653Z
UID:10002790-1666625400-1666632600@www.hitchcockcenter.org
SUMMARY:Nature Play Afterschool
DESCRIPTION:NATURE PLAY AFTERSCHOOL \nAges 6-9 or grades 1-3\nMondays\, 3:30-5:30pm\nSeptember 12  – December 19 (no program October 10)\nExtended Day: September 26\nFee per Child: Tier A-$411 | Tier B-$358 | Tier C-$304  | Tier D-$232\n\nHitchcock’s Nature Play Afterschool Program is designed to let kids be kids. Together we will run\, jump\, climb\, invent\, imagine\, play and be free-range kids all while developing self-confidence and learning valuable social skills. During Fall Nature Play we will explore wooded trails and fields\, jump in leaf piles\, build forts\, climb trees\, and make new discoveries about ourselves and the world around us. Our instructors provide a safe setting for children to explore nature and encourage children to stretch their limits
URL:https://www.hitchcockcenter.org/event/nature-play-afterschool-192/
CATEGORIES:Ages 5–8 or Grades K–3
END:VEVENT
BEGIN:VEVENT
DTSTART;TZID=America/New_York:20221025T100000
DTEND;TZID=America/New_York:20221025T140000
DTSTAMP:20260420T181634
CREATED:20220616T172827Z
LAST-MODIFIED:20220616T172827Z
UID:10002864-1666692000-1666706400@www.hitchcockcenter.org
SUMMARY:Homeschool I: Cycles and Systems
DESCRIPTION:With Monya Relles \nGrades 1-3\, Ages 6-8 \nTuesdays 10:00am -2:00 pm \nSeptember 13 -December 13 (No program September 27\, October 18\, and November 22 for Discovery Days and November 8 for Curriculum Day) \nTier A:$730 Tier B:$635 Tier C:$540 Tier D:$413 \nWhat does it mean to be in an ecosystem? How are we connected to each other? We will study ecosystems\, nutrient cycles\, energy cycles\, and the ways we can interact with all the systems around us. We will approach learning with outdoor play\, hands-on activities\, journaling\, songs\, and more.
URL:https://www.hitchcockcenter.org/event/homeschool-i-cycles-and-systems-5/
CATEGORIES:Ages 5–8 or Grades K–3
END:VEVENT
BEGIN:VEVENT
DTSTART;TZID=America/New_York:20221026T153000
DTEND;TZID=America/New_York:20221026T173000
DTSTAMP:20260420T181634
CREATED:20220616T163939Z
LAST-MODIFIED:20220616T172316Z
UID:10002838-1666798200-1666805400@www.hitchcockcenter.org
SUMMARY:Nature Play Aftershool
DESCRIPTION:NATURE PLAY AFTERSCHOOL \nAges 6-9 or grades 1-3\nWednesdays\, 3:30-5:30pm\nSeptember 7 – December 21 (no program October 5\, November 23)\nExtended Days: October 12 & December 7\nFee per Child: Tier A-$469 | Tier B-$382 | Tier C-$325  | Tier D-$248  \nHitchcock’s Nature Play Afterschool Program is designed to let kids be kids. Together we will run\, jump\, climb\, invent\, imagine\, play and be free-range kids all while developing self-confidence and learning valuable social skills. During Fall Nature Play we will explore wooded trails and fields\, jump in leaf piles\, build forts\, climb trees\, and make new discoveries about ourselves and the world around us. Our instructors provide a safe setting for children to explore nature and encourage children to stretch their limits.
URL:https://www.hitchcockcenter.org/event/nature-play-aftershool-7/
CATEGORIES:Ages 5–8 or Grades K–3
END:VEVENT
BEGIN:VEVENT
DTSTART;TZID=America/New_York:20221026T153000
DTEND;TZID=America/New_York:20221026T173000
DTSTAMP:20260420T181634
CREATED:20220616T173955Z
LAST-MODIFIED:20220616T173955Z
UID:10002879-1666798200-1666805400@www.hitchcockcenter.org
SUMMARY:Junior Nature Play Afterschool
DESCRIPTION:JUNIOR NATURE PLAY AFTERSCHOOL \nAges 5-7 or grades K-1\nWednesdays\, 3:30-5:30pm\nSeptember 7 – December 21 (no program October 5\, November 23)\nExtended Days: October 12 & December 7\nFee per Child: Tier A-$469 | Tier B-$382 | Tier C-$325  | Tier D-$248  \nHitchcock’s Junior Nature Play Afterschool Program is designed to let kids be kids. Together we will run\, jump\, climb\, invent\, imagine\, play and be free-range kids all while developing self-confidence and learning valuable social skills. During Fall Junior Nature Play we will explore wooded trails and fields\, play pretend in our mud kitchen\, and make leaf crowns.  Our instructors provide a safe setting for children to explore nature and encourage children to stretch their limits.
URL:https://www.hitchcockcenter.org/event/junior-nature-play-afterschool-7/
CATEGORIES:Ages 5–8 or Grades K–3
END:VEVENT
BEGIN:VEVENT
DTSTART;TZID=America/New_York:20221031T153000
DTEND;TZID=America/New_York:20221031T173000
DTSTAMP:20260420T181634
CREATED:20220616T150818Z
LAST-MODIFIED:20220616T150818Z
UID:10002791-1667230200-1667237400@www.hitchcockcenter.org
SUMMARY:Nature Play Afterschool
DESCRIPTION:NATURE PLAY AFTERSCHOOL \nAges 6-9 or grades 1-3\nMondays\, 3:30-5:30pm\nSeptember 12  – December 19 (no program October 10)\nExtended Day: September 26\nFee per Child: Tier A-$411 | Tier B-$358 | Tier C-$304  | Tier D-$232\n\nHitchcock’s Nature Play Afterschool Program is designed to let kids be kids. Together we will run\, jump\, climb\, invent\, imagine\, play and be free-range kids all while developing self-confidence and learning valuable social skills. During Fall Nature Play we will explore wooded trails and fields\, jump in leaf piles\, build forts\, climb trees\, and make new discoveries about ourselves and the world around us. Our instructors provide a safe setting for children to explore nature and encourage children to stretch their limits
URL:https://www.hitchcockcenter.org/event/nature-play-afterschool-193/
CATEGORIES:Ages 5–8 or Grades K–3
END:VEVENT
END:VCALENDAR