BEGIN:VCALENDAR
VERSION:2.0
PRODID:-//Hitchcock Center for the Environment - ECPv6.15.18//NONSGML v1.0//EN
CALSCALE:GREGORIAN
METHOD:PUBLISH
X-WR-CALNAME:Hitchcock Center for the Environment
X-ORIGINAL-URL:https://www.hitchcockcenter.org
X-WR-CALDESC:Events for Hitchcock Center for the Environment
REFRESH-INTERVAL;VALUE=DURATION:PT1H
X-Robots-Tag:noindex
X-PUBLISHED-TTL:PT1H
BEGIN:VTIMEZONE
TZID:America/New_York
BEGIN:DAYLIGHT
TZOFFSETFROM:-0500
TZOFFSETTO:-0400
TZNAME:EDT
DTSTART:20220313T070000
END:DAYLIGHT
BEGIN:STANDARD
TZOFFSETFROM:-0400
TZOFFSETTO:-0500
TZNAME:EST
DTSTART:20221106T060000
END:STANDARD
BEGIN:DAYLIGHT
TZOFFSETFROM:-0500
TZOFFSETTO:-0400
TZNAME:EDT
DTSTART:20230312T070000
END:DAYLIGHT
BEGIN:STANDARD
TZOFFSETFROM:-0400
TZOFFSETTO:-0500
TZNAME:EST
DTSTART:20231105T060000
END:STANDARD
BEGIN:DAYLIGHT
TZOFFSETFROM:-0500
TZOFFSETTO:-0400
TZNAME:EDT
DTSTART:20240310T070000
END:DAYLIGHT
BEGIN:STANDARD
TZOFFSETFROM:-0400
TZOFFSETTO:-0500
TZNAME:EST
DTSTART:20241103T060000
END:STANDARD
END:VTIMEZONE
BEGIN:VEVENT
DTSTART;TZID=America/New_York:20230104T153000
DTEND;TZID=America/New_York:20230104T173000
DTSTAMP:20260420T150620
CREATED:20221121T072114Z
LAST-MODIFIED:20221121T072114Z
UID:10003164-1672846200-1672853400@www.hitchcockcenter.org
SUMMARY:Junior Nature Play Afterschool
DESCRIPTION:JUNIOR NATURE PLAY AFTERSCHOOL\nWith: Lauren Dausch\nAges 5-7 or Grades K-1\nWednesdays\, 3:30pm-5:30pm\nJanuary 4 – March 15 (no program February 22)\nExtended Days on February 15\, March 8\nFee per Child: Tier A-$353 | Tier B-$307 | Tier C-$261 | Tier D-$200\nLimited to 11 participants \nHitchcock’s Junior Nature Play Afterschool Program is designed to let kids be kids. Together we will run\, jump\, climb\, invent\, imagine\, play and be free-range kids all while developing self-confidence and learning valuable social skills. During Winter Junior Nature Play we will explore snowy wooded trails and fields\, make snow villages\, and sled down the HCE hill!  Our instructors provide a safe setting for children to explore nature and encourage children to stretch their limits.
URL:https://www.hitchcockcenter.org/event/junior-nature-play-afterschool-16/2023-01-04/
LOCATION:Hitchcock Center for the Environment\, 845 West Street\, Amherst\, MA\, 01002
CATEGORIES:Ages 5–8 or Grades K–3
END:VEVENT
BEGIN:VEVENT
DTSTART;TZID=America/New_York:20230104T153000
DTEND;TZID=America/New_York:20230104T173000
DTSTAMP:20260420T150620
CREATED:20221121T072323Z
LAST-MODIFIED:20221130T203320Z
UID:10003174-1672846200-1672853400@www.hitchcockcenter.org
SUMMARY:Nature Play Afterschool
DESCRIPTION:NATURE PLAY AFTERSCHOOL\nWith: Jeff Mazur\nAges 6-9 or grades 1-3\nWednesdays\, 3:30-5:30\nJanuary 4 – March 15 (no program on February 22)\nExtended Days on February 15\, March 8\nFee per Child: Tier A-$353 | Tier B-$307 | Tier C-$261  | Tier D-$200\nLimited to 13 participants \nHitchcock’s Nature Play Afterschool Program is designed to let kids be kids. Together we will run\, jump\, climb\, invent\, imagine\, play and be free-range kids all while developing self-confidence and learning valuable social skills. In Winter Nature Play After School we will explore snowy wooded trails and fields\, make snow villages\, and sled down the HCE hill. Our instructors provide a safe setting for children to explore nature and encourage children to stretch their limits.
URL:https://www.hitchcockcenter.org/event/nature-play-afterschool-201/2023-01-04/
LOCATION:Hitchcock Center for the Environment\, 845 West Street\, Amherst\, MA\, 01002
CATEGORIES:Ages 5–8 or Grades K–3
END:VEVENT
BEGIN:VEVENT
DTSTART;TZID=America/New_York:20230105T153000
DTEND;TZID=America/New_York:20230105T173000
DTSTAMP:20260420T150620
CREATED:20221121T072701Z
LAST-MODIFIED:20221130T203417Z
UID:10003194-1672932600-1672939800@www.hitchcockcenter.org
SUMMARY:Nature Play Afterschool
DESCRIPTION:NATURE PLAY AFTERSCHOOL \nWith: Emily Schuttenberg\nAges 6-9 or grades 1-3\nThursdays\, 3:30-5:30\nJanuary 5 – March 16 (no program February 23)\nFee per Child: Tier A-$296 | Tier B-$257 | Tier C-$219  | Tier D-$167\nLimited to 13 participants \nHitchcock’s Nature Play Afterschool Program is designed to let kids be kids. Together we will run\, jump\, climb\, invent\, imagine\, play and be free-range kids all while developing self-confidence and learning valuable social skills. In Winter Nature Play After School we will explore snowy wooded trails and fields\, make snow villages\, and sled down the HCE hill. Our instructors provide a safe setting for children to explore nature and encourage children to stretch their limits.
URL:https://www.hitchcockcenter.org/event/nature-play-afterschool-202/2023-01-05/
LOCATION:Hitchcock Center for the Environment\, 845 West Street\, Amherst\, MA\, 01002
CATEGORIES:Ages 5–8 or Grades K–3
END:VEVENT
BEGIN:VEVENT
DTSTART;TZID=America/New_York:20230106T084500
DTEND;TZID=America/New_York:20230106T150000
DTSTAMP:20260420T150620
CREATED:20221121T061410Z
LAST-MODIFIED:20221121T061410Z
UID:10003073-1672994700-1673017200@www.hitchcockcenter.org
SUMMARY:School Curriculum Day at Hitchcock
DESCRIPTION:Friday\, January 6 · Friday\, January 20 · Friday\, April 7\n8:45 am to 3:00 pm\nAges 6-9 or grades 1 – 3*\nFee per Child: Tier A-$93 | Tier B-$81 | Tier C-$69  | Tier D-$53 \nCome play outside on this day off for Amherst elementary schoolers! Bring a snack\, lunch and water bottle and come prepared to play outside\, no matter what the weather! Limited to 12 participants. *Depending on enrollment\, your Kindergartner or 4th grader may be able to join. 
URL:https://www.hitchcockcenter.org/event/school-curriculum-day-at-hitchcock-2/
LOCATION:Hitchcock Center for the Environment\, 845 West Street\, Amherst\, MA\, 01002
CATEGORIES:Ages 5–8 or Grades K–3
END:VEVENT
BEGIN:VEVENT
DTSTART;TZID=America/New_York:20230111T153000
DTEND;TZID=America/New_York:20230111T173000
DTSTAMP:20260420T150620
CREATED:20221121T072114Z
LAST-MODIFIED:20221121T072114Z
UID:10003165-1673451000-1673458200@www.hitchcockcenter.org
SUMMARY:Junior Nature Play Afterschool
DESCRIPTION:JUNIOR NATURE PLAY AFTERSCHOOL\nWith: Lauren Dausch\nAges 5-7 or Grades K-1\nWednesdays\, 3:30pm-5:30pm\nJanuary 4 – March 15 (no program February 22)\nExtended Days on February 15\, March 8\nFee per Child: Tier A-$353 | Tier B-$307 | Tier C-$261 | Tier D-$200\nLimited to 11 participants \nHitchcock’s Junior Nature Play Afterschool Program is designed to let kids be kids. Together we will run\, jump\, climb\, invent\, imagine\, play and be free-range kids all while developing self-confidence and learning valuable social skills. During Winter Junior Nature Play we will explore snowy wooded trails and fields\, make snow villages\, and sled down the HCE hill!  Our instructors provide a safe setting for children to explore nature and encourage children to stretch their limits.
URL:https://www.hitchcockcenter.org/event/junior-nature-play-afterschool-16/2023-01-11/
LOCATION:Hitchcock Center for the Environment\, 845 West Street\, Amherst\, MA\, 01002
CATEGORIES:Ages 5–8 or Grades K–3
END:VEVENT
BEGIN:VEVENT
DTSTART;TZID=America/New_York:20230111T153000
DTEND;TZID=America/New_York:20230111T173000
DTSTAMP:20260420T150620
CREATED:20221121T072323Z
LAST-MODIFIED:20221130T203320Z
UID:10003175-1673451000-1673458200@www.hitchcockcenter.org
SUMMARY:Nature Play Afterschool
DESCRIPTION:NATURE PLAY AFTERSCHOOL\nWith: Jeff Mazur\nAges 6-9 or grades 1-3\nWednesdays\, 3:30-5:30\nJanuary 4 – March 15 (no program on February 22)\nExtended Days on February 15\, March 8\nFee per Child: Tier A-$353 | Tier B-$307 | Tier C-$261  | Tier D-$200\nLimited to 13 participants \nHitchcock’s Nature Play Afterschool Program is designed to let kids be kids. Together we will run\, jump\, climb\, invent\, imagine\, play and be free-range kids all while developing self-confidence and learning valuable social skills. In Winter Nature Play After School we will explore snowy wooded trails and fields\, make snow villages\, and sled down the HCE hill. Our instructors provide a safe setting for children to explore nature and encourage children to stretch their limits.
URL:https://www.hitchcockcenter.org/event/nature-play-afterschool-201/2023-01-11/
LOCATION:Hitchcock Center for the Environment\, 845 West Street\, Amherst\, MA\, 01002
CATEGORIES:Ages 5–8 or Grades K–3
END:VEVENT
BEGIN:VEVENT
DTSTART;TZID=America/New_York:20230112T153000
DTEND;TZID=America/New_York:20230112T173000
DTSTAMP:20260420T150620
CREATED:20221121T072701Z
LAST-MODIFIED:20221130T203417Z
UID:10003195-1673537400-1673544600@www.hitchcockcenter.org
SUMMARY:Nature Play Afterschool
DESCRIPTION:NATURE PLAY AFTERSCHOOL \nWith: Emily Schuttenberg\nAges 6-9 or grades 1-3\nThursdays\, 3:30-5:30\nJanuary 5 – March 16 (no program February 23)\nFee per Child: Tier A-$296 | Tier B-$257 | Tier C-$219  | Tier D-$167\nLimited to 13 participants \nHitchcock’s Nature Play Afterschool Program is designed to let kids be kids. Together we will run\, jump\, climb\, invent\, imagine\, play and be free-range kids all while developing self-confidence and learning valuable social skills. In Winter Nature Play After School we will explore snowy wooded trails and fields\, make snow villages\, and sled down the HCE hill. Our instructors provide a safe setting for children to explore nature and encourage children to stretch their limits.
URL:https://www.hitchcockcenter.org/event/nature-play-afterschool-202/2023-01-12/
LOCATION:Hitchcock Center for the Environment\, 845 West Street\, Amherst\, MA\, 01002
CATEGORIES:Ages 5–8 or Grades K–3
END:VEVENT
BEGIN:VEVENT
DTSTART;TZID=America/New_York:20230118T153000
DTEND;TZID=America/New_York:20230118T173000
DTSTAMP:20260420T150620
CREATED:20221121T072114Z
LAST-MODIFIED:20221121T072114Z
UID:10003166-1674055800-1674063000@www.hitchcockcenter.org
SUMMARY:Junior Nature Play Afterschool
DESCRIPTION:JUNIOR NATURE PLAY AFTERSCHOOL\nWith: Lauren Dausch\nAges 5-7 or Grades K-1\nWednesdays\, 3:30pm-5:30pm\nJanuary 4 – March 15 (no program February 22)\nExtended Days on February 15\, March 8\nFee per Child: Tier A-$353 | Tier B-$307 | Tier C-$261 | Tier D-$200\nLimited to 11 participants \nHitchcock’s Junior Nature Play Afterschool Program is designed to let kids be kids. Together we will run\, jump\, climb\, invent\, imagine\, play and be free-range kids all while developing self-confidence and learning valuable social skills. During Winter Junior Nature Play we will explore snowy wooded trails and fields\, make snow villages\, and sled down the HCE hill!  Our instructors provide a safe setting for children to explore nature and encourage children to stretch their limits.
URL:https://www.hitchcockcenter.org/event/junior-nature-play-afterschool-16/2023-01-18/
LOCATION:Hitchcock Center for the Environment\, 845 West Street\, Amherst\, MA\, 01002
CATEGORIES:Ages 5–8 or Grades K–3
END:VEVENT
BEGIN:VEVENT
DTSTART;TZID=America/New_York:20230118T153000
DTEND;TZID=America/New_York:20230118T173000
DTSTAMP:20260420T150620
CREATED:20221121T072323Z
LAST-MODIFIED:20221130T203320Z
UID:10003176-1674055800-1674063000@www.hitchcockcenter.org
SUMMARY:Nature Play Afterschool
DESCRIPTION:NATURE PLAY AFTERSCHOOL\nWith: Jeff Mazur\nAges 6-9 or grades 1-3\nWednesdays\, 3:30-5:30\nJanuary 4 – March 15 (no program on February 22)\nExtended Days on February 15\, March 8\nFee per Child: Tier A-$353 | Tier B-$307 | Tier C-$261  | Tier D-$200\nLimited to 13 participants \nHitchcock’s Nature Play Afterschool Program is designed to let kids be kids. Together we will run\, jump\, climb\, invent\, imagine\, play and be free-range kids all while developing self-confidence and learning valuable social skills. In Winter Nature Play After School we will explore snowy wooded trails and fields\, make snow villages\, and sled down the HCE hill. Our instructors provide a safe setting for children to explore nature and encourage children to stretch their limits.
URL:https://www.hitchcockcenter.org/event/nature-play-afterschool-201/2023-01-18/
LOCATION:Hitchcock Center for the Environment\, 845 West Street\, Amherst\, MA\, 01002
CATEGORIES:Ages 5–8 or Grades K–3
END:VEVENT
BEGIN:VEVENT
DTSTART;TZID=America/New_York:20230119T153000
DTEND;TZID=America/New_York:20230119T173000
DTSTAMP:20260420T150620
CREATED:20221121T072701Z
LAST-MODIFIED:20221130T203417Z
UID:10003196-1674142200-1674149400@www.hitchcockcenter.org
SUMMARY:Nature Play Afterschool
DESCRIPTION:NATURE PLAY AFTERSCHOOL \nWith: Emily Schuttenberg\nAges 6-9 or grades 1-3\nThursdays\, 3:30-5:30\nJanuary 5 – March 16 (no program February 23)\nFee per Child: Tier A-$296 | Tier B-$257 | Tier C-$219  | Tier D-$167\nLimited to 13 participants \nHitchcock’s Nature Play Afterschool Program is designed to let kids be kids. Together we will run\, jump\, climb\, invent\, imagine\, play and be free-range kids all while developing self-confidence and learning valuable social skills. In Winter Nature Play After School we will explore snowy wooded trails and fields\, make snow villages\, and sled down the HCE hill. Our instructors provide a safe setting for children to explore nature and encourage children to stretch their limits.
URL:https://www.hitchcockcenter.org/event/nature-play-afterschool-202/2023-01-19/
LOCATION:Hitchcock Center for the Environment\, 845 West Street\, Amherst\, MA\, 01002
CATEGORIES:Ages 5–8 or Grades K–3
END:VEVENT
BEGIN:VEVENT
DTSTART;TZID=America/New_York:20230120T084500
DTEND;TZID=America/New_York:20230120T150000
DTSTAMP:20260420T150620
CREATED:20221121T061529Z
LAST-MODIFIED:20221121T061529Z
UID:10003074-1674204300-1674226800@www.hitchcockcenter.org
SUMMARY:School Curriculum Day at Hitchcock
DESCRIPTION:Friday\, January 6 · Friday\, January 20 · Friday\, April 7\n8:45 am to 3:00 pm\nAges 6-9 or grades 1 – 3*\nFee per Child: Tier A-$93 | Tier B-$81 | Tier C-$69  | Tier D-$53 \nCome play outside on this day off for Amherst elementary schoolers! Bring a snack\, lunch and water bottle and come prepared to play outside\, no matter what the weather! Limited to 12 participants. *Depending on enrollment\, your Kindergartner or 4th grader may be able to join. 
URL:https://www.hitchcockcenter.org/event/school-curriculum-day-at-hitchcock-3/
LOCATION:Hitchcock Center for the Environment\, 845 West Street\, Amherst\, MA\, 01002
CATEGORIES:Ages 5–8 or Grades K–3
END:VEVENT
BEGIN:VEVENT
DTSTART;TZID=America/New_York:20230125T153000
DTEND;TZID=America/New_York:20230125T173000
DTSTAMP:20260420T150620
CREATED:20221121T072114Z
LAST-MODIFIED:20221121T072114Z
UID:10003167-1674660600-1674667800@www.hitchcockcenter.org
SUMMARY:Junior Nature Play Afterschool
DESCRIPTION:JUNIOR NATURE PLAY AFTERSCHOOL\nWith: Lauren Dausch\nAges 5-7 or Grades K-1\nWednesdays\, 3:30pm-5:30pm\nJanuary 4 – March 15 (no program February 22)\nExtended Days on February 15\, March 8\nFee per Child: Tier A-$353 | Tier B-$307 | Tier C-$261 | Tier D-$200\nLimited to 11 participants \nHitchcock’s Junior Nature Play Afterschool Program is designed to let kids be kids. Together we will run\, jump\, climb\, invent\, imagine\, play and be free-range kids all while developing self-confidence and learning valuable social skills. During Winter Junior Nature Play we will explore snowy wooded trails and fields\, make snow villages\, and sled down the HCE hill!  Our instructors provide a safe setting for children to explore nature and encourage children to stretch their limits.
URL:https://www.hitchcockcenter.org/event/junior-nature-play-afterschool-16/2023-01-25/
LOCATION:Hitchcock Center for the Environment\, 845 West Street\, Amherst\, MA\, 01002
CATEGORIES:Ages 5–8 or Grades K–3
END:VEVENT
BEGIN:VEVENT
DTSTART;TZID=America/New_York:20230125T153000
DTEND;TZID=America/New_York:20230125T173000
DTSTAMP:20260420T150620
CREATED:20221121T072323Z
LAST-MODIFIED:20221130T203320Z
UID:10003177-1674660600-1674667800@www.hitchcockcenter.org
SUMMARY:Nature Play Afterschool
DESCRIPTION:NATURE PLAY AFTERSCHOOL\nWith: Jeff Mazur\nAges 6-9 or grades 1-3\nWednesdays\, 3:30-5:30\nJanuary 4 – March 15 (no program on February 22)\nExtended Days on February 15\, March 8\nFee per Child: Tier A-$353 | Tier B-$307 | Tier C-$261  | Tier D-$200\nLimited to 13 participants \nHitchcock’s Nature Play Afterschool Program is designed to let kids be kids. Together we will run\, jump\, climb\, invent\, imagine\, play and be free-range kids all while developing self-confidence and learning valuable social skills. In Winter Nature Play After School we will explore snowy wooded trails and fields\, make snow villages\, and sled down the HCE hill. Our instructors provide a safe setting for children to explore nature and encourage children to stretch their limits.
URL:https://www.hitchcockcenter.org/event/nature-play-afterschool-201/2023-01-25/
LOCATION:Hitchcock Center for the Environment\, 845 West Street\, Amherst\, MA\, 01002
CATEGORIES:Ages 5–8 or Grades K–3
END:VEVENT
BEGIN:VEVENT
DTSTART;TZID=America/New_York:20230126T153000
DTEND;TZID=America/New_York:20230126T173000
DTSTAMP:20260420T150620
CREATED:20221121T072701Z
LAST-MODIFIED:20221130T203417Z
UID:10003197-1674747000-1674754200@www.hitchcockcenter.org
SUMMARY:Nature Play Afterschool
DESCRIPTION:NATURE PLAY AFTERSCHOOL \nWith: Emily Schuttenberg\nAges 6-9 or grades 1-3\nThursdays\, 3:30-5:30\nJanuary 5 – March 16 (no program February 23)\nFee per Child: Tier A-$296 | Tier B-$257 | Tier C-$219  | Tier D-$167\nLimited to 13 participants \nHitchcock’s Nature Play Afterschool Program is designed to let kids be kids. Together we will run\, jump\, climb\, invent\, imagine\, play and be free-range kids all while developing self-confidence and learning valuable social skills. In Winter Nature Play After School we will explore snowy wooded trails and fields\, make snow villages\, and sled down the HCE hill. Our instructors provide a safe setting for children to explore nature and encourage children to stretch their limits.
URL:https://www.hitchcockcenter.org/event/nature-play-afterschool-202/2023-01-26/
LOCATION:Hitchcock Center for the Environment\, 845 West Street\, Amherst\, MA\, 01002
CATEGORIES:Ages 5–8 or Grades K–3
END:VEVENT
END:VCALENDAR