BEGIN:VCALENDAR
VERSION:2.0
PRODID:-//Hitchcock Center for the Environment - ECPv6.15.18//NONSGML v1.0//EN
CALSCALE:GREGORIAN
METHOD:PUBLISH
X-ORIGINAL-URL:https://www.hitchcockcenter.org
X-WR-CALDESC:Events for Hitchcock Center for the Environment
REFRESH-INTERVAL;VALUE=DURATION:PT1H
X-Robots-Tag:noindex
X-PUBLISHED-TTL:PT1H
BEGIN:VTIMEZONE
TZID:America/New_York
BEGIN:DAYLIGHT
TZOFFSETFROM:-0500
TZOFFSETTO:-0400
TZNAME:EDT
DTSTART:20220313T070000
END:DAYLIGHT
BEGIN:STANDARD
TZOFFSETFROM:-0400
TZOFFSETTO:-0500
TZNAME:EST
DTSTART:20221106T060000
END:STANDARD
BEGIN:DAYLIGHT
TZOFFSETFROM:-0500
TZOFFSETTO:-0400
TZNAME:EDT
DTSTART:20230312T070000
END:DAYLIGHT
BEGIN:STANDARD
TZOFFSETFROM:-0400
TZOFFSETTO:-0500
TZNAME:EST
DTSTART:20231105T060000
END:STANDARD
BEGIN:DAYLIGHT
TZOFFSETFROM:-0500
TZOFFSETTO:-0400
TZNAME:EDT
DTSTART:20240310T070000
END:DAYLIGHT
BEGIN:STANDARD
TZOFFSETFROM:-0400
TZOFFSETTO:-0500
TZNAME:EST
DTSTART:20241103T060000
END:STANDARD
END:VTIMEZONE
BEGIN:VEVENT
DTSTART;TZID=America/New_York:20230201T153000
DTEND;TZID=America/New_York:20230201T173000
DTSTAMP:20260420T140429
CREATED:20221121T072114Z
LAST-MODIFIED:20221121T072114Z
UID:10003168-1675265400-1675272600@www.hitchcockcenter.org
SUMMARY:Junior Nature Play Afterschool
DESCRIPTION:JUNIOR NATURE PLAY AFTERSCHOOL\nWith: Lauren Dausch\nAges 5-7 or Grades K-1\nWednesdays\, 3:30pm-5:30pm\nJanuary 4 – March 15 (no program February 22)\nExtended Days on February 15\, March 8\nFee per Child: Tier A-$353 | Tier B-$307 | Tier C-$261 | Tier D-$200\nLimited to 11 participants \nHitchcock’s Junior Nature Play Afterschool Program is designed to let kids be kids. Together we will run\, jump\, climb\, invent\, imagine\, play and be free-range kids all while developing self-confidence and learning valuable social skills. During Winter Junior Nature Play we will explore snowy wooded trails and fields\, make snow villages\, and sled down the HCE hill!  Our instructors provide a safe setting for children to explore nature and encourage children to stretch their limits.
URL:https://www.hitchcockcenter.org/event/junior-nature-play-afterschool-16/2023-02-01/
LOCATION:Hitchcock Center for the Environment\, 845 West Street\, Amherst\, MA\, 01002
CATEGORIES:Ages 5–8 or Grades K–3
END:VEVENT
BEGIN:VEVENT
DTSTART;TZID=America/New_York:20230201T153000
DTEND;TZID=America/New_York:20230201T173000
DTSTAMP:20260420T140429
CREATED:20221121T072323Z
LAST-MODIFIED:20221130T203320Z
UID:10003178-1675265400-1675272600@www.hitchcockcenter.org
SUMMARY:Nature Play Afterschool
DESCRIPTION:NATURE PLAY AFTERSCHOOL\nWith: Jeff Mazur\nAges 6-9 or grades 1-3\nWednesdays\, 3:30-5:30\nJanuary 4 – March 15 (no program on February 22)\nExtended Days on February 15\, March 8\nFee per Child: Tier A-$353 | Tier B-$307 | Tier C-$261  | Tier D-$200\nLimited to 13 participants \nHitchcock’s Nature Play Afterschool Program is designed to let kids be kids. Together we will run\, jump\, climb\, invent\, imagine\, play and be free-range kids all while developing self-confidence and learning valuable social skills. In Winter Nature Play After School we will explore snowy wooded trails and fields\, make snow villages\, and sled down the HCE hill. Our instructors provide a safe setting for children to explore nature and encourage children to stretch their limits.
URL:https://www.hitchcockcenter.org/event/nature-play-afterschool-201/2023-02-01/
LOCATION:Hitchcock Center for the Environment\, 845 West Street\, Amherst\, MA\, 01002
CATEGORIES:Ages 5–8 or Grades K–3
END:VEVENT
BEGIN:VEVENT
DTSTART;TZID=America/New_York:20230202T153000
DTEND;TZID=America/New_York:20230202T173000
DTSTAMP:20260420T140429
CREATED:20221121T072701Z
LAST-MODIFIED:20221130T203417Z
UID:10003198-1675351800-1675359000@www.hitchcockcenter.org
SUMMARY:Nature Play Afterschool
DESCRIPTION:NATURE PLAY AFTERSCHOOL \nWith: Emily Schuttenberg\nAges 6-9 or grades 1-3\nThursdays\, 3:30-5:30\nJanuary 5 – March 16 (no program February 23)\nFee per Child: Tier A-$296 | Tier B-$257 | Tier C-$219  | Tier D-$167\nLimited to 13 participants \nHitchcock’s Nature Play Afterschool Program is designed to let kids be kids. Together we will run\, jump\, climb\, invent\, imagine\, play and be free-range kids all while developing self-confidence and learning valuable social skills. In Winter Nature Play After School we will explore snowy wooded trails and fields\, make snow villages\, and sled down the HCE hill. Our instructors provide a safe setting for children to explore nature and encourage children to stretch their limits.
URL:https://www.hitchcockcenter.org/event/nature-play-afterschool-202/2023-02-02/
LOCATION:Hitchcock Center for the Environment\, 845 West Street\, Amherst\, MA\, 01002
CATEGORIES:Ages 5–8 or Grades K–3
END:VEVENT
BEGIN:VEVENT
DTSTART;TZID=America/New_York:20230208T153000
DTEND;TZID=America/New_York:20230208T173000
DTSTAMP:20260420T140429
CREATED:20221121T072114Z
LAST-MODIFIED:20221121T072114Z
UID:10003169-1675870200-1675877400@www.hitchcockcenter.org
SUMMARY:Junior Nature Play Afterschool
DESCRIPTION:JUNIOR NATURE PLAY AFTERSCHOOL\nWith: Lauren Dausch\nAges 5-7 or Grades K-1\nWednesdays\, 3:30pm-5:30pm\nJanuary 4 – March 15 (no program February 22)\nExtended Days on February 15\, March 8\nFee per Child: Tier A-$353 | Tier B-$307 | Tier C-$261 | Tier D-$200\nLimited to 11 participants \nHitchcock’s Junior Nature Play Afterschool Program is designed to let kids be kids. Together we will run\, jump\, climb\, invent\, imagine\, play and be free-range kids all while developing self-confidence and learning valuable social skills. During Winter Junior Nature Play we will explore snowy wooded trails and fields\, make snow villages\, and sled down the HCE hill!  Our instructors provide a safe setting for children to explore nature and encourage children to stretch their limits.
URL:https://www.hitchcockcenter.org/event/junior-nature-play-afterschool-16/2023-02-08/
LOCATION:Hitchcock Center for the Environment\, 845 West Street\, Amherst\, MA\, 01002
CATEGORIES:Ages 5–8 or Grades K–3
END:VEVENT
BEGIN:VEVENT
DTSTART;TZID=America/New_York:20230208T153000
DTEND;TZID=America/New_York:20230208T173000
DTSTAMP:20260420T140429
CREATED:20221121T072323Z
LAST-MODIFIED:20221130T203320Z
UID:10003179-1675870200-1675877400@www.hitchcockcenter.org
SUMMARY:Nature Play Afterschool
DESCRIPTION:NATURE PLAY AFTERSCHOOL\nWith: Jeff Mazur\nAges 6-9 or grades 1-3\nWednesdays\, 3:30-5:30\nJanuary 4 – March 15 (no program on February 22)\nExtended Days on February 15\, March 8\nFee per Child: Tier A-$353 | Tier B-$307 | Tier C-$261  | Tier D-$200\nLimited to 13 participants \nHitchcock’s Nature Play Afterschool Program is designed to let kids be kids. Together we will run\, jump\, climb\, invent\, imagine\, play and be free-range kids all while developing self-confidence and learning valuable social skills. In Winter Nature Play After School we will explore snowy wooded trails and fields\, make snow villages\, and sled down the HCE hill. Our instructors provide a safe setting for children to explore nature and encourage children to stretch their limits.
URL:https://www.hitchcockcenter.org/event/nature-play-afterschool-201/2023-02-08/
LOCATION:Hitchcock Center for the Environment\, 845 West Street\, Amherst\, MA\, 01002
CATEGORIES:Ages 5–8 or Grades K–3
END:VEVENT
BEGIN:VEVENT
DTSTART;TZID=America/New_York:20230209T153000
DTEND;TZID=America/New_York:20230209T173000
DTSTAMP:20260420T140429
CREATED:20221121T072701Z
LAST-MODIFIED:20221130T203417Z
UID:10003199-1675956600-1675963800@www.hitchcockcenter.org
SUMMARY:Nature Play Afterschool
DESCRIPTION:NATURE PLAY AFTERSCHOOL \nWith: Emily Schuttenberg\nAges 6-9 or grades 1-3\nThursdays\, 3:30-5:30\nJanuary 5 – March 16 (no program February 23)\nFee per Child: Tier A-$296 | Tier B-$257 | Tier C-$219  | Tier D-$167\nLimited to 13 participants \nHitchcock’s Nature Play Afterschool Program is designed to let kids be kids. Together we will run\, jump\, climb\, invent\, imagine\, play and be free-range kids all while developing self-confidence and learning valuable social skills. In Winter Nature Play After School we will explore snowy wooded trails and fields\, make snow villages\, and sled down the HCE hill. Our instructors provide a safe setting for children to explore nature and encourage children to stretch their limits.
URL:https://www.hitchcockcenter.org/event/nature-play-afterschool-202/2023-02-09/
LOCATION:Hitchcock Center for the Environment\, 845 West Street\, Amherst\, MA\, 01002
CATEGORIES:Ages 5–8 or Grades K–3
END:VEVENT
BEGIN:VEVENT
DTSTART;TZID=America/New_York:20230215T133000
DTEND;TZID=America/New_York:20230215T173000
DTSTAMP:20260420T140429
CREATED:20221130T204536Z
LAST-MODIFIED:20221130T204536Z
UID:10003170-1676467800-1676482200@www.hitchcockcenter.org
SUMMARY:Junior Nature Play Afterschool
DESCRIPTION:JUNIOR NATURE PLAY AFTERSCHOOL\nWith: Lauren Dausch\nAges 5-7 or Grades K-1\nWednesdays\, 3:30pm-5:30pm\nJanuary 4 – March 15 (no program February 22)\nExtended Days on February 15\, March 8\nFee per Child: Tier A-$353 | Tier B-$307 | Tier C-$261 | Tier D-$200\nLimited to 11 participants \nHitchcock’s Junior Nature Play Afterschool Program is designed to let kids be kids. Together we will run\, jump\, climb\, invent\, imagine\, play and be free-range kids all while developing self-confidence and learning valuable social skills. During Winter Junior Nature Play we will explore snowy wooded trails and fields\, make snow villages\, and sled down the HCE hill!  Our instructors provide a safe setting for children to explore nature and encourage children to stretch their limits.
URL:https://www.hitchcockcenter.org/event/junior-nature-play-afterschool-16-2/
LOCATION:Hitchcock Center for the Environment\, 845 West Street\, Amherst\, MA\, 01002
CATEGORIES:Ages 5–8 or Grades K–3
END:VEVENT
BEGIN:VEVENT
DTSTART;TZID=America/New_York:20230215T133000
DTEND;TZID=America/New_York:20230215T173000
DTSTAMP:20260420T140429
CREATED:20221130T205146Z
LAST-MODIFIED:20221130T205146Z
UID:10003180-1676467800-1676482200@www.hitchcockcenter.org
SUMMARY:Nature Play Afterschool
DESCRIPTION:NATURE PLAY AFTERSCHOOL\nWith: Jeff Mazur\nAges 6-9 or grades 1-3\nWednesdays\, 3:30-5:30\nJanuary 4 – March 15 (no program on February 22)\nExtended Days on February 15\, March 8\nFee per Child: Tier A-$353 | Tier B-$307 | Tier C-$261  | Tier D-$200\nLimited to 13 participants \nHitchcock’s Nature Play Afterschool Program is designed to let kids be kids. Together we will run\, jump\, climb\, invent\, imagine\, play and be free-range kids all while developing self-confidence and learning valuable social skills. In Winter Nature Play After School we will explore snowy wooded trails and fields\, make snow villages\, and sled down the HCE hill. Our instructors provide a safe setting for children to explore nature and encourage children to stretch their limits.
URL:https://www.hitchcockcenter.org/event/nature-play-afterschool-201-2/
LOCATION:Hitchcock Center for the Environment\, 845 West Street\, Amherst\, MA\, 01002
CATEGORIES:Ages 5–8 or Grades K–3
END:VEVENT
BEGIN:VEVENT
DTSTART;TZID=America/New_York:20230216T153000
DTEND;TZID=America/New_York:20230216T173000
DTSTAMP:20260420T140429
CREATED:20221121T072701Z
LAST-MODIFIED:20221130T203417Z
UID:10003200-1676561400-1676568600@www.hitchcockcenter.org
SUMMARY:Nature Play Afterschool
DESCRIPTION:NATURE PLAY AFTERSCHOOL \nWith: Emily Schuttenberg\nAges 6-9 or grades 1-3\nThursdays\, 3:30-5:30\nJanuary 5 – March 16 (no program February 23)\nFee per Child: Tier A-$296 | Tier B-$257 | Tier C-$219  | Tier D-$167\nLimited to 13 participants \nHitchcock’s Nature Play Afterschool Program is designed to let kids be kids. Together we will run\, jump\, climb\, invent\, imagine\, play and be free-range kids all while developing self-confidence and learning valuable social skills. In Winter Nature Play After School we will explore snowy wooded trails and fields\, make snow villages\, and sled down the HCE hill. Our instructors provide a safe setting for children to explore nature and encourage children to stretch their limits.
URL:https://www.hitchcockcenter.org/event/nature-play-afterschool-202/2023-02-16/
LOCATION:Hitchcock Center for the Environment\, 845 West Street\, Amherst\, MA\, 01002
CATEGORIES:Ages 5–8 or Grades K–3
END:VEVENT
END:VCALENDAR