BEGIN:VCALENDAR
VERSION:2.0
PRODID:-//Hitchcock Center for the Environment - ECPv6.15.18//NONSGML v1.0//EN
CALSCALE:GREGORIAN
METHOD:PUBLISH
X-ORIGINAL-URL:https://www.hitchcockcenter.org
X-WR-CALDESC:Events for Hitchcock Center for the Environment
REFRESH-INTERVAL;VALUE=DURATION:PT1H
X-Robots-Tag:noindex
X-PUBLISHED-TTL:PT1H
BEGIN:VTIMEZONE
TZID:America/New_York
BEGIN:DAYLIGHT
TZOFFSETFROM:-0500
TZOFFSETTO:-0400
TZNAME:EDT
DTSTART:20220313T070000
END:DAYLIGHT
BEGIN:STANDARD
TZOFFSETFROM:-0400
TZOFFSETTO:-0500
TZNAME:EST
DTSTART:20221106T060000
END:STANDARD
BEGIN:DAYLIGHT
TZOFFSETFROM:-0500
TZOFFSETTO:-0400
TZNAME:EDT
DTSTART:20230312T070000
END:DAYLIGHT
BEGIN:STANDARD
TZOFFSETFROM:-0400
TZOFFSETTO:-0500
TZNAME:EST
DTSTART:20231105T060000
END:STANDARD
BEGIN:DAYLIGHT
TZOFFSETFROM:-0500
TZOFFSETTO:-0400
TZNAME:EDT
DTSTART:20240310T070000
END:DAYLIGHT
BEGIN:STANDARD
TZOFFSETFROM:-0400
TZOFFSETTO:-0500
TZNAME:EST
DTSTART:20241103T060000
END:STANDARD
END:VTIMEZONE
BEGIN:VEVENT
DTSTART;TZID=America/New_York:20230301T153000
DTEND;TZID=America/New_York:20230301T173000
DTSTAMP:20260420T130236
CREATED:20221121T072114Z
LAST-MODIFIED:20221121T072114Z
UID:10003171-1677684600-1677691800@www.hitchcockcenter.org
SUMMARY:Junior Nature Play Afterschool
DESCRIPTION:JUNIOR NATURE PLAY AFTERSCHOOL\nWith: Lauren Dausch\nAges 5-7 or Grades K-1\nWednesdays\, 3:30pm-5:30pm\nJanuary 4 – March 15 (no program February 22)\nExtended Days on February 15\, March 8\nFee per Child: Tier A-$353 | Tier B-$307 | Tier C-$261 | Tier D-$200\nLimited to 11 participants \nHitchcock’s Junior Nature Play Afterschool Program is designed to let kids be kids. Together we will run\, jump\, climb\, invent\, imagine\, play and be free-range kids all while developing self-confidence and learning valuable social skills. During Winter Junior Nature Play we will explore snowy wooded trails and fields\, make snow villages\, and sled down the HCE hill!  Our instructors provide a safe setting for children to explore nature and encourage children to stretch their limits.
URL:https://www.hitchcockcenter.org/event/junior-nature-play-afterschool-16/2023-03-01/
LOCATION:Hitchcock Center for the Environment\, 845 West Street\, Amherst\, MA\, 01002
CATEGORIES:Ages 5–8 or Grades K–3
END:VEVENT
BEGIN:VEVENT
DTSTART;TZID=America/New_York:20230301T153000
DTEND;TZID=America/New_York:20230301T173000
DTSTAMP:20260420T130236
CREATED:20221121T072323Z
LAST-MODIFIED:20221130T203320Z
UID:10003181-1677684600-1677691800@www.hitchcockcenter.org
SUMMARY:Nature Play Afterschool
DESCRIPTION:NATURE PLAY AFTERSCHOOL\nWith: Jeff Mazur\nAges 6-9 or grades 1-3\nWednesdays\, 3:30-5:30\nJanuary 4 – March 15 (no program on February 22)\nExtended Days on February 15\, March 8\nFee per Child: Tier A-$353 | Tier B-$307 | Tier C-$261  | Tier D-$200\nLimited to 13 participants \nHitchcock’s Nature Play Afterschool Program is designed to let kids be kids. Together we will run\, jump\, climb\, invent\, imagine\, play and be free-range kids all while developing self-confidence and learning valuable social skills. In Winter Nature Play After School we will explore snowy wooded trails and fields\, make snow villages\, and sled down the HCE hill. Our instructors provide a safe setting for children to explore nature and encourage children to stretch their limits.
URL:https://www.hitchcockcenter.org/event/nature-play-afterschool-201/2023-03-01/
LOCATION:Hitchcock Center for the Environment\, 845 West Street\, Amherst\, MA\, 01002
CATEGORIES:Ages 5–8 or Grades K–3
END:VEVENT
BEGIN:VEVENT
DTSTART;TZID=America/New_York:20230302T153000
DTEND;TZID=America/New_York:20230302T173000
DTSTAMP:20260420T130236
CREATED:20221121T072701Z
LAST-MODIFIED:20221130T203417Z
UID:10003201-1677771000-1677778200@www.hitchcockcenter.org
SUMMARY:Nature Play Afterschool
DESCRIPTION:NATURE PLAY AFTERSCHOOL \nWith: Emily Schuttenberg\nAges 6-9 or grades 1-3\nThursdays\, 3:30-5:30\nJanuary 5 – March 16 (no program February 23)\nFee per Child: Tier A-$296 | Tier B-$257 | Tier C-$219  | Tier D-$167\nLimited to 13 participants \nHitchcock’s Nature Play Afterschool Program is designed to let kids be kids. Together we will run\, jump\, climb\, invent\, imagine\, play and be free-range kids all while developing self-confidence and learning valuable social skills. In Winter Nature Play After School we will explore snowy wooded trails and fields\, make snow villages\, and sled down the HCE hill. Our instructors provide a safe setting for children to explore nature and encourage children to stretch their limits.
URL:https://www.hitchcockcenter.org/event/nature-play-afterschool-202/2023-03-02/
LOCATION:Hitchcock Center for the Environment\, 845 West Street\, Amherst\, MA\, 01002
CATEGORIES:Ages 5–8 or Grades K–3
END:VEVENT
BEGIN:VEVENT
DTSTART;TZID=America/New_York:20230307T100000
DTEND;TZID=America/New_York:20230307T140000
DTSTAMP:20260420T130236
CREATED:20221121T065944Z
LAST-MODIFIED:20221121T065944Z
UID:10003120-1678183200-1678197600@www.hitchcockcenter.org
SUMMARY:Homeschool I: The Science of Small Things
DESCRIPTION:HOMESCHOOL I: THE SCIENCE OF SMALL THINGS \nWith Emily Schuttenberg\nGrades 1-3\, Ages 6-8\nTuesdays 10:00am -2:00 pm\nMarch 7 – May 30\n(No program Mar 14\, Apr 11 for Discovery Days\, no class April 18 for April Vacation Week)\nTier A: $757 Tier B: $658 Tier C: $560 Tier D: $428\nLimited to 13 participants \nIn Homeschool I: the Science of Small Things\, we will investigate the tiny but mighty parts of the world that are often overlooked. Through exploration of insects\, seeds\, fungi\, chemical compounds and more\, we will discover that these small things have a big impact! We will approach learning with outdoor play\, hands-on activities\, journaling\, songs\, and more.
URL:https://www.hitchcockcenter.org/event/homeschool-i-the-science-of-small-things/2023-03-07/
LOCATION:Hitchcock Center for the Environment\, 845 West Street\, Amherst\, MA\, 01002
CATEGORIES:Ages 5–8 or Grades K–3
END:VEVENT
BEGIN:VEVENT
DTSTART;TZID=America/New_York:20230308T133000
DTEND;TZID=America/New_York:20230308T173000
DTSTAMP:20260420T130236
CREATED:20221130T204641Z
LAST-MODIFIED:20221130T204641Z
UID:10003172-1678282200-1678296600@www.hitchcockcenter.org
SUMMARY:Junior Nature Play Afterschool
DESCRIPTION:JUNIOR NATURE PLAY AFTERSCHOOL\nWith: Lauren Dausch\nAges 5-7 or Grades K-1\nWednesdays\, 3:30pm-5:30pm\nJanuary 4 – March 15 (no program February 22)\nExtended Days on February 15\, March 8\nFee per Child: Tier A-$353 | Tier B-$307 | Tier C-$261 | Tier D-$200\nLimited to 11 participants \nHitchcock’s Junior Nature Play Afterschool Program is designed to let kids be kids. Together we will run\, jump\, climb\, invent\, imagine\, play and be free-range kids all while developing self-confidence and learning valuable social skills. During Winter Junior Nature Play we will explore snowy wooded trails and fields\, make snow villages\, and sled down the HCE hill!  Our instructors provide a safe setting for children to explore nature and encourage children to stretch their limits.
URL:https://www.hitchcockcenter.org/event/junior-nature-play-afterschool-16-3/
LOCATION:Hitchcock Center for the Environment\, 845 West Street\, Amherst\, MA\, 01002
CATEGORIES:Ages 5–8 or Grades K–3
END:VEVENT
BEGIN:VEVENT
DTSTART;TZID=America/New_York:20230308T133000
DTEND;TZID=America/New_York:20230308T173000
DTSTAMP:20260420T130236
CREATED:20221130T205420Z
LAST-MODIFIED:20221130T205421Z
UID:10003182-1678282200-1678296600@www.hitchcockcenter.org
SUMMARY:Nature Play Afterschool
DESCRIPTION:NATURE PLAY AFTERSCHOOL\nWith: Jeff Mazur\nAges 6-9 or grades 1-3\nWednesdays\, 3:30-5:30\nJanuary 4 – March 15 (no program on February 22)\nExtended Days on February 15\, March 8\nFee per Child: Tier A-$353 | Tier B-$307 | Tier C-$261  | Tier D-$200\nLimited to 13 participants \nHitchcock’s Nature Play Afterschool Program is designed to let kids be kids. Together we will run\, jump\, climb\, invent\, imagine\, play and be free-range kids all while developing self-confidence and learning valuable social skills. In Winter Nature Play After School we will explore snowy wooded trails and fields\, make snow villages\, and sled down the HCE hill. Our instructors provide a safe setting for children to explore nature and encourage children to stretch their limits.
URL:https://www.hitchcockcenter.org/event/nature-play-afterschool-201-3/
LOCATION:Hitchcock Center for the Environment\, 845 West Street\, Amherst\, MA\, 01002
CATEGORIES:Ages 5–8 or Grades K–3
END:VEVENT
BEGIN:VEVENT
DTSTART;TZID=America/New_York:20230309T153000
DTEND;TZID=America/New_York:20230309T173000
DTSTAMP:20260420T130236
CREATED:20221121T072701Z
LAST-MODIFIED:20221130T203417Z
UID:10003202-1678375800-1678383000@www.hitchcockcenter.org
SUMMARY:Nature Play Afterschool
DESCRIPTION:NATURE PLAY AFTERSCHOOL \nWith: Emily Schuttenberg\nAges 6-9 or grades 1-3\nThursdays\, 3:30-5:30\nJanuary 5 – March 16 (no program February 23)\nFee per Child: Tier A-$296 | Tier B-$257 | Tier C-$219  | Tier D-$167\nLimited to 13 participants \nHitchcock’s Nature Play Afterschool Program is designed to let kids be kids. Together we will run\, jump\, climb\, invent\, imagine\, play and be free-range kids all while developing self-confidence and learning valuable social skills. In Winter Nature Play After School we will explore snowy wooded trails and fields\, make snow villages\, and sled down the HCE hill. Our instructors provide a safe setting for children to explore nature and encourage children to stretch their limits.
URL:https://www.hitchcockcenter.org/event/nature-play-afterschool-202/2023-03-09/
LOCATION:Hitchcock Center for the Environment\, 845 West Street\, Amherst\, MA\, 01002
CATEGORIES:Ages 5–8 or Grades K–3
END:VEVENT
BEGIN:VEVENT
DTSTART;TZID=America/New_York:20230315T153000
DTEND;TZID=America/New_York:20230315T173000
DTSTAMP:20260420T130236
CREATED:20221121T072114Z
LAST-MODIFIED:20221121T072114Z
UID:10003173-1678894200-1678901400@www.hitchcockcenter.org
SUMMARY:Junior Nature Play Afterschool
DESCRIPTION:JUNIOR NATURE PLAY AFTERSCHOOL\nWith: Lauren Dausch\nAges 5-7 or Grades K-1\nWednesdays\, 3:30pm-5:30pm\nJanuary 4 – March 15 (no program February 22)\nExtended Days on February 15\, March 8\nFee per Child: Tier A-$353 | Tier B-$307 | Tier C-$261 | Tier D-$200\nLimited to 11 participants \nHitchcock’s Junior Nature Play Afterschool Program is designed to let kids be kids. Together we will run\, jump\, climb\, invent\, imagine\, play and be free-range kids all while developing self-confidence and learning valuable social skills. During Winter Junior Nature Play we will explore snowy wooded trails and fields\, make snow villages\, and sled down the HCE hill!  Our instructors provide a safe setting for children to explore nature and encourage children to stretch their limits.
URL:https://www.hitchcockcenter.org/event/junior-nature-play-afterschool-16/2023-03-15/
LOCATION:Hitchcock Center for the Environment\, 845 West Street\, Amherst\, MA\, 01002
CATEGORIES:Ages 5–8 or Grades K–3
END:VEVENT
BEGIN:VEVENT
DTSTART;TZID=America/New_York:20230315T153000
DTEND;TZID=America/New_York:20230315T173000
DTSTAMP:20260420T130236
CREATED:20221121T072323Z
LAST-MODIFIED:20221130T203320Z
UID:10003183-1678894200-1678901400@www.hitchcockcenter.org
SUMMARY:Nature Play Afterschool
DESCRIPTION:NATURE PLAY AFTERSCHOOL\nWith: Jeff Mazur\nAges 6-9 or grades 1-3\nWednesdays\, 3:30-5:30\nJanuary 4 – March 15 (no program on February 22)\nExtended Days on February 15\, March 8\nFee per Child: Tier A-$353 | Tier B-$307 | Tier C-$261  | Tier D-$200\nLimited to 13 participants \nHitchcock’s Nature Play Afterschool Program is designed to let kids be kids. Together we will run\, jump\, climb\, invent\, imagine\, play and be free-range kids all while developing self-confidence and learning valuable social skills. In Winter Nature Play After School we will explore snowy wooded trails and fields\, make snow villages\, and sled down the HCE hill. Our instructors provide a safe setting for children to explore nature and encourage children to stretch their limits.
URL:https://www.hitchcockcenter.org/event/nature-play-afterschool-201/2023-03-15/
LOCATION:Hitchcock Center for the Environment\, 845 West Street\, Amherst\, MA\, 01002
CATEGORIES:Ages 5–8 or Grades K–3
END:VEVENT
BEGIN:VEVENT
DTSTART;TZID=America/New_York:20230316T153000
DTEND;TZID=America/New_York:20230316T173000
DTSTAMP:20260420T130236
CREATED:20221121T072701Z
LAST-MODIFIED:20221130T203417Z
UID:10003203-1678980600-1678987800@www.hitchcockcenter.org
SUMMARY:Nature Play Afterschool
DESCRIPTION:NATURE PLAY AFTERSCHOOL \nWith: Emily Schuttenberg\nAges 6-9 or grades 1-3\nThursdays\, 3:30-5:30\nJanuary 5 – March 16 (no program February 23)\nFee per Child: Tier A-$296 | Tier B-$257 | Tier C-$219  | Tier D-$167\nLimited to 13 participants \nHitchcock’s Nature Play Afterschool Program is designed to let kids be kids. Together we will run\, jump\, climb\, invent\, imagine\, play and be free-range kids all while developing self-confidence and learning valuable social skills. In Winter Nature Play After School we will explore snowy wooded trails and fields\, make snow villages\, and sled down the HCE hill. Our instructors provide a safe setting for children to explore nature and encourage children to stretch their limits.
URL:https://www.hitchcockcenter.org/event/nature-play-afterschool-202/2023-03-16/
LOCATION:Hitchcock Center for the Environment\, 845 West Street\, Amherst\, MA\, 01002
CATEGORIES:Ages 5–8 or Grades K–3
END:VEVENT
BEGIN:VEVENT
DTSTART;TZID=America/New_York:20230321T100000
DTEND;TZID=America/New_York:20230321T140000
DTSTAMP:20260420T130236
CREATED:20221121T065944Z
LAST-MODIFIED:20221121T065944Z
UID:10003121-1679392800-1679407200@www.hitchcockcenter.org
SUMMARY:Homeschool I: The Science of Small Things
DESCRIPTION:HOMESCHOOL I: THE SCIENCE OF SMALL THINGS \nWith Emily Schuttenberg\nGrades 1-3\, Ages 6-8\nTuesdays 10:00am -2:00 pm\nMarch 7 – May 30\n(No program Mar 14\, Apr 11 for Discovery Days\, no class April 18 for April Vacation Week)\nTier A: $757 Tier B: $658 Tier C: $560 Tier D: $428\nLimited to 13 participants \nIn Homeschool I: the Science of Small Things\, we will investigate the tiny but mighty parts of the world that are often overlooked. Through exploration of insects\, seeds\, fungi\, chemical compounds and more\, we will discover that these small things have a big impact! We will approach learning with outdoor play\, hands-on activities\, journaling\, songs\, and more.
URL:https://www.hitchcockcenter.org/event/homeschool-i-the-science-of-small-things/2023-03-21/
LOCATION:Hitchcock Center for the Environment\, 845 West Street\, Amherst\, MA\, 01002
CATEGORIES:Ages 5–8 or Grades K–3
END:VEVENT
BEGIN:VEVENT
DTSTART;TZID=America/New_York:20230322T133000
DTEND;TZID=America/New_York:20230322T173000
DTSTAMP:20260420T130236
CREATED:20221130T204829Z
LAST-MODIFIED:20221130T204831Z
UID:10003235-1679491800-1679506200@www.hitchcockcenter.org
SUMMARY:Junior Nature Play Afterschool
DESCRIPTION:JUNIOR NATURE PLAY AFTERSCHOOL\nWith: Lauren Dausch\nAges 5-7 or Grades K-1\nWednesdays\, 3:30pm-5:30pm\nMarch 22 – June 7 (no program April 19)\nExtended Days on March 22\, April 5\, May 10\nFee per Child: Tier A-$415 | Tier B-$361 | Tier C-$307 | Tier D-$234\nLimited to 11 participants \nHitchcock’s Junior Nature Play Afterschool Program is designed to let kids be kids. Together we will run\, jump\, climb\, invent\, imagine\, play and be free-range kids all while developing self-confidence and learning valuable social skills. During Spring Junior Nature Play we will play in the mud and spring rains\, look for bugs\, and enjoy the warming outdoors. Our instructors provide a safe setting for children to explore nature and encourage children to stretch their limits.
URL:https://www.hitchcockcenter.org/event/junior-nature-play-afterschool-18-2/
CATEGORIES:Ages 5–8 or Grades K–3
END:VEVENT
BEGIN:VEVENT
DTSTART;TZID=America/New_York:20230322T133000
DTEND;TZID=America/New_York:20230322T173000
DTSTAMP:20260420T130236
CREATED:20221130T205509Z
LAST-MODIFIED:20221130T205509Z
UID:10003246-1679491800-1679506200@www.hitchcockcenter.org
SUMMARY:Nature Play Afterschool
DESCRIPTION:NATURE PLAY AFTERSCHOOL\nWith Jeff Mazur\nAges 6-9 or grades 1-3\nWednesdays\, 3:30pm-5:30pm\nMarch 22 – June 7 (no program April 19)\nExtended Days on March 22\, April 5\, May 10\nFee per Child: Tier A-$411 | Tier B-$357 | Tier C-$304 | Tier D-$232\nLimited to 13 participants \nHitchcock’s Nature Play Afterschool Program is designed to let kids be kids. Together we will run\, jump\, climb\, invent\, imagine\, play and be free-range kids all while developing self-confidence and learning valuable social skills. In spring Nature Play After School we will explore\, watch the trees bud\, celebrate the green and blooming springtime\, and play in the mud. Our instructors provide a safe setting for children to explore nature and encourage children to stretch their limits.
URL:https://www.hitchcockcenter.org/event/nature-play-afterschool-203-2/
LOCATION:Hitchcock Center for the Environment\, 845 West Street\, Amherst\, MA\, 01002
CATEGORIES:Ages 5–8 or Grades K–3
END:VEVENT
BEGIN:VEVENT
DTSTART;TZID=America/New_York:20230323T153000
DTEND;TZID=America/New_York:20230323T173000
DTSTAMP:20260420T130236
CREATED:20221121T074540Z
LAST-MODIFIED:20221121T074540Z
UID:10003268-1679585400-1679592600@www.hitchcockcenter.org
SUMMARY:Nature Play Afterschool
DESCRIPTION:NATURE PLAY AFTERSCHOOL\nWith: Emily Schuttenberg\nAges 6-9 or grades 1-3\nThursdays\, 3:30pm-5:30pm\nMarch 23 – June 8 (no program April 20)\nFee per Child: Tier A-$325 | Tier B-$282 | Tier C-$240 | Tier D-$183\nLimited to 13 participants \nHitchcock’s Nature Play Afterschool Program is designed to let kids be kids. Together we will run\, jump\, climb\, invent\, imagine\, play and be free-range kids all while developing self-confidence and learning valuable social skills. In spring Nature Play After School we will explore\, watch the trees bud\, celebrate the green and blooming springtime\, and play in the mud. Our instructors provide a safe setting for children to explore nature and encourage children to stretch their limits.
URL:https://www.hitchcockcenter.org/event/nature-play-afterschool-204/2023-03-23/
LOCATION:Hitchcock Center for the Environment\, 845 West Street\, Amherst\, MA\, 01002
CATEGORIES:Ages 5–8 or Grades K–3
END:VEVENT
BEGIN:VEVENT
DTSTART;TZID=America/New_York:20230328T100000
DTEND;TZID=America/New_York:20230328T140000
DTSTAMP:20260420T130236
CREATED:20221121T065944Z
LAST-MODIFIED:20221121T065944Z
UID:10003122-1679997600-1680012000@www.hitchcockcenter.org
SUMMARY:Homeschool I: The Science of Small Things
DESCRIPTION:HOMESCHOOL I: THE SCIENCE OF SMALL THINGS \nWith Emily Schuttenberg\nGrades 1-3\, Ages 6-8\nTuesdays 10:00am -2:00 pm\nMarch 7 – May 30\n(No program Mar 14\, Apr 11 for Discovery Days\, no class April 18 for April Vacation Week)\nTier A: $757 Tier B: $658 Tier C: $560 Tier D: $428\nLimited to 13 participants \nIn Homeschool I: the Science of Small Things\, we will investigate the tiny but mighty parts of the world that are often overlooked. Through exploration of insects\, seeds\, fungi\, chemical compounds and more\, we will discover that these small things have a big impact! We will approach learning with outdoor play\, hands-on activities\, journaling\, songs\, and more.
URL:https://www.hitchcockcenter.org/event/homeschool-i-the-science-of-small-things/2023-03-28/
LOCATION:Hitchcock Center for the Environment\, 845 West Street\, Amherst\, MA\, 01002
CATEGORIES:Ages 5–8 or Grades K–3
END:VEVENT
BEGIN:VEVENT
DTSTART;TZID=America/New_York:20230329T153000
DTEND;TZID=America/New_York:20230329T173000
DTSTAMP:20260420T130236
CREATED:20221121T073619Z
LAST-MODIFIED:20221121T073619Z
UID:10003236-1680103800-1680111000@www.hitchcockcenter.org
SUMMARY:Junior Nature Play Afterschool
DESCRIPTION:JUNIOR NATURE PLAY AFTERSCHOOL\nWith: Lauren Dausch\nAges 5-7 or Grades K-1\nWednesdays\, 3:30pm-5:30pm\nMarch 22 – June 7 (no program April 19)\nExtended Days on March 22\, April 5\, May 10\nFee per Child: Tier A-$415 | Tier B-$361 | Tier C-$307 | Tier D-$234\nLimited to 11 participants \nHitchcock’s Junior Nature Play Afterschool Program is designed to let kids be kids. Together we will run\, jump\, climb\, invent\, imagine\, play and be free-range kids all while developing self-confidence and learning valuable social skills. During Spring Junior Nature Play we will play in the mud and spring rains\, look for bugs\, and enjoy the warming outdoors. Our instructors provide a safe setting for children to explore nature and encourage children to stretch their limits.
URL:https://www.hitchcockcenter.org/event/junior-nature-play-afterschool-18/2023-03-29/
CATEGORIES:Ages 5–8 or Grades K–3
END:VEVENT
BEGIN:VEVENT
DTSTART;TZID=America/New_York:20230329T153000
DTEND;TZID=America/New_York:20230329T173000
DTSTAMP:20260420T130236
CREATED:20221121T073807Z
LAST-MODIFIED:20221121T073807Z
UID:10003247-1680103800-1680111000@www.hitchcockcenter.org
SUMMARY:Nature Play Afterschool
DESCRIPTION:NATURE PLAY AFTERSCHOOL\nWith Jeff Mazur\nAges 6-9 or grades 1-3\nWednesdays\, 3:30pm-5:30pm\nMarch 22 – June 7 (no program April 19)\nExtended Days on March 22\, April 5\, May 10\nFee per Child: Tier A-$411 | Tier B-$357 | Tier C-$304 | Tier D-$232\nLimited to 13 participants \nHitchcock’s Nature Play Afterschool Program is designed to let kids be kids. Together we will run\, jump\, climb\, invent\, imagine\, play and be free-range kids all while developing self-confidence and learning valuable social skills. In spring Nature Play After School we will explore\, watch the trees bud\, celebrate the green and blooming springtime\, and play in the mud. Our instructors provide a safe setting for children to explore nature and encourage children to stretch their limits.
URL:https://www.hitchcockcenter.org/event/nature-play-afterschool-203/2023-03-29/
LOCATION:Hitchcock Center for the Environment\, 845 West Street\, Amherst\, MA\, 01002
CATEGORIES:Ages 5–8 or Grades K–3
END:VEVENT
BEGIN:VEVENT
DTSTART;TZID=America/New_York:20230330T153000
DTEND;TZID=America/New_York:20230330T173000
DTSTAMP:20260420T130236
CREATED:20221121T074540Z
LAST-MODIFIED:20221121T074540Z
UID:10003269-1680190200-1680197400@www.hitchcockcenter.org
SUMMARY:Nature Play Afterschool
DESCRIPTION:NATURE PLAY AFTERSCHOOL\nWith: Emily Schuttenberg\nAges 6-9 or grades 1-3\nThursdays\, 3:30pm-5:30pm\nMarch 23 – June 8 (no program April 20)\nFee per Child: Tier A-$325 | Tier B-$282 | Tier C-$240 | Tier D-$183\nLimited to 13 participants \nHitchcock’s Nature Play Afterschool Program is designed to let kids be kids. Together we will run\, jump\, climb\, invent\, imagine\, play and be free-range kids all while developing self-confidence and learning valuable social skills. In spring Nature Play After School we will explore\, watch the trees bud\, celebrate the green and blooming springtime\, and play in the mud. Our instructors provide a safe setting for children to explore nature and encourage children to stretch their limits.
URL:https://www.hitchcockcenter.org/event/nature-play-afterschool-204/2023-03-30/
LOCATION:Hitchcock Center for the Environment\, 845 West Street\, Amherst\, MA\, 01002
CATEGORIES:Ages 5–8 or Grades K–3
END:VEVENT
END:VCALENDAR