BEGIN:VCALENDAR
VERSION:2.0
PRODID:-//Hitchcock Center for the Environment - ECPv6.15.18//NONSGML v1.0//EN
CALSCALE:GREGORIAN
METHOD:PUBLISH
X-ORIGINAL-URL:https://www.hitchcockcenter.org
X-WR-CALDESC:Events for Hitchcock Center for the Environment
REFRESH-INTERVAL;VALUE=DURATION:PT1H
X-Robots-Tag:noindex
X-PUBLISHED-TTL:PT1H
BEGIN:VTIMEZONE
TZID:America/New_York
BEGIN:DAYLIGHT
TZOFFSETFROM:-0500
TZOFFSETTO:-0400
TZNAME:EDT
DTSTART:20220313T070000
END:DAYLIGHT
BEGIN:STANDARD
TZOFFSETFROM:-0400
TZOFFSETTO:-0500
TZNAME:EST
DTSTART:20221106T060000
END:STANDARD
BEGIN:DAYLIGHT
TZOFFSETFROM:-0500
TZOFFSETTO:-0400
TZNAME:EDT
DTSTART:20230312T070000
END:DAYLIGHT
BEGIN:STANDARD
TZOFFSETFROM:-0400
TZOFFSETTO:-0500
TZNAME:EST
DTSTART:20231105T060000
END:STANDARD
BEGIN:DAYLIGHT
TZOFFSETFROM:-0500
TZOFFSETTO:-0400
TZNAME:EDT
DTSTART:20240310T070000
END:DAYLIGHT
BEGIN:STANDARD
TZOFFSETFROM:-0400
TZOFFSETTO:-0500
TZNAME:EST
DTSTART:20241103T060000
END:STANDARD
END:VTIMEZONE
BEGIN:VEVENT
DTSTART;TZID=America/New_York:20230502T100000
DTEND;TZID=America/New_York:20230502T140000
DTSTAMP:20260420T104534
CREATED:20221121T065944Z
LAST-MODIFIED:20221121T065944Z
UID:10003125-1683021600-1683036000@www.hitchcockcenter.org
SUMMARY:Homeschool I: The Science of Small Things
DESCRIPTION:HOMESCHOOL I: THE SCIENCE OF SMALL THINGS \nWith Emily Schuttenberg\nGrades 1-3\, Ages 6-8\nTuesdays 10:00am -2:00 pm\nMarch 7 – May 30\n(No program Mar 14\, Apr 11 for Discovery Days\, no class April 18 for April Vacation Week)\nTier A: $757 Tier B: $658 Tier C: $560 Tier D: $428\nLimited to 13 participants \nIn Homeschool I: the Science of Small Things\, we will investigate the tiny but mighty parts of the world that are often overlooked. Through exploration of insects\, seeds\, fungi\, chemical compounds and more\, we will discover that these small things have a big impact! We will approach learning with outdoor play\, hands-on activities\, journaling\, songs\, and more.
URL:https://www.hitchcockcenter.org/event/homeschool-i-the-science-of-small-things/2023-05-02/
LOCATION:Hitchcock Center for the Environment\, 845 West Street\, Amherst\, MA\, 01002
CATEGORIES:Ages 5–8 or Grades K–3
END:VEVENT
BEGIN:VEVENT
DTSTART;TZID=America/New_York:20230503T153000
DTEND;TZID=America/New_York:20230503T173000
DTSTAMP:20260420T104534
CREATED:20221121T073619Z
LAST-MODIFIED:20221121T073619Z
UID:10003240-1683127800-1683135000@www.hitchcockcenter.org
SUMMARY:Junior Nature Play Afterschool
DESCRIPTION:JUNIOR NATURE PLAY AFTERSCHOOL\nWith: Lauren Dausch\nAges 5-7 or Grades K-1\nWednesdays\, 3:30pm-5:30pm\nMarch 22 – June 7 (no program April 19)\nExtended Days on March 22\, April 5\, May 10\nFee per Child: Tier A-$415 | Tier B-$361 | Tier C-$307 | Tier D-$234\nLimited to 11 participants \nHitchcock’s Junior Nature Play Afterschool Program is designed to let kids be kids. Together we will run\, jump\, climb\, invent\, imagine\, play and be free-range kids all while developing self-confidence and learning valuable social skills. During Spring Junior Nature Play we will play in the mud and spring rains\, look for bugs\, and enjoy the warming outdoors. Our instructors provide a safe setting for children to explore nature and encourage children to stretch their limits.
URL:https://www.hitchcockcenter.org/event/junior-nature-play-afterschool-18/2023-05-03/
CATEGORIES:Ages 5–8 or Grades K–3
END:VEVENT
BEGIN:VEVENT
DTSTART;TZID=America/New_York:20230503T153000
DTEND;TZID=America/New_York:20230503T173000
DTSTAMP:20260420T104534
CREATED:20221121T073807Z
LAST-MODIFIED:20221121T073807Z
UID:10003251-1683127800-1683135000@www.hitchcockcenter.org
SUMMARY:Nature Play Afterschool
DESCRIPTION:NATURE PLAY AFTERSCHOOL\nWith Jeff Mazur\nAges 6-9 or grades 1-3\nWednesdays\, 3:30pm-5:30pm\nMarch 22 – June 7 (no program April 19)\nExtended Days on March 22\, April 5\, May 10\nFee per Child: Tier A-$411 | Tier B-$357 | Tier C-$304 | Tier D-$232\nLimited to 13 participants \nHitchcock’s Nature Play Afterschool Program is designed to let kids be kids. Together we will run\, jump\, climb\, invent\, imagine\, play and be free-range kids all while developing self-confidence and learning valuable social skills. In spring Nature Play After School we will explore\, watch the trees bud\, celebrate the green and blooming springtime\, and play in the mud. Our instructors provide a safe setting for children to explore nature and encourage children to stretch their limits.
URL:https://www.hitchcockcenter.org/event/nature-play-afterschool-203/2023-05-03/
LOCATION:Hitchcock Center for the Environment\, 845 West Street\, Amherst\, MA\, 01002
CATEGORIES:Ages 5–8 or Grades K–3
END:VEVENT
BEGIN:VEVENT
DTSTART;TZID=America/New_York:20230504T153000
DTEND;TZID=America/New_York:20230504T173000
DTSTAMP:20260420T104534
CREATED:20221121T074540Z
LAST-MODIFIED:20221121T074540Z
UID:10003273-1683214200-1683221400@www.hitchcockcenter.org
SUMMARY:Nature Play Afterschool
DESCRIPTION:NATURE PLAY AFTERSCHOOL\nWith: Emily Schuttenberg\nAges 6-9 or grades 1-3\nThursdays\, 3:30pm-5:30pm\nMarch 23 – June 8 (no program April 20)\nFee per Child: Tier A-$325 | Tier B-$282 | Tier C-$240 | Tier D-$183\nLimited to 13 participants \nHitchcock’s Nature Play Afterschool Program is designed to let kids be kids. Together we will run\, jump\, climb\, invent\, imagine\, play and be free-range kids all while developing self-confidence and learning valuable social skills. In spring Nature Play After School we will explore\, watch the trees bud\, celebrate the green and blooming springtime\, and play in the mud. Our instructors provide a safe setting for children to explore nature and encourage children to stretch their limits.
URL:https://www.hitchcockcenter.org/event/nature-play-afterschool-204/2023-05-04/
LOCATION:Hitchcock Center for the Environment\, 845 West Street\, Amherst\, MA\, 01002
CATEGORIES:Ages 5–8 or Grades K–3
END:VEVENT
BEGIN:VEVENT
DTSTART;TZID=America/New_York:20230509T100000
DTEND;TZID=America/New_York:20230509T140000
DTSTAMP:20260420T104534
CREATED:20221121T065944Z
LAST-MODIFIED:20221121T065944Z
UID:10003126-1683626400-1683640800@www.hitchcockcenter.org
SUMMARY:Homeschool I: The Science of Small Things
DESCRIPTION:HOMESCHOOL I: THE SCIENCE OF SMALL THINGS \nWith Emily Schuttenberg\nGrades 1-3\, Ages 6-8\nTuesdays 10:00am -2:00 pm\nMarch 7 – May 30\n(No program Mar 14\, Apr 11 for Discovery Days\, no class April 18 for April Vacation Week)\nTier A: $757 Tier B: $658 Tier C: $560 Tier D: $428\nLimited to 13 participants \nIn Homeschool I: the Science of Small Things\, we will investigate the tiny but mighty parts of the world that are often overlooked. Through exploration of insects\, seeds\, fungi\, chemical compounds and more\, we will discover that these small things have a big impact! We will approach learning with outdoor play\, hands-on activities\, journaling\, songs\, and more.
URL:https://www.hitchcockcenter.org/event/homeschool-i-the-science-of-small-things/2023-05-09/
LOCATION:Hitchcock Center for the Environment\, 845 West Street\, Amherst\, MA\, 01002
CATEGORIES:Ages 5–8 or Grades K–3
END:VEVENT
BEGIN:VEVENT
DTSTART;TZID=America/New_York:20230510T133000
DTEND;TZID=America/New_York:20230510T173000
DTSTAMP:20260420T104534
CREATED:20221130T205033Z
LAST-MODIFIED:20221130T205033Z
UID:10003241-1683725400-1683739800@www.hitchcockcenter.org
SUMMARY:Junior Nature Play Afterschool
DESCRIPTION:JUNIOR NATURE PLAY AFTERSCHOOL\nWith: Lauren Dausch\nAges 5-7 or Grades K-1\nWednesdays\, 3:30pm-5:30pm\nMarch 22 – June 7 (no program April 19)\nExtended Days on March 22\, April 5\, May 10\nFee per Child: Tier A-$415 | Tier B-$361 | Tier C-$307 | Tier D-$234\nLimited to 11 participants \nHitchcock’s Junior Nature Play Afterschool Program is designed to let kids be kids. Together we will run\, jump\, climb\, invent\, imagine\, play and be free-range kids all while developing self-confidence and learning valuable social skills. During Spring Junior Nature Play we will play in the mud and spring rains\, look for bugs\, and enjoy the warming outdoors. Our instructors provide a safe setting for children to explore nature and encourage children to stretch their limits.
URL:https://www.hitchcockcenter.org/event/junior-nature-play-afterschool-18-4/
CATEGORIES:Ages 5–8 or Grades K–3
END:VEVENT
BEGIN:VEVENT
DTSTART;TZID=America/New_York:20230510T133000
DTEND;TZID=America/New_York:20230510T173000
DTSTAMP:20260420T104534
CREATED:20221130T205707Z
LAST-MODIFIED:20221130T205707Z
UID:10003252-1683725400-1683739800@www.hitchcockcenter.org
SUMMARY:Nature Play Afterschool
DESCRIPTION:NATURE PLAY AFTERSCHOOL\nWith Jeff Mazur\nAges 6-9 or grades 1-3\nWednesdays\, 3:30pm-5:30pm\nMarch 22 – June 7 (no program April 19)\nExtended Days on March 22\, April 5\, May 10\nFee per Child: Tier A-$411 | Tier B-$357 | Tier C-$304 | Tier D-$232\nLimited to 13 participants \nHitchcock’s Nature Play Afterschool Program is designed to let kids be kids. Together we will run\, jump\, climb\, invent\, imagine\, play and be free-range kids all while developing self-confidence and learning valuable social skills. In spring Nature Play After School we will explore\, watch the trees bud\, celebrate the green and blooming springtime\, and play in the mud. Our instructors provide a safe setting for children to explore nature and encourage children to stretch their limits.
URL:https://www.hitchcockcenter.org/event/nature-play-afterschool-203-4/
LOCATION:Hitchcock Center for the Environment\, 845 West Street\, Amherst\, MA\, 01002
CATEGORIES:Ages 5–8 or Grades K–3
END:VEVENT
BEGIN:VEVENT
DTSTART;TZID=America/New_York:20230511T153000
DTEND;TZID=America/New_York:20230511T173000
DTSTAMP:20260420T104534
CREATED:20221121T074540Z
LAST-MODIFIED:20221121T074540Z
UID:10003274-1683819000-1683826200@www.hitchcockcenter.org
SUMMARY:Nature Play Afterschool
DESCRIPTION:NATURE PLAY AFTERSCHOOL\nWith: Emily Schuttenberg\nAges 6-9 or grades 1-3\nThursdays\, 3:30pm-5:30pm\nMarch 23 – June 8 (no program April 20)\nFee per Child: Tier A-$325 | Tier B-$282 | Tier C-$240 | Tier D-$183\nLimited to 13 participants \nHitchcock’s Nature Play Afterschool Program is designed to let kids be kids. Together we will run\, jump\, climb\, invent\, imagine\, play and be free-range kids all while developing self-confidence and learning valuable social skills. In spring Nature Play After School we will explore\, watch the trees bud\, celebrate the green and blooming springtime\, and play in the mud. Our instructors provide a safe setting for children to explore nature and encourage children to stretch their limits.
URL:https://www.hitchcockcenter.org/event/nature-play-afterschool-204/2023-05-11/
LOCATION:Hitchcock Center for the Environment\, 845 West Street\, Amherst\, MA\, 01002
CATEGORIES:Ages 5–8 or Grades K–3
END:VEVENT
BEGIN:VEVENT
DTSTART;TZID=America/New_York:20230516T100000
DTEND;TZID=America/New_York:20230516T140000
DTSTAMP:20260420T104534
CREATED:20221121T065944Z
LAST-MODIFIED:20221121T065944Z
UID:10003127-1684231200-1684245600@www.hitchcockcenter.org
SUMMARY:Homeschool I: The Science of Small Things
DESCRIPTION:HOMESCHOOL I: THE SCIENCE OF SMALL THINGS \nWith Emily Schuttenberg\nGrades 1-3\, Ages 6-8\nTuesdays 10:00am -2:00 pm\nMarch 7 – May 30\n(No program Mar 14\, Apr 11 for Discovery Days\, no class April 18 for April Vacation Week)\nTier A: $757 Tier B: $658 Tier C: $560 Tier D: $428\nLimited to 13 participants \nIn Homeschool I: the Science of Small Things\, we will investigate the tiny but mighty parts of the world that are often overlooked. Through exploration of insects\, seeds\, fungi\, chemical compounds and more\, we will discover that these small things have a big impact! We will approach learning with outdoor play\, hands-on activities\, journaling\, songs\, and more.
URL:https://www.hitchcockcenter.org/event/homeschool-i-the-science-of-small-things/2023-05-16/
LOCATION:Hitchcock Center for the Environment\, 845 West Street\, Amherst\, MA\, 01002
CATEGORIES:Ages 5–8 or Grades K–3
END:VEVENT
BEGIN:VEVENT
DTSTART;TZID=America/New_York:20230517T153000
DTEND;TZID=America/New_York:20230517T173000
DTSTAMP:20260420T104534
CREATED:20221121T073619Z
LAST-MODIFIED:20221121T073619Z
UID:10003242-1684337400-1684344600@www.hitchcockcenter.org
SUMMARY:Junior Nature Play Afterschool
DESCRIPTION:JUNIOR NATURE PLAY AFTERSCHOOL\nWith: Lauren Dausch\nAges 5-7 or Grades K-1\nWednesdays\, 3:30pm-5:30pm\nMarch 22 – June 7 (no program April 19)\nExtended Days on March 22\, April 5\, May 10\nFee per Child: Tier A-$415 | Tier B-$361 | Tier C-$307 | Tier D-$234\nLimited to 11 participants \nHitchcock’s Junior Nature Play Afterschool Program is designed to let kids be kids. Together we will run\, jump\, climb\, invent\, imagine\, play and be free-range kids all while developing self-confidence and learning valuable social skills. During Spring Junior Nature Play we will play in the mud and spring rains\, look for bugs\, and enjoy the warming outdoors. Our instructors provide a safe setting for children to explore nature and encourage children to stretch their limits.
URL:https://www.hitchcockcenter.org/event/junior-nature-play-afterschool-18/2023-05-17/
CATEGORIES:Ages 5–8 or Grades K–3
END:VEVENT
BEGIN:VEVENT
DTSTART;TZID=America/New_York:20230517T153000
DTEND;TZID=America/New_York:20230517T173000
DTSTAMP:20260420T104534
CREATED:20221121T073807Z
LAST-MODIFIED:20221121T073807Z
UID:10003253-1684337400-1684344600@www.hitchcockcenter.org
SUMMARY:Nature Play Afterschool
DESCRIPTION:NATURE PLAY AFTERSCHOOL\nWith Jeff Mazur\nAges 6-9 or grades 1-3\nWednesdays\, 3:30pm-5:30pm\nMarch 22 – June 7 (no program April 19)\nExtended Days on March 22\, April 5\, May 10\nFee per Child: Tier A-$411 | Tier B-$357 | Tier C-$304 | Tier D-$232\nLimited to 13 participants \nHitchcock’s Nature Play Afterschool Program is designed to let kids be kids. Together we will run\, jump\, climb\, invent\, imagine\, play and be free-range kids all while developing self-confidence and learning valuable social skills. In spring Nature Play After School we will explore\, watch the trees bud\, celebrate the green and blooming springtime\, and play in the mud. Our instructors provide a safe setting for children to explore nature and encourage children to stretch their limits.
URL:https://www.hitchcockcenter.org/event/nature-play-afterschool-203/2023-05-17/
LOCATION:Hitchcock Center for the Environment\, 845 West Street\, Amherst\, MA\, 01002
CATEGORIES:Ages 5–8 or Grades K–3
END:VEVENT
BEGIN:VEVENT
DTSTART;TZID=America/New_York:20230518T153000
DTEND;TZID=America/New_York:20230518T173000
DTSTAMP:20260420T104534
CREATED:20221121T074540Z
LAST-MODIFIED:20221121T074540Z
UID:10003275-1684423800-1684431000@www.hitchcockcenter.org
SUMMARY:Nature Play Afterschool
DESCRIPTION:NATURE PLAY AFTERSCHOOL\nWith: Emily Schuttenberg\nAges 6-9 or grades 1-3\nThursdays\, 3:30pm-5:30pm\nMarch 23 – June 8 (no program April 20)\nFee per Child: Tier A-$325 | Tier B-$282 | Tier C-$240 | Tier D-$183\nLimited to 13 participants \nHitchcock’s Nature Play Afterschool Program is designed to let kids be kids. Together we will run\, jump\, climb\, invent\, imagine\, play and be free-range kids all while developing self-confidence and learning valuable social skills. In spring Nature Play After School we will explore\, watch the trees bud\, celebrate the green and blooming springtime\, and play in the mud. Our instructors provide a safe setting for children to explore nature and encourage children to stretch their limits.
URL:https://www.hitchcockcenter.org/event/nature-play-afterschool-204/2023-05-18/
LOCATION:Hitchcock Center for the Environment\, 845 West Street\, Amherst\, MA\, 01002
CATEGORIES:Ages 5–8 or Grades K–3
END:VEVENT
BEGIN:VEVENT
DTSTART;TZID=America/New_York:20230523T100000
DTEND;TZID=America/New_York:20230523T140000
DTSTAMP:20260420T104534
CREATED:20221121T065944Z
LAST-MODIFIED:20221121T065944Z
UID:10003128-1684836000-1684850400@www.hitchcockcenter.org
SUMMARY:Homeschool I: The Science of Small Things
DESCRIPTION:HOMESCHOOL I: THE SCIENCE OF SMALL THINGS \nWith Emily Schuttenberg\nGrades 1-3\, Ages 6-8\nTuesdays 10:00am -2:00 pm\nMarch 7 – May 30\n(No program Mar 14\, Apr 11 for Discovery Days\, no class April 18 for April Vacation Week)\nTier A: $757 Tier B: $658 Tier C: $560 Tier D: $428\nLimited to 13 participants \nIn Homeschool I: the Science of Small Things\, we will investigate the tiny but mighty parts of the world that are often overlooked. Through exploration of insects\, seeds\, fungi\, chemical compounds and more\, we will discover that these small things have a big impact! We will approach learning with outdoor play\, hands-on activities\, journaling\, songs\, and more.
URL:https://www.hitchcockcenter.org/event/homeschool-i-the-science-of-small-things/2023-05-23/
LOCATION:Hitchcock Center for the Environment\, 845 West Street\, Amherst\, MA\, 01002
CATEGORIES:Ages 5–8 or Grades K–3
END:VEVENT
BEGIN:VEVENT
DTSTART;TZID=America/New_York:20230524T153000
DTEND;TZID=America/New_York:20230524T173000
DTSTAMP:20260420T104534
CREATED:20221121T073619Z
LAST-MODIFIED:20221121T073619Z
UID:10003243-1684942200-1684949400@www.hitchcockcenter.org
SUMMARY:Junior Nature Play Afterschool
DESCRIPTION:JUNIOR NATURE PLAY AFTERSCHOOL\nWith: Lauren Dausch\nAges 5-7 or Grades K-1\nWednesdays\, 3:30pm-5:30pm\nMarch 22 – June 7 (no program April 19)\nExtended Days on March 22\, April 5\, May 10\nFee per Child: Tier A-$415 | Tier B-$361 | Tier C-$307 | Tier D-$234\nLimited to 11 participants \nHitchcock’s Junior Nature Play Afterschool Program is designed to let kids be kids. Together we will run\, jump\, climb\, invent\, imagine\, play and be free-range kids all while developing self-confidence and learning valuable social skills. During Spring Junior Nature Play we will play in the mud and spring rains\, look for bugs\, and enjoy the warming outdoors. Our instructors provide a safe setting for children to explore nature and encourage children to stretch their limits.
URL:https://www.hitchcockcenter.org/event/junior-nature-play-afterschool-18/2023-05-24/
CATEGORIES:Ages 5–8 or Grades K–3
END:VEVENT
BEGIN:VEVENT
DTSTART;TZID=America/New_York:20230524T153000
DTEND;TZID=America/New_York:20230524T173000
DTSTAMP:20260420T104534
CREATED:20221121T073807Z
LAST-MODIFIED:20221121T073807Z
UID:10003254-1684942200-1684949400@www.hitchcockcenter.org
SUMMARY:Nature Play Afterschool
DESCRIPTION:NATURE PLAY AFTERSCHOOL\nWith Jeff Mazur\nAges 6-9 or grades 1-3\nWednesdays\, 3:30pm-5:30pm\nMarch 22 – June 7 (no program April 19)\nExtended Days on March 22\, April 5\, May 10\nFee per Child: Tier A-$411 | Tier B-$357 | Tier C-$304 | Tier D-$232\nLimited to 13 participants \nHitchcock’s Nature Play Afterschool Program is designed to let kids be kids. Together we will run\, jump\, climb\, invent\, imagine\, play and be free-range kids all while developing self-confidence and learning valuable social skills. In spring Nature Play After School we will explore\, watch the trees bud\, celebrate the green and blooming springtime\, and play in the mud. Our instructors provide a safe setting for children to explore nature and encourage children to stretch their limits.
URL:https://www.hitchcockcenter.org/event/nature-play-afterschool-203/2023-05-24/
LOCATION:Hitchcock Center for the Environment\, 845 West Street\, Amherst\, MA\, 01002
CATEGORIES:Ages 5–8 or Grades K–3
END:VEVENT
BEGIN:VEVENT
DTSTART;TZID=America/New_York:20230525T153000
DTEND;TZID=America/New_York:20230525T173000
DTSTAMP:20260420T104534
CREATED:20221121T074540Z
LAST-MODIFIED:20221121T074540Z
UID:10003276-1685028600-1685035800@www.hitchcockcenter.org
SUMMARY:Nature Play Afterschool
DESCRIPTION:NATURE PLAY AFTERSCHOOL\nWith: Emily Schuttenberg\nAges 6-9 or grades 1-3\nThursdays\, 3:30pm-5:30pm\nMarch 23 – June 8 (no program April 20)\nFee per Child: Tier A-$325 | Tier B-$282 | Tier C-$240 | Tier D-$183\nLimited to 13 participants \nHitchcock’s Nature Play Afterschool Program is designed to let kids be kids. Together we will run\, jump\, climb\, invent\, imagine\, play and be free-range kids all while developing self-confidence and learning valuable social skills. In spring Nature Play After School we will explore\, watch the trees bud\, celebrate the green and blooming springtime\, and play in the mud. Our instructors provide a safe setting for children to explore nature and encourage children to stretch their limits.
URL:https://www.hitchcockcenter.org/event/nature-play-afterschool-204/2023-05-25/
LOCATION:Hitchcock Center for the Environment\, 845 West Street\, Amherst\, MA\, 01002
CATEGORIES:Ages 5–8 or Grades K–3
END:VEVENT
BEGIN:VEVENT
DTSTART;TZID=America/New_York:20230530T100000
DTEND;TZID=America/New_York:20230530T140000
DTSTAMP:20260420T104534
CREATED:20221121T065944Z
LAST-MODIFIED:20221121T065944Z
UID:10003129-1685440800-1685455200@www.hitchcockcenter.org
SUMMARY:Homeschool I: The Science of Small Things
DESCRIPTION:HOMESCHOOL I: THE SCIENCE OF SMALL THINGS \nWith Emily Schuttenberg\nGrades 1-3\, Ages 6-8\nTuesdays 10:00am -2:00 pm\nMarch 7 – May 30\n(No program Mar 14\, Apr 11 for Discovery Days\, no class April 18 for April Vacation Week)\nTier A: $757 Tier B: $658 Tier C: $560 Tier D: $428\nLimited to 13 participants \nIn Homeschool I: the Science of Small Things\, we will investigate the tiny but mighty parts of the world that are often overlooked. Through exploration of insects\, seeds\, fungi\, chemical compounds and more\, we will discover that these small things have a big impact! We will approach learning with outdoor play\, hands-on activities\, journaling\, songs\, and more.
URL:https://www.hitchcockcenter.org/event/homeschool-i-the-science-of-small-things/2023-05-30/
LOCATION:Hitchcock Center for the Environment\, 845 West Street\, Amherst\, MA\, 01002
CATEGORIES:Ages 5–8 or Grades K–3
END:VEVENT
BEGIN:VEVENT
DTSTART;TZID=America/New_York:20230531T153000
DTEND;TZID=America/New_York:20230531T173000
DTSTAMP:20260420T104534
CREATED:20221121T073619Z
LAST-MODIFIED:20221121T073619Z
UID:10003244-1685547000-1685554200@www.hitchcockcenter.org
SUMMARY:Junior Nature Play Afterschool
DESCRIPTION:JUNIOR NATURE PLAY AFTERSCHOOL\nWith: Lauren Dausch\nAges 5-7 or Grades K-1\nWednesdays\, 3:30pm-5:30pm\nMarch 22 – June 7 (no program April 19)\nExtended Days on March 22\, April 5\, May 10\nFee per Child: Tier A-$415 | Tier B-$361 | Tier C-$307 | Tier D-$234\nLimited to 11 participants \nHitchcock’s Junior Nature Play Afterschool Program is designed to let kids be kids. Together we will run\, jump\, climb\, invent\, imagine\, play and be free-range kids all while developing self-confidence and learning valuable social skills. During Spring Junior Nature Play we will play in the mud and spring rains\, look for bugs\, and enjoy the warming outdoors. Our instructors provide a safe setting for children to explore nature and encourage children to stretch their limits.
URL:https://www.hitchcockcenter.org/event/junior-nature-play-afterschool-18/2023-05-31/
CATEGORIES:Ages 5–8 or Grades K–3
END:VEVENT
BEGIN:VEVENT
DTSTART;TZID=America/New_York:20230531T153000
DTEND;TZID=America/New_York:20230531T173000
DTSTAMP:20260420T104534
CREATED:20221121T073807Z
LAST-MODIFIED:20221121T073807Z
UID:10003255-1685547000-1685554200@www.hitchcockcenter.org
SUMMARY:Nature Play Afterschool
DESCRIPTION:NATURE PLAY AFTERSCHOOL\nWith Jeff Mazur\nAges 6-9 or grades 1-3\nWednesdays\, 3:30pm-5:30pm\nMarch 22 – June 7 (no program April 19)\nExtended Days on March 22\, April 5\, May 10\nFee per Child: Tier A-$411 | Tier B-$357 | Tier C-$304 | Tier D-$232\nLimited to 13 participants \nHitchcock’s Nature Play Afterschool Program is designed to let kids be kids. Together we will run\, jump\, climb\, invent\, imagine\, play and be free-range kids all while developing self-confidence and learning valuable social skills. In spring Nature Play After School we will explore\, watch the trees bud\, celebrate the green and blooming springtime\, and play in the mud. Our instructors provide a safe setting for children to explore nature and encourage children to stretch their limits.
URL:https://www.hitchcockcenter.org/event/nature-play-afterschool-203/2023-05-31/
LOCATION:Hitchcock Center for the Environment\, 845 West Street\, Amherst\, MA\, 01002
CATEGORIES:Ages 5–8 or Grades K–3
END:VEVENT
END:VCALENDAR