BEGIN:VCALENDAR
VERSION:2.0
PRODID:-//Hitchcock Center for the Environment - ECPv6.15.18//NONSGML v1.0//EN
CALSCALE:GREGORIAN
METHOD:PUBLISH
X-ORIGINAL-URL:https://www.hitchcockcenter.org
X-WR-CALDESC:Events for Hitchcock Center for the Environment
REFRESH-INTERVAL;VALUE=DURATION:PT1H
X-Robots-Tag:noindex
X-PUBLISHED-TTL:PT1H
BEGIN:VTIMEZONE
TZID:America/New_York
BEGIN:DAYLIGHT
TZOFFSETFROM:-0500
TZOFFSETTO:-0400
TZNAME:EDT
DTSTART:20220313T070000
END:DAYLIGHT
BEGIN:STANDARD
TZOFFSETFROM:-0400
TZOFFSETTO:-0500
TZNAME:EST
DTSTART:20221106T060000
END:STANDARD
BEGIN:DAYLIGHT
TZOFFSETFROM:-0500
TZOFFSETTO:-0400
TZNAME:EDT
DTSTART:20230312T070000
END:DAYLIGHT
BEGIN:STANDARD
TZOFFSETFROM:-0400
TZOFFSETTO:-0500
TZNAME:EST
DTSTART:20231105T060000
END:STANDARD
BEGIN:DAYLIGHT
TZOFFSETFROM:-0500
TZOFFSETTO:-0400
TZNAME:EDT
DTSTART:20240310T070000
END:DAYLIGHT
BEGIN:STANDARD
TZOFFSETFROM:-0400
TZOFFSETTO:-0500
TZNAME:EST
DTSTART:20241103T060000
END:STANDARD
END:VTIMEZONE
BEGIN:VEVENT
DTSTART;TZID=America/New_York:20230601T153000
DTEND;TZID=America/New_York:20230601T173000
DTSTAMP:20260420T094315
CREATED:20221121T074540Z
LAST-MODIFIED:20221121T074540Z
UID:10003277-1685633400-1685640600@www.hitchcockcenter.org
SUMMARY:Nature Play Afterschool
DESCRIPTION:NATURE PLAY AFTERSCHOOL\nWith: Emily Schuttenberg\nAges 6-9 or grades 1-3\nThursdays\, 3:30pm-5:30pm\nMarch 23 – June 8 (no program April 20)\nFee per Child: Tier A-$325 | Tier B-$282 | Tier C-$240 | Tier D-$183\nLimited to 13 participants \nHitchcock’s Nature Play Afterschool Program is designed to let kids be kids. Together we will run\, jump\, climb\, invent\, imagine\, play and be free-range kids all while developing self-confidence and learning valuable social skills. In spring Nature Play After School we will explore\, watch the trees bud\, celebrate the green and blooming springtime\, and play in the mud. Our instructors provide a safe setting for children to explore nature and encourage children to stretch their limits.
URL:https://www.hitchcockcenter.org/event/nature-play-afterschool-204/2023-06-01/
LOCATION:Hitchcock Center for the Environment\, 845 West Street\, Amherst\, MA\, 01002
CATEGORIES:Ages 5–8 or Grades K–3
END:VEVENT
BEGIN:VEVENT
DTSTART;TZID=America/New_York:20230607T153000
DTEND;TZID=America/New_York:20230607T173000
DTSTAMP:20260420T094315
CREATED:20221121T073619Z
LAST-MODIFIED:20221121T073619Z
UID:10003245-1686151800-1686159000@www.hitchcockcenter.org
SUMMARY:Junior Nature Play Afterschool
DESCRIPTION:JUNIOR NATURE PLAY AFTERSCHOOL\nWith: Lauren Dausch\nAges 5-7 or Grades K-1\nWednesdays\, 3:30pm-5:30pm\nMarch 22 – June 7 (no program April 19)\nExtended Days on March 22\, April 5\, May 10\nFee per Child: Tier A-$415 | Tier B-$361 | Tier C-$307 | Tier D-$234\nLimited to 11 participants \nHitchcock’s Junior Nature Play Afterschool Program is designed to let kids be kids. Together we will run\, jump\, climb\, invent\, imagine\, play and be free-range kids all while developing self-confidence and learning valuable social skills. During Spring Junior Nature Play we will play in the mud and spring rains\, look for bugs\, and enjoy the warming outdoors. Our instructors provide a safe setting for children to explore nature and encourage children to stretch their limits.
URL:https://www.hitchcockcenter.org/event/junior-nature-play-afterschool-18/2023-06-07/
CATEGORIES:Ages 5–8 or Grades K–3
END:VEVENT
BEGIN:VEVENT
DTSTART;TZID=America/New_York:20230607T153000
DTEND;TZID=America/New_York:20230607T173000
DTSTAMP:20260420T094315
CREATED:20221121T073807Z
LAST-MODIFIED:20221121T073807Z
UID:10003256-1686151800-1686159000@www.hitchcockcenter.org
SUMMARY:Nature Play Afterschool
DESCRIPTION:NATURE PLAY AFTERSCHOOL\nWith Jeff Mazur\nAges 6-9 or grades 1-3\nWednesdays\, 3:30pm-5:30pm\nMarch 22 – June 7 (no program April 19)\nExtended Days on March 22\, April 5\, May 10\nFee per Child: Tier A-$411 | Tier B-$357 | Tier C-$304 | Tier D-$232\nLimited to 13 participants \nHitchcock’s Nature Play Afterschool Program is designed to let kids be kids. Together we will run\, jump\, climb\, invent\, imagine\, play and be free-range kids all while developing self-confidence and learning valuable social skills. In spring Nature Play After School we will explore\, watch the trees bud\, celebrate the green and blooming springtime\, and play in the mud. Our instructors provide a safe setting for children to explore nature and encourage children to stretch their limits.
URL:https://www.hitchcockcenter.org/event/nature-play-afterschool-203/2023-06-07/
LOCATION:Hitchcock Center for the Environment\, 845 West Street\, Amherst\, MA\, 01002
CATEGORIES:Ages 5–8 or Grades K–3
END:VEVENT
BEGIN:VEVENT
DTSTART;TZID=America/New_York:20230608T153000
DTEND;TZID=America/New_York:20230608T173000
DTSTAMP:20260420T094315
CREATED:20221121T074540Z
LAST-MODIFIED:20221121T074540Z
UID:10003278-1686238200-1686245400@www.hitchcockcenter.org
SUMMARY:Nature Play Afterschool
DESCRIPTION:NATURE PLAY AFTERSCHOOL\nWith: Emily Schuttenberg\nAges 6-9 or grades 1-3\nThursdays\, 3:30pm-5:30pm\nMarch 23 – June 8 (no program April 20)\nFee per Child: Tier A-$325 | Tier B-$282 | Tier C-$240 | Tier D-$183\nLimited to 13 participants \nHitchcock’s Nature Play Afterschool Program is designed to let kids be kids. Together we will run\, jump\, climb\, invent\, imagine\, play and be free-range kids all while developing self-confidence and learning valuable social skills. In spring Nature Play After School we will explore\, watch the trees bud\, celebrate the green and blooming springtime\, and play in the mud. Our instructors provide a safe setting for children to explore nature and encourage children to stretch their limits.
URL:https://www.hitchcockcenter.org/event/nature-play-afterschool-204/2023-06-08/
LOCATION:Hitchcock Center for the Environment\, 845 West Street\, Amherst\, MA\, 01002
CATEGORIES:Ages 5–8 or Grades K–3
END:VEVENT
BEGIN:VEVENT
DTSTART;TZID=America/New_York:20230626T084500
DTEND;TZID=America/New_York:20230626T130000
DTSTAMP:20260420T094315
CREATED:20230131T165615Z
LAST-MODIFIED:20230131T165615Z
UID:10003358-1687769100-1687784400@www.hitchcockcenter.org
SUMMARY:Chickadee Camp
DESCRIPTION:Chickadee Camp\nAge 5 (must be entering Kindergarten in fall 2023) \nMondays-Fridays\, 8:45am-1pm\nSession 1: June 26 – June 30 (one week)\nSession 2: July 3 – 14 (two weeks\nSession 3: July 17 – 21 (one week)\nSession 4: July 24 – August 4 (two weeks)\nSession 5: August 7 – August 11 (one week) \nFees for 1 week: Tier A $364; Tier B $303; Tier C $258; Tier D $197\nFees for 2 week: Tier A $727; Tier B $606; Tier C $515; Tier D $394 \nChickadee Camp is back in summer 2023! This program\, designed for rising Kindergartners\, is a great first outdoor day camp experience for young ones. Nurturing counselors will facilitate safe and curious exploration of the Discovery Yard and Hitchcock trails while sharing enthusiasm and joyful nature connection. Each day includes morning circle\, snack time\, song\, story\, lunch time\, games and lots of discovery! The goal of Chickadee camp is for rising Kindergartners to use all their senses to explore nature and feel comfortable and safe learning and playing outdoors. Space is limited.  \nChildren must be five years old and entering Kindergarten in fall 2023 to be eligible to participate. This camp runs from 8:45am to 1:00 pm.
URL:https://www.hitchcockcenter.org/event/chickadee-camp-35/2023-06-26/
LOCATION:Hitchcock Center for the Environment\, 845 West Street\, Amherst\, MA\, 01002
CATEGORIES:Ages 5–8 or Grades K–3
END:VEVENT
BEGIN:VEVENT
DTSTART;TZID=America/New_York:20230627T084500
DTEND;TZID=America/New_York:20230627T130000
DTSTAMP:20260420T094315
CREATED:20230131T165615Z
LAST-MODIFIED:20230131T165615Z
UID:10003359-1687855500-1687870800@www.hitchcockcenter.org
SUMMARY:Chickadee Camp
DESCRIPTION:Chickadee Camp\nAge 5 (must be entering Kindergarten in fall 2023) \nMondays-Fridays\, 8:45am-1pm\nSession 1: June 26 – June 30 (one week)\nSession 2: July 3 – 14 (two weeks\nSession 3: July 17 – 21 (one week)\nSession 4: July 24 – August 4 (two weeks)\nSession 5: August 7 – August 11 (one week) \nFees for 1 week: Tier A $364; Tier B $303; Tier C $258; Tier D $197\nFees for 2 week: Tier A $727; Tier B $606; Tier C $515; Tier D $394 \nChickadee Camp is back in summer 2023! This program\, designed for rising Kindergartners\, is a great first outdoor day camp experience for young ones. Nurturing counselors will facilitate safe and curious exploration of the Discovery Yard and Hitchcock trails while sharing enthusiasm and joyful nature connection. Each day includes morning circle\, snack time\, song\, story\, lunch time\, games and lots of discovery! The goal of Chickadee camp is for rising Kindergartners to use all their senses to explore nature and feel comfortable and safe learning and playing outdoors. Space is limited.  \nChildren must be five years old and entering Kindergarten in fall 2023 to be eligible to participate. This camp runs from 8:45am to 1:00 pm.
URL:https://www.hitchcockcenter.org/event/chickadee-camp-35/2023-06-27/
LOCATION:Hitchcock Center for the Environment\, 845 West Street\, Amherst\, MA\, 01002
CATEGORIES:Ages 5–8 or Grades K–3
END:VEVENT
BEGIN:VEVENT
DTSTART;TZID=America/New_York:20230628T084500
DTEND;TZID=America/New_York:20230628T130000
DTSTAMP:20260420T094315
CREATED:20230131T165615Z
LAST-MODIFIED:20230131T165615Z
UID:10003360-1687941900-1687957200@www.hitchcockcenter.org
SUMMARY:Chickadee Camp
DESCRIPTION:Chickadee Camp\nAge 5 (must be entering Kindergarten in fall 2023) \nMondays-Fridays\, 8:45am-1pm\nSession 1: June 26 – June 30 (one week)\nSession 2: July 3 – 14 (two weeks\nSession 3: July 17 – 21 (one week)\nSession 4: July 24 – August 4 (two weeks)\nSession 5: August 7 – August 11 (one week) \nFees for 1 week: Tier A $364; Tier B $303; Tier C $258; Tier D $197\nFees for 2 week: Tier A $727; Tier B $606; Tier C $515; Tier D $394 \nChickadee Camp is back in summer 2023! This program\, designed for rising Kindergartners\, is a great first outdoor day camp experience for young ones. Nurturing counselors will facilitate safe and curious exploration of the Discovery Yard and Hitchcock trails while sharing enthusiasm and joyful nature connection. Each day includes morning circle\, snack time\, song\, story\, lunch time\, games and lots of discovery! The goal of Chickadee camp is for rising Kindergartners to use all their senses to explore nature and feel comfortable and safe learning and playing outdoors. Space is limited.  \nChildren must be five years old and entering Kindergarten in fall 2023 to be eligible to participate. This camp runs from 8:45am to 1:00 pm.
URL:https://www.hitchcockcenter.org/event/chickadee-camp-35/2023-06-28/
LOCATION:Hitchcock Center for the Environment\, 845 West Street\, Amherst\, MA\, 01002
CATEGORIES:Ages 5–8 or Grades K–3
END:VEVENT
BEGIN:VEVENT
DTSTART;TZID=America/New_York:20230629T084500
DTEND;TZID=America/New_York:20230629T130000
DTSTAMP:20260420T094315
CREATED:20230131T165615Z
LAST-MODIFIED:20230131T165615Z
UID:10003361-1688028300-1688043600@www.hitchcockcenter.org
SUMMARY:Chickadee Camp
DESCRIPTION:Chickadee Camp\nAge 5 (must be entering Kindergarten in fall 2023) \nMondays-Fridays\, 8:45am-1pm\nSession 1: June 26 – June 30 (one week)\nSession 2: July 3 – 14 (two weeks\nSession 3: July 17 – 21 (one week)\nSession 4: July 24 – August 4 (two weeks)\nSession 5: August 7 – August 11 (one week) \nFees for 1 week: Tier A $364; Tier B $303; Tier C $258; Tier D $197\nFees for 2 week: Tier A $727; Tier B $606; Tier C $515; Tier D $394 \nChickadee Camp is back in summer 2023! This program\, designed for rising Kindergartners\, is a great first outdoor day camp experience for young ones. Nurturing counselors will facilitate safe and curious exploration of the Discovery Yard and Hitchcock trails while sharing enthusiasm and joyful nature connection. Each day includes morning circle\, snack time\, song\, story\, lunch time\, games and lots of discovery! The goal of Chickadee camp is for rising Kindergartners to use all their senses to explore nature and feel comfortable and safe learning and playing outdoors. Space is limited.  \nChildren must be five years old and entering Kindergarten in fall 2023 to be eligible to participate. This camp runs from 8:45am to 1:00 pm.
URL:https://www.hitchcockcenter.org/event/chickadee-camp-35/2023-06-29/
LOCATION:Hitchcock Center for the Environment\, 845 West Street\, Amherst\, MA\, 01002
CATEGORIES:Ages 5–8 or Grades K–3
END:VEVENT
BEGIN:VEVENT
DTSTART;TZID=America/New_York:20230630T084500
DTEND;TZID=America/New_York:20230630T130000
DTSTAMP:20260420T094315
CREATED:20230131T165615Z
LAST-MODIFIED:20230131T165615Z
UID:10003362-1688114700-1688130000@www.hitchcockcenter.org
SUMMARY:Chickadee Camp
DESCRIPTION:Chickadee Camp\nAge 5 (must be entering Kindergarten in fall 2023) \nMondays-Fridays\, 8:45am-1pm\nSession 1: June 26 – June 30 (one week)\nSession 2: July 3 – 14 (two weeks\nSession 3: July 17 – 21 (one week)\nSession 4: July 24 – August 4 (two weeks)\nSession 5: August 7 – August 11 (one week) \nFees for 1 week: Tier A $364; Tier B $303; Tier C $258; Tier D $197\nFees for 2 week: Tier A $727; Tier B $606; Tier C $515; Tier D $394 \nChickadee Camp is back in summer 2023! This program\, designed for rising Kindergartners\, is a great first outdoor day camp experience for young ones. Nurturing counselors will facilitate safe and curious exploration of the Discovery Yard and Hitchcock trails while sharing enthusiasm and joyful nature connection. Each day includes morning circle\, snack time\, song\, story\, lunch time\, games and lots of discovery! The goal of Chickadee camp is for rising Kindergartners to use all their senses to explore nature and feel comfortable and safe learning and playing outdoors. Space is limited.  \nChildren must be five years old and entering Kindergarten in fall 2023 to be eligible to participate. This camp runs from 8:45am to 1:00 pm.
URL:https://www.hitchcockcenter.org/event/chickadee-camp-35/2023-06-30/
LOCATION:Hitchcock Center for the Environment\, 845 West Street\, Amherst\, MA\, 01002
CATEGORIES:Ages 5–8 or Grades K–3
END:VEVENT
END:VCALENDAR