BEGIN:VCALENDAR
VERSION:2.0
PRODID:-//Hitchcock Center for the Environment - ECPv6.15.18//NONSGML v1.0//EN
CALSCALE:GREGORIAN
METHOD:PUBLISH
X-WR-CALNAME:Hitchcock Center for the Environment
X-ORIGINAL-URL:https://www.hitchcockcenter.org
X-WR-CALDESC:Events for Hitchcock Center for the Environment
REFRESH-INTERVAL;VALUE=DURATION:PT1H
X-Robots-Tag:noindex
X-PUBLISHED-TTL:PT1H
BEGIN:VTIMEZONE
TZID:America/New_York
BEGIN:DAYLIGHT
TZOFFSETFROM:-0500
TZOFFSETTO:-0400
TZNAME:EDT
DTSTART:20190310T070000
END:DAYLIGHT
BEGIN:STANDARD
TZOFFSETFROM:-0400
TZOFFSETTO:-0500
TZNAME:EST
DTSTART:20191103T060000
END:STANDARD
BEGIN:DAYLIGHT
TZOFFSETFROM:-0500
TZOFFSETTO:-0400
TZNAME:EDT
DTSTART:20200308T070000
END:DAYLIGHT
BEGIN:STANDARD
TZOFFSETFROM:-0400
TZOFFSETTO:-0500
TZNAME:EST
DTSTART:20201101T060000
END:STANDARD
BEGIN:DAYLIGHT
TZOFFSETFROM:-0500
TZOFFSETTO:-0400
TZNAME:EDT
DTSTART:20210314T070000
END:DAYLIGHT
BEGIN:STANDARD
TZOFFSETFROM:-0400
TZOFFSETTO:-0500
TZNAME:EST
DTSTART:20211107T060000
END:STANDARD
END:VTIMEZONE
BEGIN:VEVENT
DTSTART;TZID=America/New_York:20201103T093000
DTEND;TZID=America/New_York:20201103T123000
DTSTAMP:20260424T041503
CREATED:20200822T212325Z
LAST-MODIFIED:20200827T160902Z
UID:10001795-1604395800-1604406600@www.hitchcockcenter.org
SUMMARY:9:30am-12:30pm  The Ology of Ologists Homeschool Adventure Tuesday Series
DESCRIPTION:Join us in this fall program series as we learn the jobs that scientists do. We will focus on a different “ology” each week — from archeology to zoology we will explore different realms of science. This will be an all-outdoor program\, and will include a morning circle\, an activity focused on the ology of the day\, followed by a snack\, nature exploration and games. \nwith Jeff Mazur\nAges 9–11 or Grades 4–6\nTuesdays\, 9:30am–12:30pm\nSeptember 15–November 17 \nFee per Child: Tier A-$554  | Tier B-$443  | Tier C-$332  | Tier D-$166\nLimited to 10 participants
URL:https://www.hitchcockcenter.org/event/the-ology-of-ologists-homeschool-adventure-tuesday-series-8/
CATEGORIES:Ages 9–11 or Grades 4–6
END:VEVENT
BEGIN:VEVENT
DTSTART;TZID=America/New_York:20201104T153000
DTEND;TZID=America/New_York:20201104T173000
DTSTAMP:20260424T041503
CREATED:20201007T164356Z
LAST-MODIFIED:20201007T164356Z
UID:10001948-1604503800-1604511000@www.hitchcockcenter.org
SUMMARY:3:30-5:30pm Games in Nature Afterschool Wednesday Series (In-person)
DESCRIPTION:Play is an essential part of childhood\, and playing games can cultivate social-emotional skills that keep us connected. Games in Nature After School will use a combination of structured games and free nature play to build interpersonal skills and to just have fun in an increasingly stressful world. Each week the group will spend time together beginning with games and move into nature play and free game building. Structured games will focus on confidence building\, leadership\, communication\, laughing. Free nature play will give individuals time to observe\, experiment\, and play\, using the inspiration of the natural world. It will also be an opportunity for the co-creation of new simple games (think racing sticks down a river) and an opportunity for kids to practice rule negotiation and boundary set up. This program will provide a space to continue important social-emotional learning during a time of social distancing. \nwith Aemelia Thompson\nAges 9–11 or Grades 4–6\nWednesdays\, 3:30-5:30pm\nSeptember 23–December 16 \nFee per Child: Tier A-$254  | Tier B-$203  | Tier C-$152  | Tier D-$76\nLimited to 12 participants
URL:https://www.hitchcockcenter.org/event/330-530pm-games-in-nature-afterschool-wednesday-series-in-person-7/
CATEGORIES:Ages 9–11 or Grades 4–6
END:VEVENT
BEGIN:VEVENT
DTSTART;TZID=America/New_York:20201105T093000
DTEND;TZID=America/New_York:20201105T123000
DTSTAMP:20260424T041503
CREATED:20200822T213209Z
LAST-MODIFIED:20200827T160845Z
UID:10001805-1604568600-1604579400@www.hitchcockcenter.org
SUMMARY:9:30am-12:30pm  The Ology of Ologists Homeschool Adventure Thursday Series
DESCRIPTION:Join us in this fall program series as we learn the jobs that scientists do. We will focus on a different “ology” each week — from archeology to zoology we will explore different realms of science. This will be an all-outdoor program\, and will include a morning circle\, an activity focused on the ology of the day\, followed by a snack\, nature exploration and games. \nwith Jeff Mazur\nAges 9–11 or Grades 4–6\nThursdays\, 9:30am–12:30pm\nSeptember 17–November 19\nFee per Child: Tier A-$554  | Tier B-$443  | Tier C-$332  | Tier D-$166\nLimited to 10 participants
URL:https://www.hitchcockcenter.org/event/the-ology-of-ologists-homeschool-adventure-thursday-series-8/
CATEGORIES:Ages 9–11 or Grades 4–6
END:VEVENT
BEGIN:VEVENT
DTSTART;TZID=America/New_York:20201110T093000
DTEND;TZID=America/New_York:20201110T123000
DTSTAMP:20260424T041503
CREATED:20200822T212405Z
LAST-MODIFIED:20200827T150723Z
UID:10001796-1605000600-1605011400@www.hitchcockcenter.org
SUMMARY:The 9:30am-12:30pm  Ology of Ologists Homeschool Adventure Tuesday Series
DESCRIPTION:Join us in this fall program series as we learn the jobs that scientists do. We will focus on a different “ology” each week — from archeology to zoology we will explore different realms of science. This will be an all-outdoor program\, and will include a morning circle\, an activity focused on the ology of the day\, followed by a snack\, nature exploration and games. \nwith Jeff Mazur\nAges 9–11 or Grades 4–6\nTuesdays\, 9:30am–12:30pm\nSeptember 15–November 17 \nFee per Child: Tier A-$554  | Tier B-$443  | Tier C-$332  | Tier D-$166\nLimited to 10 participants
URL:https://www.hitchcockcenter.org/event/the-ology-of-ologists-homeschool-adventure-tuesday-series-9/
CATEGORIES:Ages 9–11 or Grades 4–6
END:VEVENT
BEGIN:VEVENT
DTSTART;TZID=America/New_York:20201110T153000
DTEND;TZID=America/New_York:20201110T173000
DTSTAMP:20260424T041503
CREATED:20200822T132746Z
LAST-MODIFIED:20200827T150908Z
UID:10001758-1605022200-1605029400@www.hitchcockcenter.org
SUMMARY:3:30-5:30pm  Games in Nature Afterschool Series
DESCRIPTION:Play is an essential part of childhood\, and playing games can cultivate social-emotional skills that keep us connected. Games in Nature After School will use a combination of structured games and free nature play to build interpersonal skills and to just have fun in an increasingly stressful world. Each week the group will spend time together beginning with games and move into nature play and free game building. Structured games will focus on confidence building\, leadership\, communication\, laughing. Free nature play will give individuals time to observe\, experiment\, and play\, using the inspiration of the natural world. It will also be an opportunity for the co-creation of new simple games (think racing sticks down a river) and an opportunity for kids to practice rule negotiation and boundary set up. This program will provide a space to continue important social-emotional learning during a time of social distancing. \nwith Aemelia Thompson\nAges 9–11 or Grades 4–6\nTuesdays\, 3:30–5:30pm\nSeptember 22–December 15 (no class November 3)\nFee per Child: Tier A-$254  | Tier B-$203  | Tier C-$152  | Tier D-$76\nLimited to 10 participants
URL:https://www.hitchcockcenter.org/event/games-in-nature-afterschool-series-7/
CATEGORIES:Ages 9–11 or Grades 4–6
END:VEVENT
BEGIN:VEVENT
DTSTART;TZID=America/New_York:20201111T153000
DTEND;TZID=America/New_York:20201111T173000
DTSTAMP:20260424T041503
CREATED:20201007T164438Z
LAST-MODIFIED:20201007T164438Z
UID:10001949-1605108600-1605115800@www.hitchcockcenter.org
SUMMARY:3:30-5:30pm Games in Nature Afterschool Wednesday Series (In-person)
DESCRIPTION:Play is an essential part of childhood\, and playing games can cultivate social-emotional skills that keep us connected. Games in Nature After School will use a combination of structured games and free nature play to build interpersonal skills and to just have fun in an increasingly stressful world. Each week the group will spend time together beginning with games and move into nature play and free game building. Structured games will focus on confidence building\, leadership\, communication\, laughing. Free nature play will give individuals time to observe\, experiment\, and play\, using the inspiration of the natural world. It will also be an opportunity for the co-creation of new simple games (think racing sticks down a river) and an opportunity for kids to practice rule negotiation and boundary set up. This program will provide a space to continue important social-emotional learning during a time of social distancing. \nwith Aemelia Thompson\nAges 9–11 or Grades 4–6\nWednesdays\, 3:30-5:30pm\nSeptember 23–December 16 \nFee per Child: Tier A-$254  | Tier B-$203  | Tier C-$152  | Tier D-$76\nLimited to 12 participants
URL:https://www.hitchcockcenter.org/event/330-530pm-games-in-nature-afterschool-wednesday-series-in-person-8/
CATEGORIES:Ages 9–11 or Grades 4–6
END:VEVENT
BEGIN:VEVENT
DTSTART;TZID=America/New_York:20201112T093000
DTEND;TZID=America/New_York:20201112T123000
DTSTAMP:20260424T041503
CREATED:20200822T213255Z
LAST-MODIFIED:20200827T150739Z
UID:10001806-1605173400-1605184200@www.hitchcockcenter.org
SUMMARY:9:30am-12:30pm  The Ology of Ologists Homeschool Adventure Thursday Series
DESCRIPTION:Join us in this fall program series as we learn the jobs that scientists do. We will focus on a different “ology” each week — from archeology to zoology we will explore different realms of science. This will be an all-outdoor program\, and will include a morning circle\, an activity focused on the ology of the day\, followed by a snack\, nature exploration and games. \nwith Jeff Mazur\nAges 9–11 or Grades 4–6\nThursdays\, 9:30am–12:30pm\nSeptember 17–November 19\nFee per Child: Tier A-$554  | Tier B-$443  | Tier C-$332  | Tier D-$166\nLimited to 10 participants
URL:https://www.hitchcockcenter.org/event/the-ology-of-ologists-homeschool-adventure-thursday-series-9/
CATEGORIES:Ages 9–11 or Grades 4–6
END:VEVENT
BEGIN:VEVENT
DTSTART;TZID=America/New_York:20201112T153000
DTEND;TZID=America/New_York:20201112T173000
DTSTAMP:20260424T041503
CREATED:20200925T175410Z
LAST-MODIFIED:20200925T175445Z
UID:10001937-1605195000-1605202200@www.hitchcockcenter.org
SUMMARY:3:30-5:30pm  Girls into the Wild Series (In-person)
DESCRIPTION:Sometimes you just need to run\, explore and play outdoors! Girls into the Wild is designed to get girls outside\, playing and engaging with nature in their own way. Instructor Katie Koerten offers games and activities that each girl can participate in at her own comfort level\, from climbing trees\, to playing camouflage in the forest\, to running and whooping wildly through fields. Come build your confidence and show your wild side! \nwith Monya Relles\nAges 8–11 or Grades 3–5\nThursdays\, 3:30pm-5:30pm\nSeptember 24–December 17 (no program November 5 or 26)\nFee per Child: Tier A-$289  | Tier B-$232  | Tier C-$174  | Tier D-$87\nLimited to 10 participants
URL:https://www.hitchcockcenter.org/event/330-530pm-girls-into-the-wild-series-in-person-7/
CATEGORIES:Ages 9–11 or Grades 4–6
END:VEVENT
BEGIN:VEVENT
DTSTART;TZID=America/New_York:20201117T093000
DTEND;TZID=America/New_York:20201117T123000
DTSTAMP:20260424T041503
CREATED:20200822T212446Z
LAST-MODIFIED:20200827T150754Z
UID:10001797-1605605400-1605616200@www.hitchcockcenter.org
SUMMARY:The 9:30am-12:30pm  Ology of Ologists Homeschool Adventure Tuesday Series
DESCRIPTION:Join us in this fall program series as we learn the jobs that scientists do. We will focus on a different “ology” each week — from archeology to zoology we will explore different realms of science. This will be an all-outdoor program\, and will include a morning circle\, an activity focused on the ology of the day\, followed by a snack\, nature exploration and games. \nwith Jeff Mazur\nAges 9–11 or Grades 4–6\nTuesdays\, 9:30am–12:30pm\nSeptember 15–November 17 \nFee per Child: Tier A-$554  | Tier B-$443  | Tier C-$332  | Tier D-$166\nLimited to 10 participants
URL:https://www.hitchcockcenter.org/event/the-ology-of-ologists-homeschool-adventure-tuesday-series-10/
CATEGORIES:Ages 9–11 or Grades 4–6
END:VEVENT
BEGIN:VEVENT
DTSTART;TZID=America/New_York:20201117T153000
DTEND;TZID=America/New_York:20201117T173000
DTSTAMP:20260424T041503
CREATED:20200822T132951Z
LAST-MODIFIED:20200827T150628Z
UID:10001759-1605627000-1605634200@www.hitchcockcenter.org
SUMMARY:3:30-5:30pm  Games in Nature Afterschool Series
DESCRIPTION:Play is an essential part of childhood\, and playing games can cultivate social-emotional skills that keep us connected. Games in Nature After School will use a combination of structured games and free nature play to build interpersonal skills and to just have fun in an increasingly stressful world. Each week the group will spend time together beginning with games and move into nature play and free game building. Structured games will focus on confidence building\, leadership\, communication\, laughing. Free nature play will give individuals time to observe\, experiment\, and play\, using the inspiration of the natural world. It will also be an opportunity for the co-creation of new simple games (think racing sticks down a river) and an opportunity for kids to practice rule negotiation and boundary set up. This program will provide a space to continue important social-emotional learning during a time of social distancing. \nwith Aemelia Thompson\nAges 9–11 or Grades 4–6\nTuesdays\, 3:30–5:30pm\nSeptember 22–December 15 (no class November 3)\nFee per Child: Tier A-$254  | Tier B-$203  | Tier C-$152  | Tier D-$76\nLimited to 10 participants
URL:https://www.hitchcockcenter.org/event/games-in-nature-afterschool-series-8/
CATEGORIES:Ages 9–11 or Grades 4–6
END:VEVENT
BEGIN:VEVENT
DTSTART;TZID=America/New_York:20201118T153000
DTEND;TZID=America/New_York:20201118T173000
DTSTAMP:20260424T041503
CREATED:20201007T164526Z
LAST-MODIFIED:20201007T164526Z
UID:10001950-1605713400-1605720600@www.hitchcockcenter.org
SUMMARY:3:30-5:30pm Games in Nature Afterschool Wednesday Series (In-person)
DESCRIPTION:Play is an essential part of childhood\, and playing games can cultivate social-emotional skills that keep us connected. Games in Nature After School will use a combination of structured games and free nature play to build interpersonal skills and to just have fun in an increasingly stressful world. Each week the group will spend time together beginning with games and move into nature play and free game building. Structured games will focus on confidence building\, leadership\, communication\, laughing. Free nature play will give individuals time to observe\, experiment\, and play\, using the inspiration of the natural world. It will also be an opportunity for the co-creation of new simple games (think racing sticks down a river) and an opportunity for kids to practice rule negotiation and boundary set up. This program will provide a space to continue important social-emotional learning during a time of social distancing. \nwith Aemelia Thompson\nAges 9–11 or Grades 4–6\nWednesdays\, 3:30-5:30pm\nSeptember 23–December 16 \nFee per Child: Tier A-$254  | Tier B-$203  | Tier C-$152  | Tier D-$76\nLimited to 12 participants
URL:https://www.hitchcockcenter.org/event/330-530pm-games-in-nature-afterschool-wednesday-series-in-person-9/
CATEGORIES:Ages 9–11 or Grades 4–6
END:VEVENT
BEGIN:VEVENT
DTSTART;TZID=America/New_York:20201119T093000
DTEND;TZID=America/New_York:20201119T123000
DTSTAMP:20260424T041503
CREATED:20200822T213335Z
LAST-MODIFIED:20200827T145008Z
UID:10001807-1605778200-1605789000@www.hitchcockcenter.org
SUMMARY:9:30am-12:30pm  The Ology of Ologists Homeschool Adventure Thursday Series
DESCRIPTION:Join us in this fall program series as we learn the jobs that scientists do. We will focus on a different “ology” each week — from archeology to zoology we will explore different realms of science. This will be an all-outdoor program\, and will include a morning circle\, an activity focused on the ology of the day\, followed by a snack\, nature exploration and games. \nwith Jeff Mazur\nAges 9–11 or Grades 4–6\nThursdays\, 9:30am–12:30pm\nSeptember 17–November 19\nFee per Child: Tier A-$554  | Tier B-$443  | Tier C-$332  | Tier D-$166\nLimited to 10 participants
URL:https://www.hitchcockcenter.org/event/the-ology-of-ologists-homeschool-adventure-thursday-series-10/
CATEGORIES:Ages 9–11 or Grades 4–6
END:VEVENT
BEGIN:VEVENT
DTSTART;TZID=America/New_York:20201119T153000
DTEND;TZID=America/New_York:20201119T173000
DTSTAMP:20260424T041503
CREATED:20200925T175527Z
LAST-MODIFIED:20200925T175527Z
UID:10001938-1605799800-1605807000@www.hitchcockcenter.org
SUMMARY:3:30-5:30pm  Girls into the Wild Series (In-person)
DESCRIPTION:Sometimes you just need to run\, explore and play outdoors! Girls into the Wild is designed to get girls outside\, playing and engaging with nature in their own way. Instructor Katie Koerten offers games and activities that each girl can participate in at her own comfort level\, from climbing trees\, to playing camouflage in the forest\, to running and whooping wildly through fields. Come build your confidence and show your wild side! \nwith Monya Relles\nAges 8–11 or Grades 3–5\nThursdays\, 3:30pm-5:30pm\nSeptember 24–December 17 (no program November 5 or 26)\nFee per Child: Tier A-$289  | Tier B-$232  | Tier C-$174  | Tier D-$87\nLimited to 10 participants
URL:https://www.hitchcockcenter.org/event/330-530pm-girls-into-the-wild-series-in-person-8/
CATEGORIES:Ages 9–11 or Grades 4–6
END:VEVENT
BEGIN:VEVENT
DTSTART;TZID=America/New_York:20201125T153000
DTEND;TZID=America/New_York:20201125T173000
DTSTAMP:20260424T041503
CREATED:20201007T164741Z
LAST-MODIFIED:20201007T164741Z
UID:10001951-1606318200-1606325400@www.hitchcockcenter.org
SUMMARY:3:30-5:30pm Games in Nature Afterschool Wednesday Series (In-person)
DESCRIPTION:Play is an essential part of childhood\, and playing games can cultivate social-emotional skills that keep us connected. Games in Nature After School will use a combination of structured games and free nature play to build interpersonal skills and to just have fun in an increasingly stressful world. Each week the group will spend time together beginning with games and move into nature play and free game building. Structured games will focus on confidence building\, leadership\, communication\, laughing. Free nature play will give individuals time to observe\, experiment\, and play\, using the inspiration of the natural world. It will also be an opportunity for the co-creation of new simple games (think racing sticks down a river) and an opportunity for kids to practice rule negotiation and boundary set up. This program will provide a space to continue important social-emotional learning during a time of social distancing. \nwith Aemelia Thompson\nAges 9–11 or Grades 4–6\nWednesdays\, 3:30-5:30pm\nSeptember 23–December 16 \nFee per Child: Tier A-$254  | Tier B-$203  | Tier C-$152  | Tier D-$76\nLimited to 12 participants
URL:https://www.hitchcockcenter.org/event/330-530pm-games-in-nature-afterschool-wednesday-series-in-person-10/
CATEGORIES:Ages 9–11 or Grades 4–6
END:VEVENT
END:VCALENDAR