BEGIN:VCALENDAR
VERSION:2.0
PRODID:-//Hitchcock Center for the Environment - ECPv6.15.18//NONSGML v1.0//EN
CALSCALE:GREGORIAN
METHOD:PUBLISH
X-ORIGINAL-URL:https://www.hitchcockcenter.org
X-WR-CALDESC:Events for Hitchcock Center for the Environment
REFRESH-INTERVAL;VALUE=DURATION:PT1H
X-Robots-Tag:noindex
X-PUBLISHED-TTL:PT1H
BEGIN:VTIMEZONE
TZID:America/New_York
BEGIN:DAYLIGHT
TZOFFSETFROM:-0500
TZOFFSETTO:-0400
TZNAME:EDT
DTSTART:20190310T070000
END:DAYLIGHT
BEGIN:STANDARD
TZOFFSETFROM:-0400
TZOFFSETTO:-0500
TZNAME:EST
DTSTART:20191103T060000
END:STANDARD
BEGIN:DAYLIGHT
TZOFFSETFROM:-0500
TZOFFSETTO:-0400
TZNAME:EDT
DTSTART:20200308T070000
END:DAYLIGHT
BEGIN:STANDARD
TZOFFSETFROM:-0400
TZOFFSETTO:-0500
TZNAME:EST
DTSTART:20201101T060000
END:STANDARD
BEGIN:DAYLIGHT
TZOFFSETFROM:-0500
TZOFFSETTO:-0400
TZNAME:EDT
DTSTART:20210314T070000
END:DAYLIGHT
BEGIN:STANDARD
TZOFFSETFROM:-0400
TZOFFSETTO:-0500
TZNAME:EST
DTSTART:20211107T060000
END:STANDARD
END:VTIMEZONE
BEGIN:VEVENT
DTSTART;TZID=America/New_York:20201201T093000
DTEND;TZID=America/New_York:20201201T123000
DTSTAMP:20260422T030358
CREATED:20200822T122526Z
LAST-MODIFIED:20200827T143918Z
UID:10001734-1606815000-1606825800@www.hitchcockcenter.org
SUMMARY:9:30am-12:30pm  Eco-Quest Discovery Day: Tracks and Signs
DESCRIPTION:Join us for a quest! You can drop in for one class or all three. We will be completing a quest each week using different skills during the first half of the class\, and the second half\, after a hearty snack\, will be full of nature exploration and games. This series is being offered two times per week on Tuesdays and on Thursdays. Please sign up for one of the two days. \nwith Jeff Mazur\nAges 9–11 or Grades 4–6\nTuesdays\, 9:30am–12:30pm\nDecember 1\, 8 and 15\nFee per Child: Tier A-$55 per day | Tier B-$44 per day  | Tier C-$33 per day  | Tier D-$17 per day\nLimited to 10 participants
URL:https://www.hitchcockcenter.org/event/eco-quest-discovery-day-tracks-and-signs/
CATEGORIES:Ages 9–11 or Grades 4–6
END:VEVENT
BEGIN:VEVENT
DTSTART;TZID=America/New_York:20201201T153000
DTEND;TZID=America/New_York:20201201T173000
DTSTAMP:20260422T030358
CREATED:20200822T133030Z
LAST-MODIFIED:20200827T143823Z
UID:10001760-1606836600-1606843800@www.hitchcockcenter.org
SUMMARY:3:30-5:30pm  Games in Nature Afterschool Series
DESCRIPTION:Play is an essential part of childhood\, and playing games can cultivate social-emotional skills that keep us connected. Games in Nature After School will use a combination of structured games and free nature play to build interpersonal skills and to just have fun in an increasingly stressful world. Each week the group will spend time together beginning with games and move into nature play and free game building. Structured games will focus on confidence building\, leadership\, communication\, laughing. Free nature play will give individuals time to observe\, experiment\, and play\, using the inspiration of the natural world. It will also be an opportunity for the co-creation of new simple games (think racing sticks down a river) and an opportunity for kids to practice rule negotiation and boundary set up. This program will provide a space to continue important social-emotional learning during a time of social distancing. \nwith Aemelia Thompson\nAges 9–11 or Grades 4–6\nTuesdays\, 3:30–5:30pm\nSeptember 22–December 15 (no class November 3)\nFee per Child: Tier A-$254  | Tier B-$203  | Tier C-$152  | Tier D-$76\nLimited to 10 participants
URL:https://www.hitchcockcenter.org/event/games-in-nature-afterschool-series-9/
CATEGORIES:Ages 9–11 or Grades 4–6
END:VEVENT
BEGIN:VEVENT
DTSTART;TZID=America/New_York:20201202T153000
DTEND;TZID=America/New_York:20201202T173000
DTSTAMP:20260422T030358
CREATED:20201007T164838Z
LAST-MODIFIED:20201007T164838Z
UID:10001952-1606923000-1606930200@www.hitchcockcenter.org
SUMMARY:3:30-5:30pm Games in Nature Afterschool Wednesday Series (In-person)
DESCRIPTION:Play is an essential part of childhood\, and playing games can cultivate social-emotional skills that keep us connected. Games in Nature After School will use a combination of structured games and free nature play to build interpersonal skills and to just have fun in an increasingly stressful world. Each week the group will spend time together beginning with games and move into nature play and free game building. Structured games will focus on confidence building\, leadership\, communication\, laughing. Free nature play will give individuals time to observe\, experiment\, and play\, using the inspiration of the natural world. It will also be an opportunity for the co-creation of new simple games (think racing sticks down a river) and an opportunity for kids to practice rule negotiation and boundary set up. This program will provide a space to continue important social-emotional learning during a time of social distancing. \nwith Aemelia Thompson\nAges 9–11 or Grades 4–6\nWednesdays\, 3:30-5:30pm\nSeptember 23–December 16 \nFee per Child: Tier A-$254  | Tier B-$203  | Tier C-$152  | Tier D-$76\nLimited to 12 participants
URL:https://www.hitchcockcenter.org/event/330-530pm-games-in-nature-afterschool-wednesday-series-in-person-11/
CATEGORIES:Ages 9–11 or Grades 4–6
END:VEVENT
BEGIN:VEVENT
DTSTART;TZID=America/New_York:20201203T093000
DTEND;TZID=America/New_York:20201203T123000
DTSTAMP:20260422T030358
CREATED:20200822T122844Z
LAST-MODIFIED:20200827T143359Z
UID:10001737-1606987800-1606998600@www.hitchcockcenter.org
SUMMARY:9:30am-12:30pm  Eco-Quest Discovery Day: Tracks and Signs
DESCRIPTION:Join us for a quest! You can drop in for one class or all three. We will be completing a quest each week using different skills during the first half of the class\, and the second half\, after a hearty snack\, will be full of nature exploration and games. This series is being offered two times per week on Tuesdays and on Thursdays. Please sign up for one of the two days. \nwith Jeff Mazur\nAges 9–11 or Grades 4–6\nThursdays\, 9:30am–12:30pm\nDecember 3\, 10\, and 17\nFee per Child: Tier A-$55 per day | Tier B-$44 per day  | Tier C-$33 per day  | Tier D-$17 per day\nLimited to 10 participants
URL:https://www.hitchcockcenter.org/event/eco-quest-discovery-day-tracks-and-signs-2/
CATEGORIES:Ages 9–11 or Grades 4–6
END:VEVENT
BEGIN:VEVENT
DTSTART;TZID=America/New_York:20201203T153000
DTEND;TZID=America/New_York:20201203T173000
DTSTAMP:20260422T030358
CREATED:20200925T175615Z
LAST-MODIFIED:20200925T175615Z
UID:10001939-1607009400-1607016600@www.hitchcockcenter.org
SUMMARY:3:30-5:30pm  Girls into the Wild Series (In-person)
DESCRIPTION:Sometimes you just need to run\, explore and play outdoors! Girls into the Wild is designed to get girls outside\, playing and engaging with nature in their own way. Instructor Katie Koerten offers games and activities that each girl can participate in at her own comfort level\, from climbing trees\, to playing camouflage in the forest\, to running and whooping wildly through fields. Come build your confidence and show your wild side! \nwith Monya Relles\nAges 8–11 or Grades 3–5\nThursdays\, 3:30pm-5:30pm\nSeptember 24–December 17 (no program November 5 or 26)\nFee per Child: Tier A-$289  | Tier B-$232  | Tier C-$174  | Tier D-$87\nLimited to 10 participants
URL:https://www.hitchcockcenter.org/event/330-530pm-girls-into-the-wild-series-in-person-9/
CATEGORIES:Ages 9–11 or Grades 4–6
END:VEVENT
BEGIN:VEVENT
DTSTART;TZID=America/New_York:20201208T093000
DTEND;TZID=America/New_York:20201208T123000
DTSTAMP:20260422T030358
CREATED:20200822T122619Z
LAST-MODIFIED:20200827T142553Z
UID:10001735-1607419800-1607430600@www.hitchcockcenter.org
SUMMARY:9:30am-12:30pm  Eco-Quest Discovery Day: Marvelous Mapping
DESCRIPTION:Join us for a quest! You can drop in for one class or all three. We will be completing a quest each week using different skills during the first half of the class\, and the second half\, after a hearty snack\, will be full of nature exploration and games. This series is being offered two times per week on Tuesdays and on Thursdays. Please sign up for one of the two days. \nwith Jeff Mazur\nAges 9–11 or Grades 4–6\nTuesdays\, 9:30am–12:30pm\nDecember 1\, 8 and 15\nFee per Child: Tier A-$55 per day | Tier B-$44 per day  | Tier C-$33 per day  | Tier D-$17 per day\nLimited to 10 participants
URL:https://www.hitchcockcenter.org/event/eco-quest-discovery-day-marvelous-mapping/
CATEGORIES:Ages 9–11 or Grades 4–6
END:VEVENT
BEGIN:VEVENT
DTSTART;TZID=America/New_York:20201208T153000
DTEND;TZID=America/New_York:20201208T173000
DTSTAMP:20260422T030358
CREATED:20200822T133107Z
LAST-MODIFIED:20200827T141400Z
UID:10001761-1607441400-1607448600@www.hitchcockcenter.org
SUMMARY:3:30-5:30 pm  Games in Nature Afterschool Series
DESCRIPTION:Play is an essential part of childhood\, and playing games can cultivate social-emotional skills that keep us connected. Games in Nature After School will use a combination of structured games and free nature play to build interpersonal skills and to just have fun in an increasingly stressful world. Each week the group will spend time together beginning with games and move into nature play and free game building. Structured games will focus on confidence building\, leadership\, communication\, laughing. Free nature play will give individuals time to observe\, experiment\, and play\, using the inspiration of the natural world. It will also be an opportunity for the co-creation of new simple games (think racing sticks down a river) and an opportunity for kids to practice rule negotiation and boundary set up. This program will provide a space to continue important social-emotional learning during a time of social distancing. \nwith Aemelia Thompson\nAges 9–11 or Grades 4–6\nTuesdays\, 3:30–5:30pm\nSeptember 22–December 15 (no class November 3)\nFee per Child: Tier A-$254  | Tier B-$203  | Tier C-$152  | Tier D-$76\nLimited to 10 participants
URL:https://www.hitchcockcenter.org/event/games-in-nature-afterschool-series-10/
CATEGORIES:Ages 9–11 or Grades 4–6
END:VEVENT
BEGIN:VEVENT
DTSTART;TZID=America/New_York:20201209T153000
DTEND;TZID=America/New_York:20201209T173000
DTSTAMP:20260422T030358
CREATED:20201007T164915Z
LAST-MODIFIED:20201007T164915Z
UID:10001953-1607527800-1607535000@www.hitchcockcenter.org
SUMMARY:3:30-5:30pm Games in Nature Afterschool Wednesday Series (In-person)
DESCRIPTION:Play is an essential part of childhood\, and playing games can cultivate social-emotional skills that keep us connected. Games in Nature After School will use a combination of structured games and free nature play to build interpersonal skills and to just have fun in an increasingly stressful world. Each week the group will spend time together beginning with games and move into nature play and free game building. Structured games will focus on confidence building\, leadership\, communication\, laughing. Free nature play will give individuals time to observe\, experiment\, and play\, using the inspiration of the natural world. It will also be an opportunity for the co-creation of new simple games (think racing sticks down a river) and an opportunity for kids to practice rule negotiation and boundary set up. This program will provide a space to continue important social-emotional learning during a time of social distancing. \nwith Aemelia Thompson\nAges 9–11 or Grades 4–6\nWednesdays\, 3:30-5:30pm\nSeptember 23–December 16 \nFee per Child: Tier A-$254  | Tier B-$203  | Tier C-$152  | Tier D-$76\nLimited to 12 participants
URL:https://www.hitchcockcenter.org/event/330-530pm-games-in-nature-afterschool-wednesday-series-in-person-12/
CATEGORIES:Ages 9–11 or Grades 4–6
END:VEVENT
BEGIN:VEVENT
DTSTART;TZID=America/New_York:20201210T093000
DTEND;TZID=America/New_York:20201210T123000
DTSTAMP:20260422T030358
CREATED:20200822T122947Z
LAST-MODIFIED:20200827T141022Z
UID:10001738-1607592600-1607603400@www.hitchcockcenter.org
SUMMARY:9:30am-12:30pm Eco-Quest Discovery Day: Marvelous Mapping
DESCRIPTION:Join us for a quest! You can drop in for one class or all three. We will be completing a quest each week using different skills during the first half of the class\, and the second half\, after a hearty snack\, will be full of nature exploration and games. This series is being offered two times per week on Tuesdays and on Thursdays. Please sign up for one of the two days. \nwith Jeff Mazur\nAges 9–11 or Grades 4–6\nThursdays\, 9:30am–12:30pm\nDecember 3\, 10\, and 17\nFee per Child: Tier A-$55 per day | Tier B-$44 per day  | Tier C-$33 per day  | Tier D-$17 per day\nLimited to 10 participants
URL:https://www.hitchcockcenter.org/event/eco-quest-discovery-day-marvelous-mapping-2/
CATEGORIES:Ages 9–11 or Grades 4–6
END:VEVENT
BEGIN:VEVENT
DTSTART;TZID=America/New_York:20201210T153000
DTEND;TZID=America/New_York:20201210T173000
DTSTAMP:20260422T030358
CREATED:20200925T175651Z
LAST-MODIFIED:20200925T175651Z
UID:10001940-1607614200-1607621400@www.hitchcockcenter.org
SUMMARY:3:30-5:30pm  Girls into the Wild Series (In-person)
DESCRIPTION:Sometimes you just need to run\, explore and play outdoors! Girls into the Wild is designed to get girls outside\, playing and engaging with nature in their own way. Instructor Katie Koerten offers games and activities that each girl can participate in at her own comfort level\, from climbing trees\, to playing camouflage in the forest\, to running and whooping wildly through fields. Come build your confidence and show your wild side! \nwith Monya Relles\nAges 8–11 or Grades 3–5\nThursdays\, 3:30pm-5:30pm\nSeptember 24–December 17 (no program November 5 or 26)\nFee per Child: Tier A-$289  | Tier B-$232  | Tier C-$174  | Tier D-$87\nLimited to 10 participants
URL:https://www.hitchcockcenter.org/event/330-530pm-girls-into-the-wild-series-in-person-10/
CATEGORIES:Ages 9–11 or Grades 4–6
END:VEVENT
BEGIN:VEVENT
DTSTART;TZID=America/New_York:20201212T100000
DTEND;TZID=America/New_York:20201212T110000
DTSTAMP:20260422T030358
CREATED:20200821T204924Z
LAST-MODIFIED:20200827T140725Z
UID:10001715-1607767200-1607770800@www.hitchcockcenter.org
SUMMARY:10:00-11:00am  Second Saturday Family Science: Fantastic Foxes
DESCRIPTION:Join us for seasonal nature and science programs\, in-person\, each second Saturday of the month. Designed for children (ages 5–7) with their parents\, these programs will explore cool topics in nature. \n\nSeptember 12: Pollinators\nOctober 10: Our Trees in Autumn\nNovember 14: Reptiles in Winter\nDecember 12: Fantastic Foxes\n\nwith Aemelia Thompson\nAges ages 5–7 and Grades  K–1\nSaturdays\, 10–11am\nSeptember 12\, October 10\, November 15\, December 12\nSuggested Donation: $5–$12 per family\nLimited to 10 participants. Children must be accompanied by an adult. Limit of 3 children per adult.
URL:https://www.hitchcockcenter.org/event/second-saturday-family-science-fantastic-foxes/
CATEGORIES:Ages 5–8 or Grades K–3,Ages 9–11 or Grades 4–6
END:VEVENT
BEGIN:VEVENT
DTSTART;TZID=America/New_York:20201215T093000
DTEND;TZID=America/New_York:20201215T123000
DTSTAMP:20260422T030358
CREATED:20200822T122733Z
LAST-MODIFIED:20200827T135906Z
UID:10001736-1608024600-1608035400@www.hitchcockcenter.org
SUMMARY:9:30-12:30pm  Eco-Quest Discovery Day: Compass Quest
DESCRIPTION:Join us for a quest! You can drop in for one class or all three. We will be completing a quest each week using different skills during the first half of the class\, and the second half\, after a hearty snack\, will be full of nature exploration and games. This series is being offered two times per week on Tuesdays and on Thursdays. Please sign up for one of the two days. \nwith Jeff Mazur\nAges 9–11 or Grades 4–6\nTuesdays\, 9:30am–12:30pm\nDecember 1\, 8 and 15\nFee per Child: Tier A-$55 per day | Tier B-$44 per day  | Tier C-$33 per day  | Tier D-$17 per day\nLimited to 10 participants
URL:https://www.hitchcockcenter.org/event/eco-quest-discovery-day-compass-quest/
CATEGORIES:Ages 9–11 or Grades 4–6
END:VEVENT
BEGIN:VEVENT
DTSTART;TZID=America/New_York:20201215T153000
DTEND;TZID=America/New_York:20201215T173000
DTSTAMP:20260422T030358
CREATED:20200822T133142Z
LAST-MODIFIED:20200827T135713Z
UID:10001762-1608046200-1608053400@www.hitchcockcenter.org
SUMMARY:3:30-5:30pm  Games in Nature Afterschool Series
DESCRIPTION:Play is an essential part of childhood\, and playing games can cultivate social-emotional skills that keep us connected. Games in Nature After School will use a combination of structured games and free nature play to build interpersonal skills and to just have fun in an increasingly stressful world. Each week the group will spend time together beginning with games and move into nature play and free game building. Structured games will focus on confidence building\, leadership\, communication\, laughing. Free nature play will give individuals time to observe\, experiment\, and play\, using the inspiration of the natural world. It will also be an opportunity for the co-creation of new simple games (think racing sticks down a river) and an opportunity for kids to practice rule negotiation and boundary set up. This program will provide a space to continue important social-emotional learning during a time of social distancing. \nwith Aemelia Thompson\nAges 9–11 or Grades 4–6\nTuesdays\, 3:30–5:30pm\nSeptember 22–December 15 (no class November 3)\nFee per Child: Tier A-$254  | Tier B-$203  | Tier C-$152  | Tier D-$76\nLimited to 10 participants
URL:https://www.hitchcockcenter.org/event/games-in-nature-afterschool-series-11/
CATEGORIES:Ages 9–11 or Grades 4–6
END:VEVENT
BEGIN:VEVENT
DTSTART;TZID=America/New_York:20201216T153000
DTEND;TZID=America/New_York:20201216T173000
DTSTAMP:20260422T030358
CREATED:20201007T165000Z
LAST-MODIFIED:20201007T165000Z
UID:10001954-1608132600-1608139800@www.hitchcockcenter.org
SUMMARY:3:30-5:30pm Games in Nature Afterschool Wednesday Series (In-person)
DESCRIPTION:Play is an essential part of childhood\, and playing games can cultivate social-emotional skills that keep us connected. Games in Nature After School will use a combination of structured games and free nature play to build interpersonal skills and to just have fun in an increasingly stressful world. Each week the group will spend time together beginning with games and move into nature play and free game building. Structured games will focus on confidence building\, leadership\, communication\, laughing. Free nature play will give individuals time to observe\, experiment\, and play\, using the inspiration of the natural world. It will also be an opportunity for the co-creation of new simple games (think racing sticks down a river) and an opportunity for kids to practice rule negotiation and boundary set up. This program will provide a space to continue important social-emotional learning during a time of social distancing. \nwith Aemelia Thompson\nAges 9–11 or Grades 4–6\nWednesdays\, 3:30-5:30pm\nSeptember 23–December 16 \nFee per Child: Tier A-$254  | Tier B-$203  | Tier C-$152  | Tier D-$76\nLimited to 12 participants
URL:https://www.hitchcockcenter.org/event/330-530pm-games-in-nature-afterschool-wednesday-series-in-person-13/
CATEGORIES:Ages 9–11 or Grades 4–6
END:VEVENT
BEGIN:VEVENT
DTSTART;TZID=America/New_York:20201217T093000
DTEND;TZID=America/New_York:20201217T123000
DTSTAMP:20260422T030358
CREATED:20200822T123041Z
LAST-MODIFIED:20200827T135049Z
UID:10001739-1608197400-1608208200@www.hitchcockcenter.org
SUMMARY:9:30am-12:30pm  Eco-Quest Discovery Day: Compass Quest
DESCRIPTION:Join us for a quest! You can drop in for one class or all three. We will be completing a quest each week using different skills during the first half of the class\, and the second half\, after a hearty snack\, will be full of nature exploration and games. This series is being offered two times per week on Tuesdays and on Thursdays. Please sign up for one of the two days. \nwith Jeff Mazur\nAges 9–11 or Grades 4–6\nThursdays\, 9:30am–12:30pm\nDecember 3\, 10\, and 17\nFee per Child: Tier A-$55 per day | Tier B-$44 per day  | Tier C-$33 per day  | Tier D-$17 per day\nLimited to 10 participants
URL:https://www.hitchcockcenter.org/event/eco-quest-discovery-day-compass-quest-2/
CATEGORIES:Ages 9–11 or Grades 4–6
END:VEVENT
BEGIN:VEVENT
DTSTART;TZID=America/New_York:20201217T153000
DTEND;TZID=America/New_York:20201217T173000
DTSTAMP:20260422T030358
CREATED:20200925T175730Z
LAST-MODIFIED:20200925T175730Z
UID:10001941-1608219000-1608226200@www.hitchcockcenter.org
SUMMARY:3:30-5:30pm  Girls into the Wild Series (In-person)
DESCRIPTION:Sometimes you just need to run\, explore and play outdoors! Girls into the Wild is designed to get girls outside\, playing and engaging with nature in their own way. Instructor Katie Koerten offers games and activities that each girl can participate in at her own comfort level\, from climbing trees\, to playing camouflage in the forest\, to running and whooping wildly through fields. Come build your confidence and show your wild side! \nwith Monya Relles\nAges 8–11 or Grades 3–5\nThursdays\, 3:30pm-5:30pm\nSeptember 24–December 17 (no program November 5 or 26)\nFee per Child: Tier A-$289  | Tier B-$232  | Tier C-$174  | Tier D-$87\nLimited to 10 participants
URL:https://www.hitchcockcenter.org/event/330-530pm-girls-into-the-wild-series-in-person-11/
CATEGORIES:Ages 9–11 or Grades 4–6
END:VEVENT
END:VCALENDAR