BEGIN:VCALENDAR
VERSION:2.0
PRODID:-//Hitchcock Center for the Environment - ECPv6.15.18//NONSGML v1.0//EN
CALSCALE:GREGORIAN
METHOD:PUBLISH
X-WR-CALNAME:Hitchcock Center for the Environment
X-ORIGINAL-URL:https://www.hitchcockcenter.org
X-WR-CALDESC:Events for Hitchcock Center for the Environment
REFRESH-INTERVAL;VALUE=DURATION:PT1H
X-Robots-Tag:noindex
X-PUBLISHED-TTL:PT1H
BEGIN:VTIMEZONE
TZID:America/New_York
BEGIN:DAYLIGHT
TZOFFSETFROM:-0500
TZOFFSETTO:-0400
TZNAME:EDT
DTSTART:20200308T070000
END:DAYLIGHT
BEGIN:STANDARD
TZOFFSETFROM:-0400
TZOFFSETTO:-0500
TZNAME:EST
DTSTART:20201101T060000
END:STANDARD
BEGIN:DAYLIGHT
TZOFFSETFROM:-0500
TZOFFSETTO:-0400
TZNAME:EDT
DTSTART:20210314T070000
END:DAYLIGHT
BEGIN:STANDARD
TZOFFSETFROM:-0400
TZOFFSETTO:-0500
TZNAME:EST
DTSTART:20211107T060000
END:STANDARD
BEGIN:DAYLIGHT
TZOFFSETFROM:-0500
TZOFFSETTO:-0400
TZNAME:EDT
DTSTART:20220313T070000
END:DAYLIGHT
BEGIN:STANDARD
TZOFFSETFROM:-0400
TZOFFSETTO:-0500
TZNAME:EST
DTSTART:20221106T060000
END:STANDARD
END:VTIMEZONE
BEGIN:VEVENT
DTSTART;TZID=America/New_York:20210201T153000
DTEND;TZID=America/New_York:20210201T173000
DTSTAMP:20260422T002818
CREATED:20201123T195121Z
LAST-MODIFIED:20201123T195121Z
UID:10002033-1612193400-1612200600@www.hitchcockcenter.org
SUMMARY:3:30-5:30pm Games in Nature Afterschool Series 
DESCRIPTION:Games in Nature is back in winter 2021! Our Winter game days will begin with our favorite structured group games\, which focus on confidence building\, leadership\, communication\, and laughing.  Each day also includes winter nature exploration: We’ll be hiking through snow covered wooded trails and fields\, building forts\, sledding\, and playing freely in the woods. Free nature play will give individuals time to observe\, experiment\, and play\, using the inspiration of the natural world. \nAges 9–11 or Grades 4–5\nLimited to 12 participants in each series. \nMonday Series:\nwith Monya Relles\n3:30–5:30pm\nJanuary 11–March 15 (no program February 15)\nFee per Child: Tier A-$248 | Tier B-$198 | Tier C-$149  | Tier D-$99
URL:https://www.hitchcockcenter.org/event/330-530pm-games-in-nature-afterschool-series-4/
CATEGORIES:Ages 9–11 or Grades 4–6
END:VEVENT
BEGIN:VEVENT
DTSTART;TZID=America/New_York:20210202T153000
DTEND;TZID=America/New_York:20210202T173000
DTSTAMP:20260422T002818
CREATED:20201123T195943Z
LAST-MODIFIED:20201123T195943Z
UID:10002041-1612279800-1612287000@www.hitchcockcenter.org
SUMMARY:3:30-5:30pm Games in Nature Afterschool Series 
DESCRIPTION:Games in Nature is back in winter 2021! Our Winter game days will begin with our favorite structured group games\, which focus on confidence building\, leadership\, communication\, and laughing.  Each day also includes winter nature exploration: We’ll be hiking through snow covered wooded trails and fields\, building forts\, sledding\, and playing freely in the woods. Free nature play will give individuals time to observe\, experiment\, and play\, using the inspiration of the natural world. \nAges 9–11 or Grades 4–5\nLimited to 12 participants in each series. \nTuesday Series:\nwith Aemelia Thompson\n3:30–5:30pm\nJanuary 12–March 16 (no program February 16)\nFee per Child: Tier A-$248 | Tier B-$198 | Tier C-$149  | Tier D-$99
URL:https://www.hitchcockcenter.org/event/330-530pm-games-in-nature-afterschool-series-12/
CATEGORIES:Ages 9–11 or Grades 4–6
END:VEVENT
BEGIN:VEVENT
DTSTART;TZID=America/New_York:20210208T153000
DTEND;TZID=America/New_York:20210208T173000
DTSTAMP:20260422T002818
CREATED:20201123T203839Z
LAST-MODIFIED:20201123T203839Z
UID:10002068-1612798200-1612805400@www.hitchcockcenter.org
SUMMARY:3:30-5:30pm Games in Nature Afterschool Series 
DESCRIPTION:Games in Nature is back in winter 2021! Our Winter game days will begin with our favorite structured group games\, which focus on confidence building\, leadership\, communication\, and laughing.  Each day also includes winter nature exploration: We’ll be hiking through snow covered wooded trails and fields\, building forts\, sledding\, and playing freely in the woods. Free nature play will give individuals time to observe\, experiment\, and play\, using the inspiration of the natural world. \nAges 9–11 or Grades 4–5\nLimited to 12 participants in each series. \nMonday Series:\nwith Monya Relles\n3:30–5:30pm\nJanuary 11–March 15 (no program February 15)\nFee per Child: Tier A-$248 | Tier B-$198 | Tier C-$149  | Tier D-$99
URL:https://www.hitchcockcenter.org/event/330-530pm-games-in-nature-afterschool-series-18/
CATEGORIES:Ages 9–11 or Grades 4–6
END:VEVENT
BEGIN:VEVENT
DTSTART;TZID=America/New_York:20210209T153000
DTEND;TZID=America/New_York:20210209T173000
DTSTAMP:20260422T002818
CREATED:20201123T200026Z
LAST-MODIFIED:20201123T200026Z
UID:10002042-1612884600-1612891800@www.hitchcockcenter.org
SUMMARY:3:30-5:30pm Games in Nature Afterschool Series 
DESCRIPTION:Games in Nature is back in winter 2021! Our Winter game days will begin with our favorite structured group games\, which focus on confidence building\, leadership\, communication\, and laughing.  Each day also includes winter nature exploration: We’ll be hiking through snow covered wooded trails and fields\, building forts\, sledding\, and playing freely in the woods. Free nature play will give individuals time to observe\, experiment\, and play\, using the inspiration of the natural world. \nAges 9–11 or Grades 4–5\nLimited to 12 participants in each series. \nTuesday Series:\nwith Aemelia Thompson\n3:30–5:30pm\nJanuary 12–March 16 (no program February 16)\nFee per Child: Tier A-$248 | Tier B-$198 | Tier C-$149  | Tier D-$99
URL:https://www.hitchcockcenter.org/event/330-530pm-games-in-nature-afterschool-series-13/
CATEGORIES:Ages 9–11 or Grades 4–6
END:VEVENT
BEGIN:VEVENT
DTSTART;TZID=America/New_York:20210222T153000
DTEND;TZID=America/New_York:20210222T173000
DTSTAMP:20260422T002818
CREATED:20201123T195229Z
LAST-MODIFIED:20201123T195229Z
UID:10002034-1614007800-1614015000@www.hitchcockcenter.org
SUMMARY:3:30-5:30pm Games in Nature Afterschool Series 
DESCRIPTION:Games in Nature is back in winter 2021! Our Winter game days will begin with our favorite structured group games\, which focus on confidence building\, leadership\, communication\, and laughing.  Each day also includes winter nature exploration: We’ll be hiking through snow covered wooded trails and fields\, building forts\, sledding\, and playing freely in the woods. Free nature play will give individuals time to observe\, experiment\, and play\, using the inspiration of the natural world. \nAges 9–11 or Grades 4–5\nLimited to 12 participants in each series. \nMonday Series:\nwith Monya Relles\n3:30–5:30pm\nJanuary 11–March 15 (no program February 15)\nFee per Child: Tier A-$248 | Tier B-$198 | Tier C-$149  | Tier D-$99
URL:https://www.hitchcockcenter.org/event/330-530pm-games-in-nature-afterschool-series-5/
CATEGORIES:Ages 9–11 or Grades 4–6
END:VEVENT
BEGIN:VEVENT
DTSTART;TZID=America/New_York:20210223T153000
DTEND;TZID=America/New_York:20210223T173000
DTSTAMP:20260422T002818
CREATED:20201123T200112Z
LAST-MODIFIED:20201123T200112Z
UID:10002043-1614094200-1614101400@www.hitchcockcenter.org
SUMMARY:3:30-5:30pm Games in Nature Afterschool Series 
DESCRIPTION:Games in Nature is back in winter 2021! Our Winter game days will begin with our favorite structured group games\, which focus on confidence building\, leadership\, communication\, and laughing.  Each day also includes winter nature exploration: We’ll be hiking through snow covered wooded trails and fields\, building forts\, sledding\, and playing freely in the woods. Free nature play will give individuals time to observe\, experiment\, and play\, using the inspiration of the natural world. \nAges 9–11 or Grades 4–5\nLimited to 12 participants in each series. \nTuesday Series:\nwith Aemelia Thompson\n3:30–5:30pm\nJanuary 12–March 16 (no program February 16)\nFee per Child: Tier A-$248 | Tier B-$198 | Tier C-$149  | Tier D-$99
URL:https://www.hitchcockcenter.org/event/330-530pm-games-in-nature-afterschool-series-14/
CATEGORIES:Ages 9–11 or Grades 4–6
END:VEVENT
END:VCALENDAR