BEGIN:VCALENDAR
VERSION:2.0
PRODID:-//Hitchcock Center for the Environment - ECPv6.15.18//NONSGML v1.0//EN
CALSCALE:GREGORIAN
METHOD:PUBLISH
X-WR-CALNAME:Hitchcock Center for the Environment
X-ORIGINAL-URL:https://www.hitchcockcenter.org
X-WR-CALDESC:Events for Hitchcock Center for the Environment
REFRESH-INTERVAL;VALUE=DURATION:PT1H
X-Robots-Tag:noindex
X-PUBLISHED-TTL:PT1H
BEGIN:VTIMEZONE
TZID:America/New_York
BEGIN:DAYLIGHT
TZOFFSETFROM:-0500
TZOFFSETTO:-0400
TZNAME:EDT
DTSTART:20200308T070000
END:DAYLIGHT
BEGIN:STANDARD
TZOFFSETFROM:-0400
TZOFFSETTO:-0500
TZNAME:EST
DTSTART:20201101T060000
END:STANDARD
BEGIN:DAYLIGHT
TZOFFSETFROM:-0500
TZOFFSETTO:-0400
TZNAME:EDT
DTSTART:20210314T070000
END:DAYLIGHT
BEGIN:STANDARD
TZOFFSETFROM:-0400
TZOFFSETTO:-0500
TZNAME:EST
DTSTART:20211107T060000
END:STANDARD
BEGIN:DAYLIGHT
TZOFFSETFROM:-0500
TZOFFSETTO:-0400
TZNAME:EDT
DTSTART:20220313T070000
END:DAYLIGHT
BEGIN:STANDARD
TZOFFSETFROM:-0400
TZOFFSETTO:-0500
TZNAME:EST
DTSTART:20221106T060000
END:STANDARD
END:VTIMEZONE
BEGIN:VEVENT
DTSTART;TZID=America/New_York:20211102T100000
DTEND;TZID=America/New_York:20211102T140000
DTSTAMP:20260421T130431
CREATED:20210620T161100Z
LAST-MODIFIED:20210620T161100Z
UID:10002410-1635847200-1635861600@www.hitchcockcenter.org
SUMMARY:Homeschool II: Connections - Where Does it Come From?
DESCRIPTION:In such a product oriented society\, it is easy to lose connection with how things are made and the origins of our resources. While researching the path of product production we are able to see first hand the energy that goes into making each product. With games\, crafts\, special guests\, home projects and field trips we will develop an appreciation for the resources\, time and energy used to make products that we use daily. \nWith Jeff Mazur\nGrades 4-6\, Ages 9-12\nTuesdays 10:00am – 2:00 pm\nSeptember 14 -December 7 (No program September 28\, October 19\, and November 23 for Discovery Days)\nTier A:$768 | Tier B:$615 | Tier C:$461 | Tier D:$308\nLimited to 12 participants (if over enrolled\, we may open a second class on Thursdays)
URL:https://www.hitchcockcenter.org/event/homeschool-ii-connections-where-does-it-come-from-16/
CATEGORIES:Ages 9–11 or Grades 4–6
END:VEVENT
BEGIN:VEVENT
DTSTART;TZID=America/New_York:20211109T100000
DTEND;TZID=America/New_York:20211109T140000
DTSTAMP:20260421T130431
CREATED:20210620T161208Z
LAST-MODIFIED:20210620T161208Z
UID:10002411-1636452000-1636466400@www.hitchcockcenter.org
SUMMARY:Homeschool II: Connections - Where Does it Come From?
DESCRIPTION:In such a product oriented society\, it is easy to lose connection with how things are made and the origins of our resources. While researching the path of product production we are able to see first hand the energy that goes into making each product. With games\, crafts\, special guests\, home projects and field trips we will develop an appreciation for the resources\, time and energy used to make products that we use daily. \nWith Jeff Mazur\nGrades 4-6\, Ages 9-12\nTuesdays 10:00am – 2:00 pm\nSeptember 14 -December 7 (No program September 28\, October 19\, and November 23 for Discovery Days)\nTier A:$768 | Tier B:$615 | Tier C:$461 | Tier D:$308\nLimited to 12 participants (if over enrolled\, we may open a second class on Thursdays)
URL:https://www.hitchcockcenter.org/event/homeschool-ii-connections-where-does-it-come-from-17/
CATEGORIES:Ages 9–11 or Grades 4–6
END:VEVENT
BEGIN:VEVENT
DTSTART;TZID=America/New_York:20211116T100000
DTEND;TZID=America/New_York:20211116T140000
DTSTAMP:20260421T130431
CREATED:20210620T161307Z
LAST-MODIFIED:20210620T161307Z
UID:10002412-1637056800-1637071200@www.hitchcockcenter.org
SUMMARY:Homeschool II: Connections - Where Does it Come From?
DESCRIPTION:In such a product oriented society\, it is easy to lose connection with how things are made and the origins of our resources. While researching the path of product production we are able to see first hand the energy that goes into making each product. With games\, crafts\, special guests\, home projects and field trips we will develop an appreciation for the resources\, time and energy used to make products that we use daily. \nWith Jeff Mazur\nGrades 4-6\, Ages 9-12\nTuesdays 10:00am – 2:00 pm\nSeptember 14 -December 7 (No program September 28\, October 19\, and November 23 for Discovery Days)\nTier A:$768 | Tier B:$615 | Tier C:$461 | Tier D:$308\nLimited to 12 participants (if over enrolled\, we may open a second class on Thursdays)
URL:https://www.hitchcockcenter.org/event/homeschool-ii-connections-where-does-it-come-from-18/
CATEGORIES:Ages 9–11 or Grades 4–6
END:VEVENT
BEGIN:VEVENT
DTSTART;TZID=America/New_York:20211130T100000
DTEND;TZID=America/New_York:20211130T140000
DTSTAMP:20260421T130431
CREATED:20210620T161419Z
LAST-MODIFIED:20210620T161419Z
UID:10002413-1638266400-1638280800@www.hitchcockcenter.org
SUMMARY:Homeschool II: Connections - Where Does it Come From?
DESCRIPTION:In such a product oriented society\, it is easy to lose connection with how things are made and the origins of our resources. While researching the path of product production we are able to see first hand the energy that goes into making each product. With games\, crafts\, special guests\, home projects and field trips we will develop an appreciation for the resources\, time and energy used to make products that we use daily. \nWith Jeff Mazur\nGrades 4-6\, Ages 9-12\nTuesdays 10:00am – 2:00 pm\nSeptember 14 -December 7 (No program September 28\, October 19\, and November 23 for Discovery Days)\nTier A:$768 | Tier B:$615 | Tier C:$461 | Tier D:$308\nLimited to 12 participants (if over enrolled\, we may open a second class on Thursdays)
URL:https://www.hitchcockcenter.org/event/homeschool-ii-connections-where-does-it-come-from-19/
CATEGORIES:Ages 9–11 or Grades 4–6
END:VEVENT
END:VCALENDAR