BEGIN:VCALENDAR
VERSION:2.0
PRODID:-//Hitchcock Center for the Environment - ECPv6.15.18//NONSGML v1.0//EN
CALSCALE:GREGORIAN
METHOD:PUBLISH
X-ORIGINAL-URL:https://www.hitchcockcenter.org
X-WR-CALDESC:Events for Hitchcock Center for the Environment
REFRESH-INTERVAL;VALUE=DURATION:PT1H
X-Robots-Tag:noindex
X-PUBLISHED-TTL:PT1H
BEGIN:VTIMEZONE
TZID:America/New_York
BEGIN:DAYLIGHT
TZOFFSETFROM:-0500
TZOFFSETTO:-0400
TZNAME:EDT
DTSTART:20210314T070000
END:DAYLIGHT
BEGIN:STANDARD
TZOFFSETFROM:-0400
TZOFFSETTO:-0500
TZNAME:EST
DTSTART:20211107T060000
END:STANDARD
BEGIN:DAYLIGHT
TZOFFSETFROM:-0500
TZOFFSETTO:-0400
TZNAME:EDT
DTSTART:20220313T070000
END:DAYLIGHT
BEGIN:STANDARD
TZOFFSETFROM:-0400
TZOFFSETTO:-0500
TZNAME:EST
DTSTART:20221106T060000
END:STANDARD
BEGIN:DAYLIGHT
TZOFFSETFROM:-0500
TZOFFSETTO:-0400
TZNAME:EDT
DTSTART:20230312T070000
END:DAYLIGHT
BEGIN:STANDARD
TZOFFSETFROM:-0400
TZOFFSETTO:-0500
TZNAME:EST
DTSTART:20231105T060000
END:STANDARD
END:VTIMEZONE
BEGIN:VEVENT
DTSTART;TZID=America/New_York:20220308T100000
DTEND;TZID=America/New_York:20220308T140000
DTSTAMP:20260421T082227
CREATED:20211118T152925Z
LAST-MODIFIED:20211118T152925Z
UID:10002585-1646733600-1646748000@www.hitchcockcenter.org
SUMMARY:Homeschool II: Biologists in Training
DESCRIPTION:In this evolving weekly homeschool class\, we will become biologists\, learning more about the life all around us. We will explore life in all sorts of ways – from using a microscope\, to venturing into different habitats. We will discover what is underfoot\, in the water\, or growing right before our eyes. With games\, experiments\, special guests\, home projects and field trips we will have close encounters with different types of living creatures and learn how they survive and thrive. Non-refundable within a week of the start of the program; all refunds incur a 10% administrative fee. \nWith Jeff Mazur\nGrades 4-6\, Ages 9-12\nTuesdays 10:00am – 2:00 pm\nMarch 8 – June 7 (No program Mar 15\, Apr 26\, and May 24 for Discovery Days\, no class April 19 for April Vacation Week)\nTier A: $732 Tier B:$586 Tier C:$439 Tier
URL:https://www.hitchcockcenter.org/event/homeschool-ii-biologists-in-training-10/
CATEGORIES:Ages 9–11 or Grades 4–6
END:VEVENT
BEGIN:VEVENT
DTSTART;TZID=America/New_York:20220322T100000
DTEND;TZID=America/New_York:20220322T140000
DTSTAMP:20260421T082227
CREATED:20211118T152821Z
LAST-MODIFIED:20211118T152821Z
UID:10002584-1647943200-1647957600@www.hitchcockcenter.org
SUMMARY:Homeschool II: Biologists in Training
DESCRIPTION:In this evolving weekly homeschool class\, we will become biologists\, learning more about the life all around us. We will explore life in all sorts of ways – from using a microscope\, to venturing into different habitats. We will discover what is underfoot\, in the water\, or growing right before our eyes. With games\, experiments\, special guests\, home projects and field trips we will have close encounters with different types of living creatures and learn how they survive and thrive. Non-refundable within a week of the start of the program; all refunds incur a 10% administrative fee. \nWith Jeff Mazur\nGrades 4-6\, Ages 9-12\nTuesdays 10:00am – 2:00 pm\nMarch 8 – June 7 (No program Mar 15\, Apr 26\, and May 24 for Discovery Days\, no class April 19 for April Vacation Week)\nTier A: $732 Tier B:$586 Tier C:$439 Tier D:$293\nLimited to 12 participants
URL:https://www.hitchcockcenter.org/event/homeschool-ii-biologists-in-training-9/
CATEGORIES:Ages 9–11 or Grades 4–6
END:VEVENT
BEGIN:VEVENT
DTSTART;TZID=America/New_York:20220329T100000
DTEND;TZID=America/New_York:20220329T140000
DTSTAMP:20260421T082227
CREATED:20211118T152722Z
LAST-MODIFIED:20211118T152722Z
UID:10002583-1648548000-1648562400@www.hitchcockcenter.org
SUMMARY:Homeschool II: Biologists in Training
DESCRIPTION:In this evolving weekly homeschool class\, we will become biologists\, learning more about the life all around us. We will explore life in all sorts of ways – from using a microscope\, to venturing into different habitats. We will discover what is underfoot\, in the water\, or growing right before our eyes. With games\, experiments\, special guests\, home projects and field trips we will have close encounters with different types of living creatures and learn how they survive and thrive. Non-refundable within a week of the start of the program; all refunds incur a 10% administrative fee. \nWith Jeff Mazur\nGrades 4-6\, Ages 9-12\nTuesdays 10:00am – 2:00 pm\nMarch 8 – June 7 (No program Mar 15\, Apr 26\, and May 24 for Discovery Days\, no class April 19 for April Vacation Week)\nTier A: $732 Tier B:$586 Tier C:$439 Tier D:$293\nLimited to 12 participants
URL:https://www.hitchcockcenter.org/event/homeschool-ii-biologists-in-training-8/
CATEGORIES:Ages 9–11 or Grades 4–6
END:VEVENT
END:VCALENDAR