BEGIN:VCALENDAR
VERSION:2.0
PRODID:-//Hitchcock Center for the Environment - ECPv6.15.18//NONSGML v1.0//EN
CALSCALE:GREGORIAN
METHOD:PUBLISH
X-ORIGINAL-URL:https://www.hitchcockcenter.org
X-WR-CALDESC:Events for Hitchcock Center for the Environment
REFRESH-INTERVAL;VALUE=DURATION:PT1H
X-Robots-Tag:noindex
X-PUBLISHED-TTL:PT1H
BEGIN:VTIMEZONE
TZID:America/New_York
BEGIN:DAYLIGHT
TZOFFSETFROM:-0500
TZOFFSETTO:-0400
TZNAME:EDT
DTSTART:20210314T070000
END:DAYLIGHT
BEGIN:STANDARD
TZOFFSETFROM:-0400
TZOFFSETTO:-0500
TZNAME:EST
DTSTART:20211107T060000
END:STANDARD
BEGIN:DAYLIGHT
TZOFFSETFROM:-0500
TZOFFSETTO:-0400
TZNAME:EDT
DTSTART:20220313T070000
END:DAYLIGHT
BEGIN:STANDARD
TZOFFSETFROM:-0400
TZOFFSETTO:-0500
TZNAME:EST
DTSTART:20221106T060000
END:STANDARD
BEGIN:DAYLIGHT
TZOFFSETFROM:-0500
TZOFFSETTO:-0400
TZNAME:EDT
DTSTART:20230312T070000
END:DAYLIGHT
BEGIN:STANDARD
TZOFFSETFROM:-0400
TZOFFSETTO:-0500
TZNAME:EST
DTSTART:20231105T060000
END:STANDARD
END:VTIMEZONE
BEGIN:VEVENT
DTSTART;TZID=America/New_York:20221101T100000
DTEND;TZID=America/New_York:20221101T140000
DTSTAMP:20260420T224246
CREATED:20220616T174812Z
LAST-MODIFIED:20220616T174812Z
UID:10002886-1667296800-1667311200@www.hitchcockcenter.org
SUMMARY:Homeschool II: Community Science
DESCRIPTION:With Jeff Mazur\nGrades 4-6\, Ages 9-12 \nTuesdays 10:00am – 2:00 pm \nSeptember 13 -December 13  (No program September 27\, October 18\, and November 22 for Discovery Days and November 8 for Curriculum Day) \nTier A:$747 Tier B:$649 Tier C:$552 Tier D:$422 \nCalling all future scientists! Community scientists are people — young or old — who help collect data for research projects conducted around the world. We will work with local researchers and on national science projects collecting data that matters!  Areas that we will investigate include – Climate change’s impact on when leaves fall? Monarch migration? What is living in our streams and more! Bring your scientific mind\, observation skills and unique perspective to our class. Through field visits\, surveys\, and special guests we will study the world around us and contribute to science while also having fun\, exploring and playing games.
URL:https://www.hitchcockcenter.org/event/homeschool-ii-community-science-6/
CATEGORIES:Ages 9–11 or Grades 4–6
END:VEVENT
BEGIN:VEVENT
DTSTART;VALUE=DATE:20221111
DTEND;VALUE=DATE:20221112
DTSTAMP:20260420T224246
CREATED:20221103T192955Z
LAST-MODIFIED:20221103T193045Z
UID:10003050-1668124800-1668211199@www.hitchcockcenter.org
SUMMARY:Closed - Veteran's Day
DESCRIPTION:The Hitchcock Center is closed on Veteran’s Day
URL:https://www.hitchcockcenter.org/event/closed-veterans-day/
CATEGORIES:Adult Programs,Ages 12-15 or Grades 7-9,Ages 3–5 or Grade Pre-K,Ages 5–8 or Grades K–3,Ages 5–8/Grades K–3 or Ages 9–11/Grades 4–6,Ages 9–11 or Grades 4–6,Family Programs
END:VEVENT
BEGIN:VEVENT
DTSTART;TZID=America/New_York:20221115T100000
DTEND;TZID=America/New_York:20221115T140000
DTSTAMP:20260420T224246
CREATED:20220616T174859Z
LAST-MODIFIED:20220616T174859Z
UID:10002887-1668506400-1668520800@www.hitchcockcenter.org
SUMMARY:Homeschool II: Community Science
DESCRIPTION:With Jeff Mazur\nGrades 4-6\, Ages 9-12 \nTuesdays 10:00am – 2:00 pm \nSeptember 13 -December 13  (No program September 27\, October 18\, and November 22 for Discovery Days and November 8 for Curriculum Day) \nTier A:$747 Tier B:$649 Tier C:$552 Tier D:$422 \nCalling all future scientists! Community scientists are people — young or old — who help collect data for research projects conducted around the world. We will work with local researchers and on national science projects collecting data that matters!  Areas that we will investigate include – Climate change’s impact on when leaves fall? Monarch migration? What is living in our streams and more! Bring your scientific mind\, observation skills and unique perspective to our class. Through field visits\, surveys\, and special guests we will study the world around us and contribute to science while also having fun\, exploring and playing games.
URL:https://www.hitchcockcenter.org/event/homeschool-ii-community-science-7/
CATEGORIES:Ages 9–11 or Grades 4–6
END:VEVENT
BEGIN:VEVENT
DTSTART;VALUE=DATE:20221124
DTEND;VALUE=DATE:20221125
DTSTAMP:20260420T224246
CREATED:20221103T193408Z
LAST-MODIFIED:20221103T193408Z
UID:10003051-1669248000-1669334399@www.hitchcockcenter.org
SUMMARY:Closed - Thanksgiving
DESCRIPTION:The Hitchcock Center is closed on Thanksgiving
URL:https://www.hitchcockcenter.org/event/closed-thanksgiving/
CATEGORIES:Adult Programs,Ages 12-15 or Grades 7-9,Ages 3–5 or Grade Pre-K,Ages 5–8 or Grades K–3,Ages 5–8/Grades K–3 or Ages 9–11/Grades 4–6,Ages 9–11 or Grades 4–6,Family Programs
END:VEVENT
BEGIN:VEVENT
DTSTART;TZID=America/New_York:20221129T100000
DTEND;TZID=America/New_York:20221129T140000
DTSTAMP:20260420T224246
CREATED:20220616T174939Z
LAST-MODIFIED:20220616T174939Z
UID:10002888-1669716000-1669730400@www.hitchcockcenter.org
SUMMARY:Homeschool II: Community Science
DESCRIPTION:With Jeff Mazur\nGrades 4-6\, Ages 9-12 \nTuesdays 10:00am – 2:00 pm \nSeptember 13 -December 13  (No program September 27\, October 18\, and November 22 for Discovery Days and November 8 for Curriculum Day) \nTier A:$747 Tier B:$649 Tier C:$552 Tier D:$422 \nCalling all future scientists! Community scientists are people — young or old — who help collect data for research projects conducted around the world. We will work with local researchers and on national science projects collecting data that matters!  Areas that we will investigate include – Climate change’s impact on when leaves fall? Monarch migration? What is living in our streams and more! Bring your scientific mind\, observation skills and unique perspective to our class. Through field visits\, surveys\, and special guests we will study the world around us and contribute to science while also having fun\, exploring and playing games.
URL:https://www.hitchcockcenter.org/event/homeschool-ii-community-science-8/
CATEGORIES:Ages 9–11 or Grades 4–6
END:VEVENT
END:VCALENDAR