BEGIN:VCALENDAR
VERSION:2.0
PRODID:-//Hitchcock Center for the Environment - ECPv6.15.18//NONSGML v1.0//EN
CALSCALE:GREGORIAN
METHOD:PUBLISH
X-ORIGINAL-URL:https://www.hitchcockcenter.org
X-WR-CALDESC:Events for Hitchcock Center for the Environment
REFRESH-INTERVAL;VALUE=DURATION:PT1H
X-Robots-Tag:noindex
X-PUBLISHED-TTL:PT1H
BEGIN:VTIMEZONE
TZID:America/New_York
BEGIN:DAYLIGHT
TZOFFSETFROM:-0500
TZOFFSETTO:-0400
TZNAME:EDT
DTSTART:20220313T070000
END:DAYLIGHT
BEGIN:STANDARD
TZOFFSETFROM:-0400
TZOFFSETTO:-0500
TZNAME:EST
DTSTART:20221106T060000
END:STANDARD
BEGIN:DAYLIGHT
TZOFFSETFROM:-0500
TZOFFSETTO:-0400
TZNAME:EDT
DTSTART:20230312T070000
END:DAYLIGHT
BEGIN:STANDARD
TZOFFSETFROM:-0400
TZOFFSETTO:-0500
TZNAME:EST
DTSTART:20231105T060000
END:STANDARD
BEGIN:DAYLIGHT
TZOFFSETFROM:-0500
TZOFFSETTO:-0400
TZNAME:EDT
DTSTART:20240310T070000
END:DAYLIGHT
BEGIN:STANDARD
TZOFFSETFROM:-0400
TZOFFSETTO:-0500
TZNAME:EST
DTSTART:20241103T060000
END:STANDARD
END:VTIMEZONE
BEGIN:VEVENT
DTSTART;TZID=America/New_York:20230404T100000
DTEND;TZID=America/New_York:20230404T140000
DTSTAMP:20260420T171757
CREATED:20221121T070241Z
LAST-MODIFIED:20221121T070241Z
UID:10003133-1680602400-1680616800@www.hitchcockcenter.org
SUMMARY:Homeschool II: Rocks and Water
DESCRIPTION:HOMESCHOOL II: ROCKS AND WATER: THE SHAPING OF OUR VALLEY \nWith Jeff Mazur\nGrades 4-6\, Ages 9-12\nTuesdays 10:00am – 2:00 pm\nMarch 7 – May 30\n(No program Mar 14\, Apr 11 for Discovery Days\, no class April 18 for April Vacation Week)\nTier A: $757 Tier B:$658 Tier C:$560 Tier D:$428\nLimited to 13 participants \nWe will start at the beginning\, the very beginning – the Big Bang\, and travel through time discovering how the earth was formed\, our continent shaped\, and end with where we are today. We will explore the geological and erosional forces that shaped the valley together. This class will be filled with field trips to explore mountains and caves\, games\, journaling\, home projects and more. Together we will develop an appreciation for some of the beautiful parts of our valley as well as how it was formed.\nNon-refundable within a week of the start of the program; all refunds incur a 10% administrative fee.
URL:https://www.hitchcockcenter.org/event/homeschool-ii-rocks-and-water/2023-04-04/
LOCATION:Hitchcock Center for the Environment\, 845 West Street\, Amherst\, MA\, 01002
CATEGORIES:Ages 9–11 or Grades 4–6
END:VEVENT
BEGIN:VEVENT
DTSTART;TZID=America/New_York:20230425T100000
DTEND;TZID=America/New_York:20230425T140000
DTSTAMP:20260420T171757
CREATED:20221121T070241Z
LAST-MODIFIED:20221121T070241Z
UID:10003134-1682416800-1682431200@www.hitchcockcenter.org
SUMMARY:Homeschool II: Rocks and Water
DESCRIPTION:HOMESCHOOL II: ROCKS AND WATER: THE SHAPING OF OUR VALLEY \nWith Jeff Mazur\nGrades 4-6\, Ages 9-12\nTuesdays 10:00am – 2:00 pm\nMarch 7 – May 30\n(No program Mar 14\, Apr 11 for Discovery Days\, no class April 18 for April Vacation Week)\nTier A: $757 Tier B:$658 Tier C:$560 Tier D:$428\nLimited to 13 participants \nWe will start at the beginning\, the very beginning – the Big Bang\, and travel through time discovering how the earth was formed\, our continent shaped\, and end with where we are today. We will explore the geological and erosional forces that shaped the valley together. This class will be filled with field trips to explore mountains and caves\, games\, journaling\, home projects and more. Together we will develop an appreciation for some of the beautiful parts of our valley as well as how it was formed.\nNon-refundable within a week of the start of the program; all refunds incur a 10% administrative fee.
URL:https://www.hitchcockcenter.org/event/homeschool-ii-rocks-and-water/2023-04-25/
LOCATION:Hitchcock Center for the Environment\, 845 West Street\, Amherst\, MA\, 01002
CATEGORIES:Ages 9–11 or Grades 4–6
END:VEVENT
END:VCALENDAR