BEGIN:VCALENDAR
VERSION:2.0
PRODID:-//Hitchcock Center for the Environment - ECPv6.15.18//NONSGML v1.0//EN
CALSCALE:GREGORIAN
METHOD:PUBLISH
X-WR-CALNAME:Hitchcock Center for the Environment
X-ORIGINAL-URL:https://www.hitchcockcenter.org
X-WR-CALDESC:Events for Hitchcock Center for the Environment
REFRESH-INTERVAL;VALUE=DURATION:PT1H
X-Robots-Tag:noindex
X-PUBLISHED-TTL:PT1H
BEGIN:VTIMEZONE
TZID:America/New_York
BEGIN:DAYLIGHT
TZOFFSETFROM:-0500
TZOFFSETTO:-0400
TZNAME:EDT
DTSTART:20220313T070000
END:DAYLIGHT
BEGIN:STANDARD
TZOFFSETFROM:-0400
TZOFFSETTO:-0500
TZNAME:EST
DTSTART:20221106T060000
END:STANDARD
BEGIN:DAYLIGHT
TZOFFSETFROM:-0500
TZOFFSETTO:-0400
TZNAME:EDT
DTSTART:20230312T070000
END:DAYLIGHT
BEGIN:STANDARD
TZOFFSETFROM:-0400
TZOFFSETTO:-0500
TZNAME:EST
DTSTART:20231105T060000
END:STANDARD
BEGIN:DAYLIGHT
TZOFFSETFROM:-0500
TZOFFSETTO:-0400
TZNAME:EDT
DTSTART:20240310T070000
END:DAYLIGHT
BEGIN:STANDARD
TZOFFSETFROM:-0400
TZOFFSETTO:-0500
TZNAME:EST
DTSTART:20241103T060000
END:STANDARD
END:VTIMEZONE
BEGIN:VEVENT
DTSTART;TZID=America/New_York:20231003T100000
DTEND;TZID=America/New_York:20231003T140000
DTSTAMP:20260420T104356
CREATED:20230531T194645Z
LAST-MODIFIED:20230531T194645Z
UID:10003436-1696327200-1696341600@www.hitchcockcenter.org
SUMMARY:Homeschool II: Outdoor Skills and Exploration
DESCRIPTION:Homeschool II: Outdoor Skills and Exploration \nWith Jeff Mazur\nGrades 4-6\, Ages 9-12\nTuesdays 10:00am – 2:00 pm\nSeptember 12 -December 5  (No program September 26\, November 21\, and December 12 for Discovery Days and November 7th for Curriculum Day)\nTier A:$781 Tier B:$651 Tier C:$553 Tier D:$423\nLimited to 12 participants (if over enrolled\, we may open a second class on Thursdays) \nJoin us as we explore the woods of Hampshire College Campus and other beautiful areas in and around Amherst.  During this series\, we will build our wilderness skills and overcome challenges together. As we enter into our own survival story\, we will need to develop skills to help us to survive\, such as\,  orienteering\, fire building\, shelter making\, plant identification\, tracking\, and more! This class will also have time built in for free play\, journal time to reflect on our experiences and organized games. For this class there may be drop off and pick up locations at the Hitchcock Center\, or within a 20 minute drive from the Center.
URL:https://www.hitchcockcenter.org/event/homeschool-ii-outdoor-skills-and-exploration/2023-10-03/
CATEGORIES:Ages 9–11 or Grades 4–6
END:VEVENT
BEGIN:VEVENT
DTSTART;TZID=America/New_York:20231010T100000
DTEND;TZID=America/New_York:20231010T140000
DTSTAMP:20260420T104356
CREATED:20230531T194645Z
LAST-MODIFIED:20230531T194645Z
UID:10003437-1696932000-1696946400@www.hitchcockcenter.org
SUMMARY:Homeschool II: Outdoor Skills and Exploration
DESCRIPTION:Homeschool II: Outdoor Skills and Exploration \nWith Jeff Mazur\nGrades 4-6\, Ages 9-12\nTuesdays 10:00am – 2:00 pm\nSeptember 12 -December 5  (No program September 26\, November 21\, and December 12 for Discovery Days and November 7th for Curriculum Day)\nTier A:$781 Tier B:$651 Tier C:$553 Tier D:$423\nLimited to 12 participants (if over enrolled\, we may open a second class on Thursdays) \nJoin us as we explore the woods of Hampshire College Campus and other beautiful areas in and around Amherst.  During this series\, we will build our wilderness skills and overcome challenges together. As we enter into our own survival story\, we will need to develop skills to help us to survive\, such as\,  orienteering\, fire building\, shelter making\, plant identification\, tracking\, and more! This class will also have time built in for free play\, journal time to reflect on our experiences and organized games. For this class there may be drop off and pick up locations at the Hitchcock Center\, or within a 20 minute drive from the Center.
URL:https://www.hitchcockcenter.org/event/homeschool-ii-outdoor-skills-and-exploration/2023-10-10/
CATEGORIES:Ages 9–11 or Grades 4–6
END:VEVENT
BEGIN:VEVENT
DTSTART;TZID=America/New_York:20231017T100000
DTEND;TZID=America/New_York:20231017T140000
DTSTAMP:20260420T104356
CREATED:20230531T194645Z
LAST-MODIFIED:20230531T194645Z
UID:10003438-1697536800-1697551200@www.hitchcockcenter.org
SUMMARY:Homeschool II: Outdoor Skills and Exploration
DESCRIPTION:Homeschool II: Outdoor Skills and Exploration \nWith Jeff Mazur\nGrades 4-6\, Ages 9-12\nTuesdays 10:00am – 2:00 pm\nSeptember 12 -December 5  (No program September 26\, November 21\, and December 12 for Discovery Days and November 7th for Curriculum Day)\nTier A:$781 Tier B:$651 Tier C:$553 Tier D:$423\nLimited to 12 participants (if over enrolled\, we may open a second class on Thursdays) \nJoin us as we explore the woods of Hampshire College Campus and other beautiful areas in and around Amherst.  During this series\, we will build our wilderness skills and overcome challenges together. As we enter into our own survival story\, we will need to develop skills to help us to survive\, such as\,  orienteering\, fire building\, shelter making\, plant identification\, tracking\, and more! This class will also have time built in for free play\, journal time to reflect on our experiences and organized games. For this class there may be drop off and pick up locations at the Hitchcock Center\, or within a 20 minute drive from the Center.
URL:https://www.hitchcockcenter.org/event/homeschool-ii-outdoor-skills-and-exploration/2023-10-17/
CATEGORIES:Ages 9–11 or Grades 4–6
END:VEVENT
BEGIN:VEVENT
DTSTART;TZID=America/New_York:20231024T100000
DTEND;TZID=America/New_York:20231024T140000
DTSTAMP:20260420T104356
CREATED:20230531T194645Z
LAST-MODIFIED:20230531T194645Z
UID:10003439-1698141600-1698156000@www.hitchcockcenter.org
SUMMARY:Homeschool II: Outdoor Skills and Exploration
DESCRIPTION:Homeschool II: Outdoor Skills and Exploration \nWith Jeff Mazur\nGrades 4-6\, Ages 9-12\nTuesdays 10:00am – 2:00 pm\nSeptember 12 -December 5  (No program September 26\, November 21\, and December 12 for Discovery Days and November 7th for Curriculum Day)\nTier A:$781 Tier B:$651 Tier C:$553 Tier D:$423\nLimited to 12 participants (if over enrolled\, we may open a second class on Thursdays) \nJoin us as we explore the woods of Hampshire College Campus and other beautiful areas in and around Amherst.  During this series\, we will build our wilderness skills and overcome challenges together. As we enter into our own survival story\, we will need to develop skills to help us to survive\, such as\,  orienteering\, fire building\, shelter making\, plant identification\, tracking\, and more! This class will also have time built in for free play\, journal time to reflect on our experiences and organized games. For this class there may be drop off and pick up locations at the Hitchcock Center\, or within a 20 minute drive from the Center.
URL:https://www.hitchcockcenter.org/event/homeschool-ii-outdoor-skills-and-exploration/2023-10-24/
CATEGORIES:Ages 9–11 or Grades 4–6
END:VEVENT
BEGIN:VEVENT
DTSTART;TZID=America/New_York:20231031T100000
DTEND;TZID=America/New_York:20231031T140000
DTSTAMP:20260420T104356
CREATED:20230531T194645Z
LAST-MODIFIED:20230531T194645Z
UID:10003440-1698746400-1698760800@www.hitchcockcenter.org
SUMMARY:Homeschool II: Outdoor Skills and Exploration
DESCRIPTION:Homeschool II: Outdoor Skills and Exploration \nWith Jeff Mazur\nGrades 4-6\, Ages 9-12\nTuesdays 10:00am – 2:00 pm\nSeptember 12 -December 5  (No program September 26\, November 21\, and December 12 for Discovery Days and November 7th for Curriculum Day)\nTier A:$781 Tier B:$651 Tier C:$553 Tier D:$423\nLimited to 12 participants (if over enrolled\, we may open a second class on Thursdays) \nJoin us as we explore the woods of Hampshire College Campus and other beautiful areas in and around Amherst.  During this series\, we will build our wilderness skills and overcome challenges together. As we enter into our own survival story\, we will need to develop skills to help us to survive\, such as\,  orienteering\, fire building\, shelter making\, plant identification\, tracking\, and more! This class will also have time built in for free play\, journal time to reflect on our experiences and organized games. For this class there may be drop off and pick up locations at the Hitchcock Center\, or within a 20 minute drive from the Center.
URL:https://www.hitchcockcenter.org/event/homeschool-ii-outdoor-skills-and-exploration/2023-10-31/
CATEGORIES:Ages 9–11 or Grades 4–6
END:VEVENT
END:VCALENDAR