BEGIN:VCALENDAR
VERSION:2.0
PRODID:-//Hitchcock Center for the Environment - ECPv6.15.18//NONSGML v1.0//EN
CALSCALE:GREGORIAN
METHOD:PUBLISH
X-WR-CALNAME:Hitchcock Center for the Environment
X-ORIGINAL-URL:https://www.hitchcockcenter.org
X-WR-CALDESC:Events for Hitchcock Center for the Environment
REFRESH-INTERVAL;VALUE=DURATION:PT1H
X-Robots-Tag:noindex
X-PUBLISHED-TTL:PT1H
BEGIN:VTIMEZONE
TZID:America/New_York
BEGIN:DAYLIGHT
TZOFFSETFROM:-0500
TZOFFSETTO:-0400
TZNAME:EDT
DTSTART:20230312T070000
END:DAYLIGHT
BEGIN:STANDARD
TZOFFSETFROM:-0400
TZOFFSETTO:-0500
TZNAME:EST
DTSTART:20231105T060000
END:STANDARD
BEGIN:DAYLIGHT
TZOFFSETFROM:-0500
TZOFFSETTO:-0400
TZNAME:EDT
DTSTART:20240310T070000
END:DAYLIGHT
BEGIN:STANDARD
TZOFFSETFROM:-0400
TZOFFSETTO:-0500
TZNAME:EST
DTSTART:20241103T060000
END:STANDARD
BEGIN:DAYLIGHT
TZOFFSETFROM:-0500
TZOFFSETTO:-0400
TZNAME:EDT
DTSTART:20250309T070000
END:DAYLIGHT
BEGIN:STANDARD
TZOFFSETFROM:-0400
TZOFFSETTO:-0500
TZNAME:EST
DTSTART:20251102T060000
END:STANDARD
END:VTIMEZONE
BEGIN:VEVENT
DTSTART;TZID=America/New_York:20240201T153000
DTEND;TZID=America/New_York:20240201T173000
DTSTAMP:20260420T060358
CREATED:20231110T210521Z
LAST-MODIFIED:20231110T210521Z
UID:10003776-1706801400-1706808600@www.hitchcockcenter.org
SUMMARY:Girls into the Wild: Winter
DESCRIPTION:Girls into the Wild: Winter \nwith Katie Koerten\nGrades 4 – 6\nThursdays\, 3:30 PM – 5:30 PM\nJanuary 4 – March 14 (no program February 22)\nFee per Child: Tier A-$314 | Tier B-$261 | Tier C-$222  | Tier D-$170\nLimited to 12 participants \nJoin us in winter 2024 for more romping wildly through the fields and forests of the Hitchcock Center. As always we’ll visit our favorite places to play in the forest\, such as Stump City\, the Forest Garden\, and the Faraway Woods – exploring the seasonal beauty of nature as we go. Play games\, make friends\, and create nature projects outdoors! Come build your confidence and show your wild side! Any young people with an experience of gender marginalization are welcome.
URL:https://www.hitchcockcenter.org/event/girls-into-the-wild-winter/2024-02-01/
CATEGORIES:Ages 9–11 or Grades 4–6
END:VEVENT
BEGIN:VEVENT
DTSTART;TZID=America/New_York:20240204T153000
DTEND;TZID=America/New_York:20240204T173000
DTSTAMP:20260420T060358
CREATED:20240606T200819Z
LAST-MODIFIED:20240606T200821Z
UID:10004175-1707060600-1707067800@www.hitchcockcenter.org
SUMMARY:Girls into the Wild
DESCRIPTION:with Katie Koerten\nGrades 4 – 6\nTuesdays\, 3:30 – 5:30 PM\nSeptember 3 – December 17 (no program November 5)\nFee per Child: Tier A-$453 | Tier B-$378 | Tier C-$321  | Tier D-$245\nLimited to 12 participants \nGirls into the Wild is back in Fall 2024 for more romping wildly through the field and forests of the Hitchcock Center with Katie! As always we’ll visit our favorite places to play in the forest\, such as Stump City\, the Ferns\, and the Faraway Woods – exploring the seasonal beauty of nature as we go. Play games\, make friends\, and create nature projects outdoors! Come build your confidence and show your wild side! Genderqueer\, nonbinary\, agender and trans young people are welcome.
URL:https://www.hitchcockcenter.org/event/girls-into-the-wild-131-2/2024-02-04/
CATEGORIES:Ages 9–11 or Grades 4–6
END:VEVENT
BEGIN:VEVENT
DTSTART;TZID=America/New_York:20240208T153000
DTEND;TZID=America/New_York:20240208T173000
DTSTAMP:20260420T060358
CREATED:20231110T210521Z
LAST-MODIFIED:20231110T210521Z
UID:10003777-1707406200-1707413400@www.hitchcockcenter.org
SUMMARY:Girls into the Wild: Winter
DESCRIPTION:Girls into the Wild: Winter \nwith Katie Koerten\nGrades 4 – 6\nThursdays\, 3:30 PM – 5:30 PM\nJanuary 4 – March 14 (no program February 22)\nFee per Child: Tier A-$314 | Tier B-$261 | Tier C-$222  | Tier D-$170\nLimited to 12 participants \nJoin us in winter 2024 for more romping wildly through the fields and forests of the Hitchcock Center. As always we’ll visit our favorite places to play in the forest\, such as Stump City\, the Forest Garden\, and the Faraway Woods – exploring the seasonal beauty of nature as we go. Play games\, make friends\, and create nature projects outdoors! Come build your confidence and show your wild side! Any young people with an experience of gender marginalization are welcome.
URL:https://www.hitchcockcenter.org/event/girls-into-the-wild-winter/2024-02-08/
CATEGORIES:Ages 9–11 or Grades 4–6
END:VEVENT
BEGIN:VEVENT
DTSTART;TZID=America/New_York:20240211T153000
DTEND;TZID=America/New_York:20240211T173000
DTSTAMP:20260420T060358
CREATED:20240606T200819Z
LAST-MODIFIED:20240606T200821Z
UID:10004176-1707665400-1707672600@www.hitchcockcenter.org
SUMMARY:Girls into the Wild
DESCRIPTION:with Katie Koerten\nGrades 4 – 6\nTuesdays\, 3:30 – 5:30 PM\nSeptember 3 – December 17 (no program November 5)\nFee per Child: Tier A-$453 | Tier B-$378 | Tier C-$321  | Tier D-$245\nLimited to 12 participants \nGirls into the Wild is back in Fall 2024 for more romping wildly through the field and forests of the Hitchcock Center with Katie! As always we’ll visit our favorite places to play in the forest\, such as Stump City\, the Ferns\, and the Faraway Woods – exploring the seasonal beauty of nature as we go. Play games\, make friends\, and create nature projects outdoors! Come build your confidence and show your wild side! Genderqueer\, nonbinary\, agender and trans young people are welcome.
URL:https://www.hitchcockcenter.org/event/girls-into-the-wild-131-2/2024-02-11/
CATEGORIES:Ages 9–11 or Grades 4–6
END:VEVENT
BEGIN:VEVENT
DTSTART;TZID=America/New_York:20240215T153000
DTEND;TZID=America/New_York:20240215T173000
DTSTAMP:20260420T060358
CREATED:20231110T210521Z
LAST-MODIFIED:20231110T210521Z
UID:10003778-1708011000-1708018200@www.hitchcockcenter.org
SUMMARY:Girls into the Wild: Winter
DESCRIPTION:Girls into the Wild: Winter \nwith Katie Koerten\nGrades 4 – 6\nThursdays\, 3:30 PM – 5:30 PM\nJanuary 4 – March 14 (no program February 22)\nFee per Child: Tier A-$314 | Tier B-$261 | Tier C-$222  | Tier D-$170\nLimited to 12 participants \nJoin us in winter 2024 for more romping wildly through the fields and forests of the Hitchcock Center. As always we’ll visit our favorite places to play in the forest\, such as Stump City\, the Forest Garden\, and the Faraway Woods – exploring the seasonal beauty of nature as we go. Play games\, make friends\, and create nature projects outdoors! Come build your confidence and show your wild side! Any young people with an experience of gender marginalization are welcome.
URL:https://www.hitchcockcenter.org/event/girls-into-the-wild-winter/2024-02-15/
CATEGORIES:Ages 9–11 or Grades 4–6
END:VEVENT
BEGIN:VEVENT
DTSTART;TZID=America/New_York:20240218T153000
DTEND;TZID=America/New_York:20240218T173000
DTSTAMP:20260420T060358
CREATED:20240606T200819Z
LAST-MODIFIED:20240606T200821Z
UID:10004177-1708270200-1708277400@www.hitchcockcenter.org
SUMMARY:Girls into the Wild
DESCRIPTION:with Katie Koerten\nGrades 4 – 6\nTuesdays\, 3:30 – 5:30 PM\nSeptember 3 – December 17 (no program November 5)\nFee per Child: Tier A-$453 | Tier B-$378 | Tier C-$321  | Tier D-$245\nLimited to 12 participants \nGirls into the Wild is back in Fall 2024 for more romping wildly through the field and forests of the Hitchcock Center with Katie! As always we’ll visit our favorite places to play in the forest\, such as Stump City\, the Ferns\, and the Faraway Woods – exploring the seasonal beauty of nature as we go. Play games\, make friends\, and create nature projects outdoors! Come build your confidence and show your wild side! Genderqueer\, nonbinary\, agender and trans young people are welcome.
URL:https://www.hitchcockcenter.org/event/girls-into-the-wild-131-2/2024-02-18/
CATEGORIES:Ages 9–11 or Grades 4–6
END:VEVENT
BEGIN:VEVENT
DTSTART;TZID=America/New_York:20240225T153000
DTEND;TZID=America/New_York:20240225T173000
DTSTAMP:20260420T060358
CREATED:20240606T200819Z
LAST-MODIFIED:20240606T200821Z
UID:10004178-1708875000-1708882200@www.hitchcockcenter.org
SUMMARY:Girls into the Wild
DESCRIPTION:with Katie Koerten\nGrades 4 – 6\nTuesdays\, 3:30 – 5:30 PM\nSeptember 3 – December 17 (no program November 5)\nFee per Child: Tier A-$453 | Tier B-$378 | Tier C-$321  | Tier D-$245\nLimited to 12 participants \nGirls into the Wild is back in Fall 2024 for more romping wildly through the field and forests of the Hitchcock Center with Katie! As always we’ll visit our favorite places to play in the forest\, such as Stump City\, the Ferns\, and the Faraway Woods – exploring the seasonal beauty of nature as we go. Play games\, make friends\, and create nature projects outdoors! Come build your confidence and show your wild side! Genderqueer\, nonbinary\, agender and trans young people are welcome.
URL:https://www.hitchcockcenter.org/event/girls-into-the-wild-131-2/2024-02-25/
CATEGORIES:Ages 9–11 or Grades 4–6
END:VEVENT
BEGIN:VEVENT
DTSTART;TZID=America/New_York:20240229T153000
DTEND;TZID=America/New_York:20240229T173000
DTSTAMP:20260420T060358
CREATED:20231110T210521Z
LAST-MODIFIED:20231110T210521Z
UID:10003779-1709220600-1709227800@www.hitchcockcenter.org
SUMMARY:Girls into the Wild: Winter
DESCRIPTION:Girls into the Wild: Winter \nwith Katie Koerten\nGrades 4 – 6\nThursdays\, 3:30 PM – 5:30 PM\nJanuary 4 – March 14 (no program February 22)\nFee per Child: Tier A-$314 | Tier B-$261 | Tier C-$222  | Tier D-$170\nLimited to 12 participants \nJoin us in winter 2024 for more romping wildly through the fields and forests of the Hitchcock Center. As always we’ll visit our favorite places to play in the forest\, such as Stump City\, the Forest Garden\, and the Faraway Woods – exploring the seasonal beauty of nature as we go. Play games\, make friends\, and create nature projects outdoors! Come build your confidence and show your wild side! Any young people with an experience of gender marginalization are welcome.
URL:https://www.hitchcockcenter.org/event/girls-into-the-wild-winter/2024-02-29/
CATEGORIES:Ages 9–11 or Grades 4–6
END:VEVENT
END:VCALENDAR