BEGIN:VCALENDAR
VERSION:2.0
PRODID:-//Hitchcock Center for the Environment - ECPv6.15.18//NONSGML v1.0//EN
CALSCALE:GREGORIAN
METHOD:PUBLISH
X-ORIGINAL-URL:https://www.hitchcockcenter.org
X-WR-CALDESC:Events for Hitchcock Center for the Environment
REFRESH-INTERVAL;VALUE=DURATION:PT1H
X-Robots-Tag:noindex
X-PUBLISHED-TTL:PT1H
BEGIN:VTIMEZONE
TZID:America/New_York
BEGIN:DAYLIGHT
TZOFFSETFROM:-0500
TZOFFSETTO:-0400
TZNAME:EDT
DTSTART:20230312T070000
END:DAYLIGHT
BEGIN:STANDARD
TZOFFSETFROM:-0400
TZOFFSETTO:-0500
TZNAME:EST
DTSTART:20231105T060000
END:STANDARD
BEGIN:DAYLIGHT
TZOFFSETFROM:-0500
TZOFFSETTO:-0400
TZNAME:EDT
DTSTART:20240310T070000
END:DAYLIGHT
BEGIN:STANDARD
TZOFFSETFROM:-0400
TZOFFSETTO:-0500
TZNAME:EST
DTSTART:20241103T060000
END:STANDARD
BEGIN:DAYLIGHT
TZOFFSETFROM:-0500
TZOFFSETTO:-0400
TZNAME:EDT
DTSTART:20250309T070000
END:DAYLIGHT
BEGIN:STANDARD
TZOFFSETFROM:-0400
TZOFFSETTO:-0500
TZNAME:EST
DTSTART:20251102T060000
END:STANDARD
END:VTIMEZONE
BEGIN:VEVENT
DTSTART;TZID=America/New_York:20240628T084500
DTEND;TZID=America/New_York:20240628T150000
DTSTAMP:20260422T073019
CREATED:20240118T182124Z
LAST-MODIFIED:20240118T182124Z
UID:10003880-1719564300-1719586800@www.hitchcockcenter.org
SUMMARY:Nature Summer Camp: Micro World
DESCRIPTION:Our Little Micro World \nEntering grades 1 – 6\nMondays – Fridays\, 8:45 am – 3 pm\nSession 1: June 24 – June 28 (one week) \nGet ready to get very tiny this week as we explore all things small. Who are the creatures that can fit in your hand\, or on a penny? We’ll investigate teeny tiny ants\, pillbugs\, worms\, and other invertebrates that have important jobs in nature. We’ll pay attention to the tiniest flowers and plants and discover their importance to their ecosystems. Through live animal visits\, exploration\, hikes\, and art projects\, campers will investigate the tiny things in life! There will be no field trips this week.
URL:https://www.hitchcockcenter.org/event/nature-summer-camp-micro-world/2024-06-28/
CATEGORIES:Grades 1-6
END:VEVENT
BEGIN:VEVENT
DTSTART;TZID=America/New_York:20240627T084500
DTEND;TZID=America/New_York:20240627T150000
DTSTAMP:20260422T073019
CREATED:20240118T182124Z
LAST-MODIFIED:20240118T182124Z
UID:10003879-1719477900-1719500400@www.hitchcockcenter.org
SUMMARY:Nature Summer Camp: Micro World
DESCRIPTION:Our Little Micro World \nEntering grades 1 – 6\nMondays – Fridays\, 8:45 am – 3 pm\nSession 1: June 24 – June 28 (one week) \nGet ready to get very tiny this week as we explore all things small. Who are the creatures that can fit in your hand\, or on a penny? We’ll investigate teeny tiny ants\, pillbugs\, worms\, and other invertebrates that have important jobs in nature. We’ll pay attention to the tiniest flowers and plants and discover their importance to their ecosystems. Through live animal visits\, exploration\, hikes\, and art projects\, campers will investigate the tiny things in life! There will be no field trips this week.
URL:https://www.hitchcockcenter.org/event/nature-summer-camp-micro-world/2024-06-27/
CATEGORIES:Grades 1-6
END:VEVENT
BEGIN:VEVENT
DTSTART;TZID=America/New_York:20240626T084500
DTEND;TZID=America/New_York:20240626T150000
DTSTAMP:20260422T073019
CREATED:20240118T182124Z
LAST-MODIFIED:20240118T182124Z
UID:10003878-1719391500-1719414000@www.hitchcockcenter.org
SUMMARY:Nature Summer Camp: Micro World
DESCRIPTION:Our Little Micro World \nEntering grades 1 – 6\nMondays – Fridays\, 8:45 am – 3 pm\nSession 1: June 24 – June 28 (one week) \nGet ready to get very tiny this week as we explore all things small. Who are the creatures that can fit in your hand\, or on a penny? We’ll investigate teeny tiny ants\, pillbugs\, worms\, and other invertebrates that have important jobs in nature. We’ll pay attention to the tiniest flowers and plants and discover their importance to their ecosystems. Through live animal visits\, exploration\, hikes\, and art projects\, campers will investigate the tiny things in life! There will be no field trips this week.
URL:https://www.hitchcockcenter.org/event/nature-summer-camp-micro-world/2024-06-26/
CATEGORIES:Grades 1-6
END:VEVENT
BEGIN:VEVENT
DTSTART;TZID=America/New_York:20240625T084500
DTEND;TZID=America/New_York:20240625T150000
DTSTAMP:20260422T073019
CREATED:20240118T182124Z
LAST-MODIFIED:20240118T182124Z
UID:10003877-1719305100-1719327600@www.hitchcockcenter.org
SUMMARY:Nature Summer Camp: Micro World
DESCRIPTION:Our Little Micro World \nEntering grades 1 – 6\nMondays – Fridays\, 8:45 am – 3 pm\nSession 1: June 24 – June 28 (one week) \nGet ready to get very tiny this week as we explore all things small. Who are the creatures that can fit in your hand\, or on a penny? We’ll investigate teeny tiny ants\, pillbugs\, worms\, and other invertebrates that have important jobs in nature. We’ll pay attention to the tiniest flowers and plants and discover their importance to their ecosystems. Through live animal visits\, exploration\, hikes\, and art projects\, campers will investigate the tiny things in life! There will be no field trips this week.
URL:https://www.hitchcockcenter.org/event/nature-summer-camp-micro-world/2024-06-25/
CATEGORIES:Grades 1-6
END:VEVENT
BEGIN:VEVENT
DTSTART;TZID=America/New_York:20240624T084500
DTEND;TZID=America/New_York:20240624T150000
DTSTAMP:20260422T073019
CREATED:20240118T182124Z
LAST-MODIFIED:20240118T182124Z
UID:10003876-1719218700-1719241200@www.hitchcockcenter.org
SUMMARY:Nature Summer Camp: Micro World
DESCRIPTION:Our Little Micro World \nEntering grades 1 – 6\nMondays – Fridays\, 8:45 am – 3 pm\nSession 1: June 24 – June 28 (one week) \nGet ready to get very tiny this week as we explore all things small. Who are the creatures that can fit in your hand\, or on a penny? We’ll investigate teeny tiny ants\, pillbugs\, worms\, and other invertebrates that have important jobs in nature. We’ll pay attention to the tiniest flowers and plants and discover their importance to their ecosystems. Through live animal visits\, exploration\, hikes\, and art projects\, campers will investigate the tiny things in life! There will be no field trips this week.
URL:https://www.hitchcockcenter.org/event/nature-summer-camp-micro-world/2024-06-24/
CATEGORIES:Grades 1-6
END:VEVENT
END:VCALENDAR