BEGIN:VCALENDAR
VERSION:2.0
PRODID:-//Hitchcock Center for the Environment - ECPv6.15.18//NONSGML v1.0//EN
CALSCALE:GREGORIAN
METHOD:PUBLISH
X-WR-CALNAME:Hitchcock Center for the Environment
X-ORIGINAL-URL:https://www.hitchcockcenter.org
X-WR-CALDESC:Events for Hitchcock Center for the Environment
REFRESH-INTERVAL;VALUE=DURATION:PT1H
X-Robots-Tag:noindex
X-PUBLISHED-TTL:PT1H
BEGIN:VTIMEZONE
TZID:America/New_York
BEGIN:DAYLIGHT
TZOFFSETFROM:-0500
TZOFFSETTO:-0400
TZNAME:EDT
DTSTART:20220313T070000
END:DAYLIGHT
BEGIN:STANDARD
TZOFFSETFROM:-0400
TZOFFSETTO:-0500
TZNAME:EST
DTSTART:20221106T060000
END:STANDARD
BEGIN:DAYLIGHT
TZOFFSETFROM:-0500
TZOFFSETTO:-0400
TZNAME:EDT
DTSTART:20230312T070000
END:DAYLIGHT
BEGIN:STANDARD
TZOFFSETFROM:-0400
TZOFFSETTO:-0500
TZNAME:EST
DTSTART:20231105T060000
END:STANDARD
BEGIN:DAYLIGHT
TZOFFSETFROM:-0500
TZOFFSETTO:-0400
TZNAME:EDT
DTSTART:20240310T070000
END:DAYLIGHT
BEGIN:STANDARD
TZOFFSETFROM:-0400
TZOFFSETTO:-0500
TZNAME:EST
DTSTART:20241103T060000
END:STANDARD
END:VTIMEZONE
BEGIN:VEVENT
DTSTART;VALUE=DATE:20231102
DTEND;VALUE=DATE:20231103
DTSTAMP:20260419T221828
CREATED:20230628T181909Z
LAST-MODIFIED:20230628T181909Z
UID:10003533-1698883200-1698969599@www.hitchcockcenter.org
SUMMARY:Day 1: Youth Climate Summit 2023
DESCRIPTION:learn more and sign up: https://sites.google.com/view/ycanupcomingevents/home
URL:https://www.hitchcockcenter.org/event/day-1-youth-climate-summit-2023/
CATEGORIES:Teen Programs
ATTACH;FMTTYPE=image/jpeg:https://www.hitchcockcenter.org/wp-content/uploads/2023/06/Save-the-Date-202341-copy-1.jpg
END:VEVENT
BEGIN:VEVENT
DTSTART;VALUE=DATE:20231106
DTEND;VALUE=DATE:20231107
DTSTAMP:20260419T221828
CREATED:20230628T181951Z
LAST-MODIFIED:20230628T181951Z
UID:10003534-1699228800-1699315199@www.hitchcockcenter.org
SUMMARY:Day 2: Youth Climate Summit 2023
DESCRIPTION:learn more and sign up: https://sites.google.com/view/ycanupcomingevents/home
URL:https://www.hitchcockcenter.org/event/day-2-youth-climate-summit-2023/
CATEGORIES:Teen Programs
ATTACH;FMTTYPE=image/jpeg:https://www.hitchcockcenter.org/wp-content/uploads/2023/06/Save-the-Date-202341-copy-1.jpg
END:VEVENT
END:VCALENDAR