BEGIN:VCALENDAR
VERSION:2.0
PRODID:-//Hitchcock Center for the Environment - ECPv6.15.18//NONSGML v1.0//EN
CALSCALE:GREGORIAN
METHOD:PUBLISH
X-WR-CALNAME:Hitchcock Center for the Environment
X-ORIGINAL-URL:https://www.hitchcockcenter.org
X-WR-CALDESC:Events for Hitchcock Center for the Environment
REFRESH-INTERVAL;VALUE=DURATION:PT1H
X-Robots-Tag:noindex
X-PUBLISHED-TTL:PT1H
BEGIN:VTIMEZONE
TZID:America/New_York
BEGIN:DAYLIGHT
TZOFFSETFROM:-0500
TZOFFSETTO:-0400
TZNAME:EDT
DTSTART:20220313T070000
END:DAYLIGHT
BEGIN:STANDARD
TZOFFSETFROM:-0400
TZOFFSETTO:-0500
TZNAME:EST
DTSTART:20221106T060000
END:STANDARD
BEGIN:DAYLIGHT
TZOFFSETFROM:-0500
TZOFFSETTO:-0400
TZNAME:EDT
DTSTART:20230312T070000
END:DAYLIGHT
BEGIN:STANDARD
TZOFFSETFROM:-0400
TZOFFSETTO:-0500
TZNAME:EST
DTSTART:20231105T060000
END:STANDARD
BEGIN:DAYLIGHT
TZOFFSETFROM:-0500
TZOFFSETTO:-0400
TZNAME:EDT
DTSTART:20240310T070000
END:DAYLIGHT
BEGIN:STANDARD
TZOFFSETFROM:-0400
TZOFFSETTO:-0500
TZNAME:EST
DTSTART:20241103T060000
END:STANDARD
END:VTIMEZONE
BEGIN:VEVENT
DTSTART;TZID=America/New_York:20231209T110000
DTEND;TZID=America/New_York:20231209T150000
DTSTAMP:20260419T211206
CREATED:20230531T193659Z
LAST-MODIFIED:20230531T193659Z
UID:10003421-1702119600-1702134000@www.hitchcockcenter.org
SUMMARY:Storytelling Saturday
DESCRIPTION:Storytelling Saturday\nWith Monya Relles\nSaturday\, December 9\nSuggested ages 11-14\nSpecial time: 11am to 3pm\nSuggested Donation: $10-$40 per teen \nCome visit for a Saturday and play a role playing game (RPG) like Dungeons and Dragons. We’ll build a character and go on a group adventure with Hitchcock Educator Monya as our guide. It might be silly or serious but either way it will be loads of fun. \nAdults are welcome at the center during this time but not required to stay for programming. This program will be inside for the duration and masks are welcome but not required.
URL:https://www.hitchcockcenter.org/event/storytelling-saturday/
CATEGORIES:Teen Programs
END:VEVENT
END:VCALENDAR