BEGIN:VCALENDAR
VERSION:2.0
PRODID:-//Hitchcock Center for the Environment - ECPv6.15.18//NONSGML v1.0//EN
CALSCALE:GREGORIAN
METHOD:PUBLISH
X-ORIGINAL-URL:https://www.hitchcockcenter.org
X-WR-CALDESC:Events for Hitchcock Center for the Environment
REFRESH-INTERVAL;VALUE=DURATION:PT1H
X-Robots-Tag:noindex
X-PUBLISHED-TTL:PT1H
BEGIN:VTIMEZONE
TZID:America/New_York
BEGIN:DAYLIGHT
TZOFFSETFROM:-0500
TZOFFSETTO:-0400
TZNAME:EDT
DTSTART:20210314T070000
END:DAYLIGHT
BEGIN:STANDARD
TZOFFSETFROM:-0400
TZOFFSETTO:-0500
TZNAME:EST
DTSTART:20211107T060000
END:STANDARD
BEGIN:DAYLIGHT
TZOFFSETFROM:-0500
TZOFFSETTO:-0400
TZNAME:EDT
DTSTART:20220313T070000
END:DAYLIGHT
BEGIN:STANDARD
TZOFFSETFROM:-0400
TZOFFSETTO:-0500
TZNAME:EST
DTSTART:20221106T060000
END:STANDARD
BEGIN:DAYLIGHT
TZOFFSETFROM:-0500
TZOFFSETTO:-0400
TZNAME:EDT
DTSTART:20230312T070000
END:DAYLIGHT
BEGIN:STANDARD
TZOFFSETFROM:-0400
TZOFFSETTO:-0500
TZNAME:EST
DTSTART:20231105T060000
END:STANDARD
END:VTIMEZONE
BEGIN:VEVENT
DTSTART;TZID=America/New_York:20221109T180000
DTEND;TZID=America/New_York:20221109T200000
DTSTAMP:20260420T163015
CREATED:20221103T194630Z
LAST-MODIFIED:20221103T194630Z
UID:10003052-1668016800-1668024000@www.hitchcockcenter.org
SUMMARY:Hitchcock Climate Action Series: Fireside Chat
DESCRIPTION:Season 1: Coming Together in the Face of Climate Change: Laying the Groundwork by Building Hope\, Practicing Action\, and Improving Communication \nPlease join us as we launch a new program series at the intersection of climate change\, sustainability\, and environmental justice.  Bringing partners and community members  to address critical community issues through  fireside chats\, practical workshops\, and deliberative forums.   All programs will be available for a Sliding Scale $15- $50 or Suggested Donation.  \nFireside Chat :  \nBuilding Hope : Telling the Stories of Creative Problem Solving \nNovember 9th – 6pm – 8pm  \nREGISTER HERE
URL:https://www.hitchcockcenter.org/event/hitchcock-climate-action-series-fireside-chat/
LOCATION:Hitchcock Center for the Environment\, 845 West Street\, Amherst\, MA\, 01002
CATEGORIES:Adult Programs
END:VEVENT
BEGIN:VEVENT
DTSTART;TZID=America/New_York:20221117T180000
DTEND;TZID=America/New_York:20221117T200000
DTSTAMP:20260420T163015
CREATED:20221103T191441Z
LAST-MODIFIED:20221103T192515Z
UID:10003048-1668708000-1668715200@www.hitchcockcenter.org
SUMMARY:Hitchcock Climate Action Series: Workshop
DESCRIPTION:Hitchcock Climate Action Series:\nWorkshop\nSeason 1: Coming Together in the Face of Climate Change: Laying the Groundwork by Building Hope\, Practicing Action\, and Improving Communication \nPlease join us as we launch a new program series at the intersection of climate change\, sustainability\, and environmental justice.  Bringing partners and community members  to address critical community issues through  fireside chats\, practical workshops\, and deliberative forums.   All programs will be available for a Sliding Scale $15- $50 or Suggested Donation.  \nThursday\, November 17\, 6pm – 8pm – Practicing Creative Problem Solving through Design Challenges – Rain Water Capture Challenge\, Come play\, create and work together just as our students do! \nREGISTER HERE
URL:https://www.hitchcockcenter.org/event/hitchcock-climate-action-series-workshop/
LOCATION:Hitchcock Center for the Environment\, 845 West Street\, Amherst\, MA\, 01002
CATEGORIES:Adult Programs
END:VEVENT
END:VCALENDAR