BEGIN:VCALENDAR
VERSION:2.0
PRODID:-//Hitchcock Center for the Environment - ECPv6.15.18//NONSGML v1.0//EN
CALSCALE:GREGORIAN
METHOD:PUBLISH
X-ORIGINAL-URL:https://www.hitchcockcenter.org
X-WR-CALDESC:Events for Hitchcock Center for the Environment
REFRESH-INTERVAL;VALUE=DURATION:PT1H
X-Robots-Tag:noindex
X-PUBLISHED-TTL:PT1H
BEGIN:VTIMEZONE
TZID:America/New_York
BEGIN:DAYLIGHT
TZOFFSETFROM:-0500
TZOFFSETTO:-0400
TZNAME:EDT
DTSTART:20210314T070000
END:DAYLIGHT
BEGIN:STANDARD
TZOFFSETFROM:-0400
TZOFFSETTO:-0500
TZNAME:EST
DTSTART:20211107T060000
END:STANDARD
BEGIN:DAYLIGHT
TZOFFSETFROM:-0500
TZOFFSETTO:-0400
TZNAME:EDT
DTSTART:20220313T070000
END:DAYLIGHT
BEGIN:STANDARD
TZOFFSETFROM:-0400
TZOFFSETTO:-0500
TZNAME:EST
DTSTART:20221106T060000
END:STANDARD
BEGIN:DAYLIGHT
TZOFFSETFROM:-0500
TZOFFSETTO:-0400
TZNAME:EDT
DTSTART:20230312T070000
END:DAYLIGHT
BEGIN:STANDARD
TZOFFSETFROM:-0400
TZOFFSETTO:-0500
TZNAME:EST
DTSTART:20231105T060000
END:STANDARD
END:VTIMEZONE
BEGIN:VEVENT
DTSTART;TZID=America/New_York:20221208T173000
DTEND;TZID=America/New_York:20221208T200000
DTSTAMP:20260420T152844
CREATED:20221103T192429Z
LAST-MODIFIED:20221103T192429Z
UID:10003049-1670520600-1670529600@www.hitchcockcenter.org
SUMMARY:Hitchcock Climate Action Series: Community Forum
DESCRIPTION:Hitchcock Climate Action Series\nCommunity Forum:\nImproving Communication: Deliberative Dialogue \nThursday\, December 8\,  5:30pm Arrival & Snacks  \n6pm – 8pm Forum – Net Zero: How Do We Get There? \nJoin in a deliberative dialogue about different ways in which we can get to a “net zero carbon” future. Deliberation matters because democracy depends on community members coming together and making well-thought-out decisions on what we can do together to solve tough problems like climate change. A pre-reading will frame the issue\, lay out several approaches based on values people care about\, describe benefits and trade-offs associated with each choice\, and pose some reflective questions. In small groups\, participants will have an opportunity to share their personal perspectives and listen to others\, weigh options and wrestle with trade-offs\, and identify areas of common ground. A moderator will help to set ground rules\, ensure that all perspectives are heard\, and identify areas of agreement and uncertainty. We hope participants will keep an open mind\, listen to one another\, disagree with curiosity\, and focus on learning. \nREGISTER HERE
URL:https://www.hitchcockcenter.org/event/hitchcock-climate-action-series-community-forum/
LOCATION:Hitchcock Center for the Environment\, 845 West Street\, Amherst\, MA\, 01002
CATEGORIES:Adult Programs
END:VEVENT
END:VCALENDAR