BEGIN:VCALENDAR
VERSION:2.0
PRODID:-//Hitchcock Center for the Environment - ECPv6.15.18//NONSGML v1.0//EN
CALSCALE:GREGORIAN
METHOD:PUBLISH
X-ORIGINAL-URL:https://www.hitchcockcenter.org
X-WR-CALDESC:Events for Hitchcock Center for the Environment
REFRESH-INTERVAL;VALUE=DURATION:PT1H
X-Robots-Tag:noindex
X-PUBLISHED-TTL:PT1H
BEGIN:VTIMEZONE
TZID:America/New_York
BEGIN:DAYLIGHT
TZOFFSETFROM:-0500
TZOFFSETTO:-0400
TZNAME:EDT
DTSTART:20140309T070000
END:DAYLIGHT
BEGIN:STANDARD
TZOFFSETFROM:-0400
TZOFFSETTO:-0500
TZNAME:EST
DTSTART:20141102T060000
END:STANDARD
BEGIN:DAYLIGHT
TZOFFSETFROM:-0500
TZOFFSETTO:-0400
TZNAME:EDT
DTSTART:20150308T070000
END:DAYLIGHT
BEGIN:STANDARD
TZOFFSETFROM:-0400
TZOFFSETTO:-0500
TZNAME:EST
DTSTART:20151101T060000
END:STANDARD
BEGIN:DAYLIGHT
TZOFFSETFROM:-0500
TZOFFSETTO:-0400
TZNAME:EDT
DTSTART:20160313T070000
END:DAYLIGHT
BEGIN:STANDARD
TZOFFSETFROM:-0400
TZOFFSETTO:-0500
TZNAME:EST
DTSTART:20161106T060000
END:STANDARD
END:VTIMEZONE
BEGIN:VEVENT
DTSTART;TZID=America/New_York:20150706T083000
DTEND;TZID=America/New_York:20150717T150000
DTSTAMP:20260424T071805
CREATED:20150323T184501Z
LAST-MODIFIED:20150430T182815Z
UID:10000018-1436171400-1437145200@www.hitchcockcenter.org
SUMMARY:Nature Summer Camp: This Land is Our Land
DESCRIPTION:*Session full for both age groups\, wait list only.*\nAges 6-7 & 8-10 \nIn this session\, campers will connect with the land we call home. From farmland to forest\, mountains to meadows\, we’ll discover the ecosystems all around us and the interconnectedness of the animals that live here. We’ll learn about our rich farm soil\, our fascinating geological stories and the serene wilderness of the Quabbin Reservoir by traveling on field trips\, telling stories\, playing nature-themed games and making crafts. From enjoying the view from a mountaintop to tasting fresh local food\, we’ll experience the finest natural features of the Pioneer Valley. Learn more…
URL:https://www.hitchcockcenter.org/event/nature-summer-camp-this-land-is-our-land/
LOCATION:Hitchcock Center for the Environment\, 845 West Street\, Amherst\, MA\, 01002
END:VEVENT
BEGIN:VEVENT
DTSTART;TZID=America/New_York:20150629T083000
DTEND;TZID=America/New_York:20150703T150000
DTSTAMP:20260424T071805
CREATED:20150323T184111Z
LAST-MODIFIED:20150430T182836Z
UID:10000017-1435566600-1435935600@www.hitchcockcenter.org
SUMMARY:Nature Summer Camp: Our Little Micro World
DESCRIPTION:*Session full for both age groups\, wait list only.*\nAges 6-7 & 8-10 \nGet ready to get very tiny this week as we explore all things small. Who are the creatures that can fit in your hand\, or on a penny? We’ll investigate teeny tiny ants\, pillbugs\, worms and other invertebrates who have important jobs in nature. We’ll pay attention to the tiniest flowers and plants and discover how important they are to their ecosystems. Through field trips\, live animal exploration\, hikes and art projects\, campers will investigate the tiny things in life! Learn more…
URL:https://www.hitchcockcenter.org/event/nature-summer-camp-our-little-micro-world/
LOCATION:Hitchcock Center for the Environment\, 845 West Street\, Amherst\, MA\, 01002
END:VEVENT
BEGIN:VEVENT
DTSTART;TZID=America/New_York:20150627T093000
DTEND;TZID=America/New_York:20150627T120000
DTSTAMP:20260424T071805
CREATED:20150323T151440Z
LAST-MODIFIED:20150326T151354Z
UID:10000016-1435397400-1435406400@www.hitchcockcenter.org
SUMMARY:Explore the Hitchcock Center’s New Grounds
DESCRIPTION:with Ted Watt \nJoin Ted for a couple hours exploring the varied landscape of the northeast Hampshire College campus. Vernal pools\, a diverse woodland\, farm roads and trails\, and a farm pond will all be included. You’ll get an introduction to the Hitchcock Center’s new home and start learning about the natural history of the site.
URL:https://www.hitchcockcenter.org/event/explore-the-hitchcock-centers-new-grounds/
END:VEVENT
BEGIN:VEVENT
DTSTART;TZID=America/New_York:20150616T010000
DTEND;TZID=America/New_York:20150616T120000
DTSTAMP:20260424T071805
CREATED:20150610T145307Z
LAST-MODIFIED:20150610T145858Z
UID:10000085-1434416400-1434456000@www.hitchcockcenter.org
SUMMARY:Fall Children\, Youth and Family Program Registration Opens
DESCRIPTION:New this year\, registration opens online Tuesday\, June 16th for all Fall Children\, Youth and Family Programs. Access the program registration page HERE or by visiting any program page.\n\nYou may log into the system at any time to set up an account in order to register\, but programs will not become available until 1AM on June 16th. Phone calls and drop-in registration are available\, but we direct all who can to register online in order to reduce wait times.
URL:https://www.hitchcockcenter.org/event/fall-children-youth-and-family-program-registration-opens/
LOCATION:Hitchcock Center for the Environment\, 845 West Street\, Amherst\, MA\, 01002
END:VEVENT
BEGIN:VEVENT
DTSTART;TZID=America/New_York:20150530T080000
DTEND;TZID=America/New_York:20150530T140000
DTSTAMP:20260424T071805
CREATED:20150323T151326Z
LAST-MODIFIED:20150529T142048Z
UID:10000015-1432972800-1432994400@www.hitchcockcenter.org
SUMMARY:Celebrate Birds: Valley Family Bird Festival
DESCRIPTION:8-10am at the Fort River Wildlife Sanctuary on Moody Bridge Road in Hadley\n10am-2pm at the Mass Audubon’s Arcadia Sanctuary at 127 Combs Road in Easthampton \nJoin us for a fun day of activities and demonstrations about the birds of the Connecticut River Valley. A variety of local organizations and experts will be on hand to answer your bird questions. We’ll have live bird and bird banding demonstrations and there will be bird walks throughout the event. Learn more about this event.
URL:https://www.hitchcockcenter.org/event/celebrate-birds-valley-family-bird-festival/
END:VEVENT
BEGIN:VEVENT
DTSTART;TZID=America/New_York:20150525T090000
DTEND;TZID=America/New_York:20150525T110000
DTSTAMP:20260424T071805
CREATED:20150323T151158Z
LAST-MODIFIED:20150326T151459Z
UID:10000014-1432544400-1432551600@www.hitchcockcenter.org
SUMMARY:Morning Nature Walk for Seniors
DESCRIPTION:with John Green \nAt the new Fort River Wildlife Sanctuary on Moody Bridge Road in Hadley\nJoin John at this wonderful time of year to explore this beautiful new accessible trail of the USFWS Silvio O. Conte National Fish and Wildlife Refuge system. It weaves through many lovely habitats and is sure to offer some great spring plant and bird sightings. FREE\, but space is limited and registration required.
URL:https://www.hitchcockcenter.org/event/morning-nature-walk-for-seniors/
END:VEVENT
BEGIN:VEVENT
DTSTART;TZID=America/New_York:20150520T100000
DTEND;TZID=America/New_York:20150520T113000
DTSTAMP:20260424T071805
CREATED:20150323T150944Z
LAST-MODIFIED:20150326T151528Z
UID:10000013-1432116000-1432121400@www.hitchcockcenter.org
SUMMARY:Tour of Amherst Wastewater Treatment Facility
DESCRIPTION:We think it is good to know where our water comes from and where it goes. We just turn on our faucets and flush our toilets but what’s the infrastructure that makes that possible. Come tour the facility that receives Amherst’s wastewater and see what happens there. At this special facility tiny microorganisms normally present in wastewater are given optimum conditions to feed on biodegradable matter. As the microorganisms grow\, they digest large amounts of biodegradable matter and convert some of it into carbon dioxide and water\, two relatively harmless byproducts. The rest of the biodegradable matter consumed by the microorganisms remains in their cell bodies\, causing them to grow even more and are then removed from the wastewater together with much of the waste materials. FREE but space is limited\, please call to register.
URL:https://www.hitchcockcenter.org/event/tour-of-amherst-wastewater-treatment-facility/
END:VEVENT
BEGIN:VEVENT
DTSTART;TZID=America/New_York:20150508T070000
DTEND;TZID=America/New_York:20150508T090000
DTSTAMP:20260424T071805
CREATED:20150323T144841Z
LAST-MODIFIED:20150326T151615Z
UID:10000010-1431068400-1431075600@www.hitchcockcenter.org
SUMMARY:Biothon Bird Walks
DESCRIPTION:with Scott Surner at 7AM on Sunday\, May 3rd in Hadley OR \nwith John Green at 7AM on Friday\, May 8th in Belchertown \nJoin two of our most popular birders and naturalists for new one-time outings in support of the Hitchcock Center’s Biothon! Scott Surner’s birding classes are amongst our most popular courses each year; this year Scott’s course filled up in just 20 minutes after opening for registration! During John Green’s sold-out field walks\, he shares his years of knowledge with adults of all ages to explore life around us and deepen our powers of observation. As a member of Scott’s or John’s “Biothon team\,” your outing will focus on spotting and documenting as many different species of birds as possible within a 3-hour period. And\, help support the Biothon by collecting pledges in support of your outing\, and receive a free custom-designed Biothon 2015 t-shirt when you reach $100 in pledges! Registration required.
URL:https://www.hitchcockcenter.org/event/biothon-bird-walks-2/
END:VEVENT
BEGIN:VEVENT
DTSTART;TZID=America/New_York:20150506T153000
DTEND;TZID=America/New_York:20150506T173000
DTSTAMP:20260424T071805
CREATED:20150326T144837Z
LAST-MODIFIED:20150326T193433Z
UID:10000023-1430926200-1430933400@www.hitchcockcenter.org
SUMMARY:Tour the Orchard Arboretum at Applewood
DESCRIPTION:with Dan Ziomek\, Nursery and Garden Manager at Hadley Garden Center &\nAnne Cann\, Chair Orchard Arboretum Committee at Applewood \nApplewood has been nurturing a diverse planting of both native and non-native trees on a 2 acre parcel of land south of the residences since 1994. We’ll identify a number of trees and discuss their ecology and adaptations. Program is accessible. If driving to this program please park on the south side of Spencer Drive.
URL:https://www.hitchcockcenter.org/event/tour-the-orchard-arboretum-at-applewood/
END:VEVENT
BEGIN:VEVENT
DTSTART;TZID=America/New_York:20150503T100000
DTEND;TZID=America/New_York:20150503T140000
DTSTAMP:20260424T071805
CREATED:20150323T145400Z
LAST-MODIFIED:20150326T151719Z
UID:10000012-1430647200-1430661600@www.hitchcockcenter.org
SUMMARY:Spring Wildflowers of the Valley at Mount Toby
DESCRIPTION:with Nancy Goodman \nCome and explore the wonders and beauties of our native wildflowers as we spend the day learning how to identify them in the field. Please bring lunch\, water\, a hand lens & a copy of Newcomb’s wildflower book if you own one. Members $18/Non-members $22 Space is limited\, registration required.
URL:https://www.hitchcockcenter.org/event/spring-wildflowers-of-the-valley-at-mount-toby/
END:VEVENT
BEGIN:VEVENT
DTSTART;TZID=America/New_York:20150503T070000
DTEND;TZID=America/New_York:20150503T090000
DTSTAMP:20260424T071805
CREATED:20150323T144717Z
LAST-MODIFIED:20150326T151752Z
UID:10000009-1430636400-1430643600@www.hitchcockcenter.org
SUMMARY:Biothon Bird Walks
DESCRIPTION:with Scott Surner at 7AM on Sunday\, May 3rd in Hadley OR\nwith John Green at 7AM on Friday\, May 8th in Belchertown \nJoin two of our most popular birders and naturalists for new one-time outings in support of the Hitchcock Center’s Biothon! Scott Surner’s birding classes are amongst our most popular courses each year; this year Scott’s course filled up in just 20 minutes after opening for registration! During John Green’s sold-out field walks\, he shares his years of knowledge with adults of all ages to explore life around us and deepen our powers of observation. As a member of Scott’s or John’s “Biothon team\,” your outing will focus on spotting and documenting as many different species of birds as possible within a 3-hour period. And\, help support the Biothon by collecting pledges in support of your outing\, and receive a free custom-designed Biothon 2015 t-shirt when you reach $100 in pledges! Registration required.
URL:https://www.hitchcockcenter.org/event/biothon-bird-walks/
END:VEVENT
BEGIN:VEVENT
DTSTART;TZID=America/New_York:20150502T070000
DTEND;TZID=America/New_York:20150502T100000
DTSTAMP:20260424T071805
CREATED:20150323T145301Z
LAST-MODIFIED:20150326T151825Z
UID:10000011-1430550000-1430560800@www.hitchcockcenter.org
SUMMARY:Spring Bird Walk
DESCRIPTION:with John Green \nJoin naturalist John Green on a bird walk at the new Trustees of Reservations property at Mt. Warner. Spring Migration will just be getting started and John has a great ear so you are sure to hone your birding by ear skills. This program is cosponsored by The Trustees of Reservations.\nMembers $15/Non-members $20 Space is limited\, registration required.
URL:https://www.hitchcockcenter.org/event/spring-bird-walk/
END:VEVENT
BEGIN:VEVENT
DTSTART;TZID=America/New_York:20150425T140000
DTEND;TZID=America/New_York:20150425T160000
DTSTAMP:20260424T071805
CREATED:20150323T143224Z
LAST-MODIFIED:20150326T151921Z
UID:10000002-1429970400-1429977600@www.hitchcockcenter.org
SUMMARY:Vernal Pool/ Wetland Exploration at Our New Site
DESCRIPTION:with Charley Eiseman \nAs you may have heard the Hitchcock Center is moving down the road to Hampshire College. Near the site of our new building is a beautiful vernal pool/wetland that we intend to incorporate as part of our network of trails. Join expert Charley Eiseman to explore this new spot and inventory and discover what’s there at the peak of amphibian spring activity.\nSpace is limited\, please call to register.
URL:https://www.hitchcockcenter.org/event/vernal-pool-wetland-exploration-at-our-new-site/
END:VEVENT
BEGIN:VEVENT
DTSTART;TZID=America/New_York:20150425T100000
DTEND;TZID=America/New_York:20150425T160000
DTSTAMP:20260424T071805
CREATED:20150323T143401Z
LAST-MODIFIED:20150421T211251Z
UID:10000003-1429956000-1429977600@www.hitchcockcenter.org
SUMMARY:Sustainability Festival on the Amherst Town Common
DESCRIPTION:Come learn about some of the cutting edge sustainable ideas you and your family can incorporate into everyday practices\, enjoy performances\, and learn how to participate actively in a more sustainable lifestyle. Stop by the Hitchcock Center booth to learn about building practices and systems the Center will be using in it’s new Living Building Challenge building.
URL:https://www.hitchcockcenter.org/event/sustainability-festival-on-the-amherst-town-common/
END:VEVENT
BEGIN:VEVENT
DTSTART;TZID=America/New_York:20150414T190000
DTEND;TZID=America/New_York:20150414T210000
DTSTAMP:20260424T071805
CREATED:20150323T143524Z
LAST-MODIFIED:20150326T152017Z
UID:10000004-1429038000-1429045200@www.hitchcockcenter.org
SUMMARY:All About Bluebirds - and More
DESCRIPTION:with John Rogers\nTuesday\, April 14\, 7pm \nJohn has maintained a trail of bluebird nest boxes in central NY north of Syracuse for 4 decades and has fledged over 13\,000 bluebirds in boxes he personally monitors. He has done programs and workshops for hundreds of groups in 11 states and 2 Canadian provinces. John was a co-founder of the New York State Bluebird Society and has received numerous awards for his bluebird conservation work. This presentation includes the life history of the Eastern Bluebird\, other birds that nest in bluebird boxes\, nest box management\, and more. The focus definitely is on bluebirds\, but John also shares his passion for the natural world in hopes the audience will take in some broader and deeper messages about nature – and life. The program has variety\, feeling\, and is thought provoking. Sprinkled throughout are just a few wildflowers\, butterflies\, and quotes by some of the great naturalists of the past. With beautiful photographs\, sounds\, and a sincere\, enthusiastic presentation style\, this program is of interest to anyone who appreciates nature. Donations and registration appreciated.
URL:https://www.hitchcockcenter.org/event/all-about-bluebirds-and-more/
LOCATION:Hitchcock Center for the Environment\, 845 West Street\, Amherst\, MA\, 01002
END:VEVENT
BEGIN:VEVENT
DTSTART;TZID=America/New_York:20150411T100000
DTEND;TZID=America/New_York:20150411T140000
DTSTAMP:20260424T071805
CREATED:20150323T143723Z
LAST-MODIFIED:20150326T152050Z
UID:10000007-1428746400-1428760800@www.hitchcockcenter.org
SUMMARY:What's That Tree? At Lawrence Swamp
DESCRIPTION:with Nancy Goodman \nFor nearly half the year\, bark provides the best clue to tree ID\, we will be keying out the trees to see what we can learn. Become familiar with the characteristic bark of different trees in different habitats and at different stages of growth. We will delve into the reasons why we find different trees and other plants and where even within the larger habitats we might find micro habitats with different trees & plants. This is an interesting spot as we will be walking along a dry bike path but we are actually going thru a swamp in many places. We also have some dryer areas which will make for an interesting mix of trees in different habitats. Bring binoculars\, water\, warm clothes in many layers as we will not be walking much if cold\, Rain gear\, lunch\, warm waterproof boots\, and the book Bark by Michael Wojtech if you have a copy. Members $18/Non-members $22 Space is limited\, registration required.
URL:https://www.hitchcockcenter.org/event/whats-that-tree-at-lawrence-swamp/
END:VEVENT
BEGIN:VEVENT
DTSTART;TZID=America/New_York:20150404T100000
DTEND;TZID=America/New_York:20150404T140000
DTSTAMP:20260424T071805
CREATED:20150323T144033Z
LAST-MODIFIED:20150326T152121Z
UID:10000008-1428141600-1428156000@www.hitchcockcenter.org
SUMMARY:Tour of Smith’s Bechtel Environmental Classroom
DESCRIPTION:Smith’s Bechtel Environmental Classroom designed by Coldham&Hartman is one of 5 buildings in the world that has successfully completed the Living Building Challenge\, a rigorous green-building standard overseen by the International Living Futures Institute. The Hitchcock Center is planning to build its own Living Building Challenge building\, come learn more about this revolutionary new way to design for sustainable living. Registration appreciated.
URL:https://www.hitchcockcenter.org/event/tour-of-smiths-bechtel-environmental-classroom/
END:VEVENT
BEGIN:VEVENT
DTSTART;TZID=America/New_York:20150401T190000
DTEND;TZID=America/New_York:20150401T203000
DTSTAMP:20260424T071805
CREATED:20150128T041016Z
LAST-MODIFIED:20150326T152145Z
UID:10000005-1427914800-1427920200@www.hitchcockcenter.org
SUMMARY:Make Your Home More Energy Efficient
DESCRIPTION:Adin Maynard is owner of HIS & HERS Energy Efficiency\, an energy efficiency consulting firm in Northampton. Adin works with builders\, architects and home-owners to examine specific energy challenges. He will welcome specific questions from audience members on home performance flaws in their home. Donations appreciated
URL:https://www.hitchcockcenter.org/event/make-your-home-more-energy-efficient/
LOCATION:Hitchcock Center for the Environment\, 845 West Street\, Amherst\, MA\, 01002
END:VEVENT
END:VCALENDAR